BEGIN:VCALENDAR
VERSION:2.0
PRODID:-//Journal Métro - ECPv6.0.13//NONSGML v1.0//EN
CALSCALE:GREGORIAN
METHOD:PUBLISH
X-WR-CALNAME:Journal Métro
X-ORIGINAL-URL:https://journalmetro.com
X-WR-CALDESC:évènements pour Journal Métro
REFRESH-INTERVAL;VALUE=DURATION:PT1H
X-Robots-Tag:noindex
X-PUBLISHED-TTL:PT1H
BEGIN:VTIMEZONE
TZID:America/Toronto
BEGIN:DAYLIGHT
TZOFFSETFROM:-0500
TZOFFSETTO:-0400
TZNAME:EDT
DTSTART:20220313T070000
END:DAYLIGHT
BEGIN:STANDARD
TZOFFSETFROM:-0400
TZOFFSETTO:-0500
TZNAME:EST
DTSTART:20221106T060000
END:STANDARD
BEGIN:DAYLIGHT
TZOFFSETFROM:-0500
TZOFFSETTO:-0400
TZNAME:EDT
DTSTART:20230312T070000
END:DAYLIGHT
BEGIN:STANDARD
TZOFFSETFROM:-0400
TZOFFSETTO:-0500
TZNAME:EST
DTSTART:20231105T060000
END:STANDARD
END:VTIMEZONE
BEGIN:VEVENT
DTSTART;TZID=America/Toronto:20221201T193000
DTEND;TZID=America/Toronto:20221201T210000
DTSTAMP:20231017T124407
CREATED:20221122T201853Z
LAST-MODIFIED:20221123T014839Z
UID:10008373-1669923000-1669928400@journalmetro.com
SUMMARY:Concert-bénéfice et ouverture des Choralies avec Natalie Choquette et ses filles
DESCRIPTION:Contenu Promotionnel \n\n\n\n\n\n\n\n\n\n\n\nDurant tout le mois de décembre\, le Site historique Marguerite-Bourgeoys vous propose de vivre pleinement la féérie des fêtes dans le Vieux-Montréal avec une foule d’activités pour toute la famille. \n\n\n\nLe 1er décembre à 19 h 30\, vivez une soirée inoubliable sur le thème « Un vrai Noël en famille ! » : un concert unique où mots et musiques seront offerts par Natalie Choquette et ses filles : Florence K\, Éléonore et Ariane Lagacé\, ainsi que sa petite-fille Alice.  \n\n\n\nChaleur humaine\, ambiance festive et belles voix seront au rendez-vous\, dans la magnifique Chapelle Notre-Dame-de-Bon-Secours.   \n\n\n\n\n\n\n\n\nBillets privilège : 175 $ (incluant un cocktail avec les artistes et un reçu d’impôt pour don de 100$.) \n\n\n\nBillets réguliers : 40 $.  \n\n\n\nEnfants : 20 $\n\n\n\n\n\nBillets\n\n\n\n\n\n\n\n\nPour en savoir davantage\, visitez margueritebourgeoys.org ou abonnez-vous aux médias sociaux! \n\n\n\n\n\n\n\nFacebook\n\nInstagram\n\nYouTube
URL:https://journalmetro.com/evenement/concert-benefice-et-ouverture-des-choralies-avec-natalie-choquette-et-ses-filles/
LOCATION:Chapelle Notre Dame de Bon Secours\, 400 rue Saint-Paul Est\, Montréal\, QC\, H2Y 1H4\, Canada
CATEGORIES:Promotionnel
ATTACH;FMTTYPE=image/jpeg:https://journalmetro.com/wp-content/uploads/2022/11/Noel_Famille_Vert_BR-1536x1536_1000x697.jpeg
END:VEVENT
BEGIN:VEVENT
DTSTART;TZID=America/Toronto:20230421T193000
DTEND;TZID=America/Toronto:20230421T213000
DTSTAMP:20231017T124407
CREATED:20230417T140849Z
LAST-MODIFIED:20230417T143204Z
UID:10017241-1682105400-1682112600@journalmetro.com
SUMMARY:Le clavecin français avec Christophe Gauthier
DESCRIPTION:Clavecin en concert est heureux de présenter son prochain récital qui propose une excursion dans l’univers enchanté du clavecin français : danses bien troussées\, nobles\, rêveuses ou coquines et portraits aussi variés qu’évocateurs renaissent sous les doigts du claveciniste québécois Christophe Gauthier. Avec finesse et intelligence\, il fait revivre la grande richesse des compositions de musiciens français du XVIIe et XVIIIe siècles. \n\n\n\nProgramme \n\n\n\nJean-Baptiste Lully (1632-1687) \n\n\n\nPassacaille extraite de la tragédie en musique Armide (1686)\, \n\n\n\ntranscrite par Jean-Henri d’Anglebert (Pièces de clavecin\, 1689) \n\n\n\nAntoine Forqueray (1672 – 1744) \n\n\n\nPièces de viole\, transcrites par Jean-Baptiste-Antoine Forqueray (1747) \n\n\n\nJean-Philippe Rameau (1683 – 1764) \n\n\n\nNouvelles suites de pièces de clavecin\, RCT 5-6 (1727) \n\n\n\nJacques Duphly (1715 – 1789) \n\n\n\nTroisième Livre de Pièces de Clavecin (v. 1758) \n\n\n\nChristophe Gauthier a effectué ses études au Conservatoire de Montréal et à l’Université de Montréal où il a obtenu sa maîtrise en musique. Il a participé à la fondation de nombreux ensembles\, dont les Rendez-vous baroque français (Montréal)\, la Frontera (Mexico) et le Consort Laurentien (Bâle)\, lequel s’est produit à l’été 2021 au Festival de musique ancienne d’Utrecht (Pays-Bas). Il s’exécute également en tant qu’organiste et claveciniste avec le Studio de musique ancienne de Montréal\, Arion orchestre baroque\, I Musici de Montréal\, et l’Orchestre Métropolitain\, sous la direction de Yannick Nézet-Séguin. Pédagogue\, Christophe Gauthier enseigne l’orgue\, le clavecin et la formation auditive au cégep de Saint-Laurent. Il est régulièrement invité à enseigner à la Lunenburg Academy of Music Performance (Nouvelle-Écosse). Appelé occasionnellement à diriger des ensembles à partir du clavecin\, il est aussi chef de chœur de l’Ensemble vocal Vivace et le Chœur de l’OPMEM. Il a notamment dirigé les opéras Didon et Énée de Purcell\, Hercules de Handel et David et Jonathas de Charpentier. On peut l’entendre chaque semaine à l’antenne de Radio VM\, à la barre de l’émission Musique classique. \n\n\n\nBillets \n\n\n\nPrix (taxes et frais de billetterie inclus) \n\n\n\nRégulier : 35 $ \n\n\n\nAîné (65 ans et plus) : 32 $ \n\n\n\nÉtudiant (25 ans et moins) : 18 $
URL:https://journalmetro.com/evenement/le-clavecin-francais-avec-christophe-gauthier/
LOCATION:Chapelle Notre Dame de Bon Secours\, 400 rue Saint-Paul Est\, Montréal\, QC\, H2Y 1H4\, Canada
CATEGORIES:Communautaire
ATTACH;FMTTYPE=image/jpeg:https://journalmetro.com/wp-content/uploads/2023/04/Christophe-Gauthier_1200x600.jpg
END:VEVENT
END:VCALENDAR