BEGIN:VCALENDAR
VERSION:2.0
PRODID:-//Journal Métro - ECPv6.0.13//NONSGML v1.0//EN
CALSCALE:GREGORIAN
METHOD:PUBLISH
X-WR-CALNAME:Journal Métro
X-ORIGINAL-URL:https://journalmetro.com
X-WR-CALDESC:évènements pour Journal Métro
REFRESH-INTERVAL;VALUE=DURATION:PT1H
X-Robots-Tag:noindex
X-PUBLISHED-TTL:PT1H
BEGIN:VTIMEZONE
TZID:America/Toronto
BEGIN:DAYLIGHT
TZOFFSETFROM:-0500
TZOFFSETTO:-0400
TZNAME:EDT
DTSTART:20220313T070000
END:DAYLIGHT
BEGIN:STANDARD
TZOFFSETFROM:-0400
TZOFFSETTO:-0500
TZNAME:EST
DTSTART:20221106T060000
END:STANDARD
BEGIN:DAYLIGHT
TZOFFSETFROM:-0500
TZOFFSETTO:-0400
TZNAME:EDT
DTSTART:20230312T070000
END:DAYLIGHT
BEGIN:STANDARD
TZOFFSETFROM:-0400
TZOFFSETTO:-0500
TZNAME:EST
DTSTART:20231105T060000
END:STANDARD
END:VTIMEZONE
BEGIN:VEVENT
DTSTART;TZID=America/Toronto:20221219T100000
DTEND;TZID=America/Toronto:20230316T220000
DTSTAMP:20231011T183828
CREATED:20221219T185240Z
LAST-MODIFIED:20230216T200304Z
UID:10009211-1671444000-1679004000@journalmetro.com
SUMMARY:Lanternes lumineuses - Dino
DESCRIPTION:Découvrez l’exposition de Dino\, artiste originaire de Rivière-des-Prairies. \n\n\n\nCette installation d’art numérique nous place au centre des rêves de Dino\, dans un environnement où tout commence par la perception de lui-même. Il saura vous faire voyager à travers sa quête intérieure : le voyage le plus important de l’homme. \n\n\n\nRéalisée en collaboration avec l’Association des gens d’affaires de RDP et Les Créations Boume\, cette exposition est située devant le commerce Chez Smoothzi ! \n\n\n\n#chezsmoothzi\, #bloom\, #associationdesgensdaffairesderdp \n\n\n\nSource: montreal.ca \n\n\n\nDates et horaires sont sujets à changement sans préavis. Avant de vous déplacer\, vérifier ces informations sur montreal.ca
URL:https://journalmetro.com/evenement/lanternes-lumineuses-dcino/
LOCATION:Chez Smoothzi\, 7901 avenue André-Ampère\, Montréal\, QC\, Canada
ATTACH;FMTTYPE=image/jpeg:https://journalmetro.com/wp-content/uploads/2022/12/lanternes-lumineuses-2.jpg
END:VEVENT
BEGIN:VEVENT
DTSTART;TZID=America/Toronto:20230601T170000
DTEND;TZID=America/Toronto:20230630T170000
DTSTAMP:20231011T183828
CREATED:20230613T200918Z
LAST-MODIFIED:20230613T201425Z
UID:10018042-1685638800-1688144400@journalmetro.com
SUMMARY:Une seconde nature - Exposition
DESCRIPTION:L’exposition Une seconde nature a lieu du 1er juin au 30 juin 2023\, à L’espace-Galerie de l’artiste Sabiha Merabet. \n\n\n\nFinissage le 30 Juin 2023. \n\n\n\nLe groupe d’artistes invité est membre d’ExpoS’Arts (REQ)\, une osbl qui organise des expositions pour ses membres partout au Québec. Cette fois-ci c’est dans le secteur de Rivières-des-prairies que les artistes seront en exposition collective.
URL:https://journalmetro.com/evenement/une-seconde-nature-exposition/
LOCATION:Chez Smoothzi\, 7901 avenue André-Ampère\, Montréal\, QC\, Canada
CATEGORIES:Communautaire
ATTACH;FMTTYPE=image/jpeg:https://journalmetro.com/wp-content/uploads/2023/06/Seconde-Nature_1200x600.jpg
END:VEVENT
END:VCALENDAR