BEGIN:VCALENDAR
VERSION:2.0
PRODID:-//Journal Métro - ECPv6.0.13//NONSGML v1.0//EN
CALSCALE:GREGORIAN
METHOD:PUBLISH
X-WR-CALNAME:Journal Métro
X-ORIGINAL-URL:https://journalmetro.com
X-WR-CALDESC:évènements pour Journal Métro
REFRESH-INTERVAL;VALUE=DURATION:PT1H
X-Robots-Tag:noindex
X-PUBLISHED-TTL:PT1H
BEGIN:VTIMEZONE
TZID:America/Toronto
BEGIN:DAYLIGHT
TZOFFSETFROM:-0500
TZOFFSETTO:-0400
TZNAME:EDT
DTSTART:20220313T070000
END:DAYLIGHT
BEGIN:STANDARD
TZOFFSETFROM:-0400
TZOFFSETTO:-0500
TZNAME:EST
DTSTART:20221106T060000
END:STANDARD
BEGIN:DAYLIGHT
TZOFFSETFROM:-0500
TZOFFSETTO:-0400
TZNAME:EDT
DTSTART:20230312T070000
END:DAYLIGHT
BEGIN:STANDARD
TZOFFSETFROM:-0400
TZOFFSETTO:-0500
TZNAME:EST
DTSTART:20231105T060000
END:STANDARD
END:VTIMEZONE
BEGIN:VEVENT
DTSTART;TZID=America/Toronto:20221029T170000
DTEND;TZID=America/Toronto:20221029T170000
DTSTAMP:20231016T181033
CREATED:20221017T170905Z
LAST-MODIFIED:20221025T180458Z
UID:10008254-1667062800-1667062800@journalmetro.com
SUMMARY: HALFAOUINE de Férid Boughédir
DESCRIPTION:Contenu promotionnel \n\n\n\nNoura est en pleine puberté et cela lui complique la vie à Halfaouine\, quartier populaire de Tunis\,  où la vie des hommes et celle des femmes sont totalement séparées. Le garçon n’est accepté dans aucun des deux mondes. Il n’est pas encore un homme mais son intérêt pour le corps féminin lui a valu d’être banni du hammam ou il a toujours accompagné sa mère. D’un œil qui n’est plus tout à fait celui d’un enfant\, Noura apprécie la compagnie des femmes de la maison\, tendres et affectueuses\, mais se voit contraint de sacrifier son privilège d’enfant pour rejoindre celle des hommes\, insensibles et rigides.
URL:https://journalmetro.com/evenement/halfaouine-de-ferid-boughedir/
LOCATION:Cinéma du musée\, 1379-A Rue Sherbrooke O\, Montréal\, QC\, H3G 1K3\, Canada
CATEGORIES:Promotionnel
ATTACH;FMTTYPE=image/jpeg:https://journalmetro.com/wp-content/uploads/2022/10/cover-0-halfaouine.jpg
END:VEVENT
BEGIN:VEVENT
DTSTART;TZID=America/Toronto:20230407T080000
DTEND;TZID=America/Toronto:20230413T170000
DTSTAMP:20231016T181033
CREATED:20230406T150918Z
LAST-MODIFIED:20230406T150920Z
UID:10017086-1680854400-1681405200@journalmetro.com
SUMMARY:Greyland - Cinéma du Musée/Cinéma du Parc
DESCRIPTION:Les Productions du Rapide-Blanc sont fières d’annoncer la sortie en salle de Greyland\, long métrage documentaire d’Alexandra Sicotte-Lévesque\, du 7 au 13 avril au Cinéma du Musée/Cinéma du Parc. Les projections auront lieues en présence de la réalisatrice et les 11 et 12 avril en présence de l’un des personnages principaux\, Rocco Sait\, suivi d’une performance musicale. \n\n\n\nAutrefois le centre en plein essor de l’acier américain\, Youngstown\, dans l’Ohio\, est devenue la ville la plus dépeuplée aux États-Unis lorsque l’industrie s’est effondrée dans les années 1950. Plus de 60 % de la population a fui la ville. Aujourd’hui\, 37% de ceux qui y restent vivent sous le seuil de pauvreté. Comme Rocco et Amber. Ex-héroïnomane devenu archéologue urbain\, Rocco fouille les décombres de centaines de maisons abandonnées. Vêtements vintage\, disques\, œuvres d’art\, tout ce qu’il trouve va à Greyland\, une galerie d’art et friperie\, pour être converti en argent. Pendant ce temps\, Amber est une mère célibataire et la présidente de l’association de quartier\, menant la lutte contre la mairie pour son inaction du nettoyage de son quartier. « Nous voulons croire »\, dit Amber\, « qu’il y a de bonnes choses pleines d’espoir à venir. » \n\n\n\nGreyland a été primé aux États-Unis\, où le film a reçu le prix du meilleur long-métrage social au Montauk Film Festival\, le prix du Grand Jury au Blue Ridge Film Festival et du meilleur documentaire au Red Cedar Film Festival et au Sound + Sight Festival. À travers des images apocalyptiques et poétique d’une ville prenant son dernier souffle\, Greyland raconte la résilience de deux individus alors que tout s’est effondré autour d’eux. « Vous pouvez essayer\, mais vous n’allez rien changer. Essayer devient simplement une partie de qui nous sommes »\, chante Rocco en écho aux luttes d’une génération prise entre deux époques. \n\n\n\nL’horaire des projections sera bientôt disponible sur le site du Cinéma du Musée \n\n\n\nLa projection du 12 avrilsera présentée au Cinéma du Parc en collaboration avec le « Ethnography Lab » de l’Université Concordia et en présence de Dr Justin Gest\, Professeur de Politiques et Gouvernement à l’Université  George Mason (Washington DC)\, et auteur du livre The New Minority sur l’influence de la classe ouvrière blanche sur la politique américaine. \n\n\n\nAlexandra Sicotte-Lévesque œuvre depuis plus de vingt ans dans le domaine humanitaire. Elle cofonde en 2002\, Journalistes pour les Droits Humains – Journalists for Human Rights\, un organisme qui travaille à la formation de journalistes à travers l’Afrique.  Après trois ans au Soudan ou elle participe à la mise sur pied de la première radio indépendante du pays avec la mission de paix des Nations Unies\, Alexandra produit et réalise son premier long métrage documentaire À jamais\, pour toujours qui suit des jeunes soudanais à l’aube de l’indépendance du Sud-Soudan. Il obtient une mention spéciale pour le prix Magnus Issacson aux RIDM. Après avoir travaillé sur les élections présidentielles américaines de 2012 dans l’Ohio\, elle réalise et produit Greyland son deuxième long métrage. Elle travaille actuellement pour la Croix Rouge internationale en Suisse. \n\n\n\nProduit par Alexandra Sicotte-Lévesque et Sylvie Van Brabant\, Greyland est réalisé par Alexandra Sicotte-Lévesque. La direction de la photographie est assurée par Katerine Giguère. Le montage est d’Annie Leclair\, la musique originale est composée par Antoine Berthiaume et les chansons originales sont signées Rocco Sait. \n\n\n\nBillets en vente
URL:https://journalmetro.com/evenement/greyland-cinema-du-musee-cinema-du-parc/
LOCATION:Cinéma du musée\, 1379-A Rue Sherbrooke O\, Montréal\, QC\, H3G 1K3\, Canada
ATTACH;FMTTYPE=image/jpeg:https://journalmetro.com/wp-content/uploads/2023/04/greyland.jpg
END:VEVENT
END:VCALENDAR