BEGIN:VCALENDAR
VERSION:2.0
PRODID:-//Journal Métro - ECPv6.0.13//NONSGML v1.0//EN
CALSCALE:GREGORIAN
METHOD:PUBLISH
X-WR-CALNAME:Journal Métro
X-ORIGINAL-URL:https://journalmetro.com
X-WR-CALDESC:évènements pour Journal Métro
REFRESH-INTERVAL;VALUE=DURATION:PT1H
X-Robots-Tag:noindex
X-PUBLISHED-TTL:PT1H
BEGIN:VTIMEZONE
TZID:America/Toronto
BEGIN:DAYLIGHT
TZOFFSETFROM:-0500
TZOFFSETTO:-0400
TZNAME:EDT
DTSTART:20230312T070000
END:DAYLIGHT
BEGIN:STANDARD
TZOFFSETFROM:-0400
TZOFFSETTO:-0500
TZNAME:EST
DTSTART:20231105T060000
END:STANDARD
END:VTIMEZONE
BEGIN:VEVENT
DTSTART;TZID=America/Toronto:20230518T000000
DTEND;TZID=America/Toronto:20230528T000000
DTSTAMP:20231018T172527
CREATED:20230517T133609Z
LAST-MODIFIED:20230517T133807Z
UID:10017590-1684368000-1685232000@journalmetro.com
SUMMARY:Festival du film japonais
DESCRIPTION:Chaque année\, le Consulat Général du Japon à Montréal et la Fondation du Japon\, Toronto\, OSBL gouvernemental qui a pour objectif d’approfondir l’amitié et la bonne volonté entre le Japon et le Canada à travers les échanges interculturels\, offrent des projections gratuites de films japonais. Nouvellement cette année\, les projections montréalaises auront lieu au courant du mois de mai en célébration du Mois du patrimoine asiatique. \n\n\n\nEn fait\, le Festival du film japonais présenté par la Fondation du Japon est d’ampleur internationale et compte des lieux de projections dans des dizaines de pays à travers le monde\, incluant plusieurs points de projections à travers le Canada. Les films choisis\, chacun introduisant différentes facettes du Japon\, sont de genres et de styles variés et présentent un éventail de thèmes dans le but de plaire à tous les types de cinéphiles.  \n\n\n\nLe Festival du film japonais – Montréal Lieu : Cinémathèque québécoise\, 335\, boul. de Maisonneuve est\, Montréal\, QCFrais: GratuitLe 18 mai (jeu) 2023 à 18 h\, « A Town and a Tall Chimney » (en japonais avec s.-t. anglais)Le 27 mai (sam) 2023 à 17h30\, « Herbes flottantes » (en japonais avec s.-t. français)Le 28 mai (dim) 2023 à 14 h\, « First Gentleman » (en japonais avec s.-t. anglais)
URL:https://journalmetro.com/evenement/festival-du-film-japonais/
LOCATION:Cinémathèque québécoise\, 335 boulevard de Maisonneuve Est\, Montréal\, QC\, Canada
CATEGORIES:Communautaire
ATTACH;FMTTYPE=image/png:https://journalmetro.com/wp-content/uploads/2023/05/2023JFF_Mtl_Metro-image.png
END:VEVENT
END:VCALENDAR