BEGIN:VCALENDAR
VERSION:2.0
PRODID:-//Journal Métro - ECPv6.0.13//NONSGML v1.0//EN
CALSCALE:GREGORIAN
METHOD:PUBLISH
X-WR-CALNAME:Journal Métro
X-ORIGINAL-URL:https://journalmetro.com
X-WR-CALDESC:évènements pour Journal Métro
REFRESH-INTERVAL;VALUE=DURATION:PT1H
X-Robots-Tag:noindex
X-PUBLISHED-TTL:PT1H
BEGIN:VTIMEZONE
TZID:America/Toronto
BEGIN:DAYLIGHT
TZOFFSETFROM:-0500
TZOFFSETTO:-0400
TZNAME:EDT
DTSTART:20230312T070000
END:DAYLIGHT
BEGIN:STANDARD
TZOFFSETFROM:-0400
TZOFFSETTO:-0500
TZNAME:EST
DTSTART:20231105T060000
END:STANDARD
END:VTIMEZONE
BEGIN:VEVENT
DTSTART;TZID=America/Toronto:20230301T130000
DTEND;TZID=America/Toronto:20230501T170000
DTSTAMP:20231025T234415
CREATED:20230227T195104Z
LAST-MODIFIED:20230227T195106Z
UID:10015500-1677675600-1682960400@journalmetro.com
SUMMARY:Clinique mobile d'hygiène dentaire de Saint-Michel - 2e édition
DESCRIPTION:C’est un départ ! Dès le 1er mars prochain\, La Clinique mobile d’hygiène dentaire démarrera sa tournée d’atelier éducatif et de dépistage buccodentaire offert gratuitement par les stagiaires en techniques d’hygiène dentaire du Collège de Maisonneuve sous la supervision de Vicky\, coordonnatrice de stage en santé dentaire publique et co-responsable du projet. \n\n\n\nAu CLSC Saint-Michel\, de 13h à 17h. \n\n\n\nVoici les dates de la tournée : \n\n\n\n-1er mars 2023 \n\n\n\n-13 avril 2023 \n\n\n\n-18 avril 2023 \n\n\n\n-1er mai 2023 \n\n\n\nUn immense merci à nos partenaires dans cette merveilleuse aventure : \n\n\n\n-Carrefour Populaire de Saint-Michel \n\n\n\n-Bibliothèque de Saint-Michel \n\n\n\n-CLSC de Saint-Michel \n\n\n\n-Martine Hilaire Le Temps d’une pause – ITMAV
URL:https://journalmetro.com/evenement/clinique-mobile-dhygiene-dentaire-de-saint-michel-2e-edition/
LOCATION:CLSC Saint-Michel\, 3355 rue Jarry Est\, Montréal\, QC\, Canada
ATTACH;FMTTYPE=image/jpeg:https://journalmetro.com/wp-content/uploads/2023/02/clinique-dentaire-mobile-2.jpg
END:VEVENT
END:VCALENDAR