BEGIN:VCALENDAR
VERSION:2.0
PRODID:-//Journal Métro - ECPv6.0.13//NONSGML v1.0//EN
CALSCALE:GREGORIAN
METHOD:PUBLISH
X-WR-CALNAME:Journal Métro
X-ORIGINAL-URL:https://journalmetro.com
X-WR-CALDESC:évènements pour Journal Métro
REFRESH-INTERVAL;VALUE=DURATION:PT1H
X-Robots-Tag:noindex
X-PUBLISHED-TTL:PT1H
BEGIN:VTIMEZONE
TZID:America/Toronto
BEGIN:DAYLIGHT
TZOFFSETFROM:-0500
TZOFFSETTO:-0400
TZNAME:EDT
DTSTART:20220313T070000
END:DAYLIGHT
BEGIN:STANDARD
TZOFFSETFROM:-0400
TZOFFSETTO:-0500
TZNAME:EST
DTSTART:20221106T060000
END:STANDARD
BEGIN:DAYLIGHT
TZOFFSETFROM:-0500
TZOFFSETTO:-0400
TZNAME:EDT
DTSTART:20230312T070000
END:DAYLIGHT
BEGIN:STANDARD
TZOFFSETFROM:-0400
TZOFFSETTO:-0500
TZNAME:EST
DTSTART:20231105T060000
END:STANDARD
END:VTIMEZONE
BEGIN:VEVENT
DTSTART;TZID=America/Toronto:20221014T120000
DTEND;TZID=America/Toronto:20230226T120000
DTSTAMP:20231016T142233
CREATED:20220902T185413Z
LAST-MODIFIED:20220902T194012Z
UID:10007408-1665748800-1677412800@journalmetro.com
SUMMARY:Aigles d'Ahuntsic - Basketball collégial
DESCRIPTION:Venez encourager les Aigles du Collège Ahuntsic pour leur nouvelle saison. \n\n\n\nLes matchs se déroulent dans le gymnase du Collège Ahuntsic. L’entrée est gratuite! \n\n\n\nDates  \n\n\n\n14 octobre\, 21h\, gymnase du Collège Ahuntsic \n\n\n\n28 octobre\, 21h\, gymnase du Collège Ahuntsic \n\n\n\n13 novembre\, 17h\, gymnase du Collège Ahuntsic \n\n\n\n25 novembre\, 19h30\, gymnase du Collège Ahuntsic \n\n\n\n2 décembre\, 21h\, gymnase du Collège Ahuntsic \n\n\n\n20 janvier\, 21h\, gymnase du Collège Ahuntsic \n\n\n\n3 février\, 21h\, gymnase du Collège Ahuntsic \n\n\n\n5 février\, 15h\, gymnase du Collège Ahuntsic \n\n\n\n17 février\, 21h\, gymnase du Collège Ahuntsic \n\n\n\n24 février\, 21h\, gymnase du Collège Ahuntsic \n\n\n\n26 février\, Journée entière\, gymnase du Collège Ahuntsic
URL:https://journalmetro.com/evenement/basketball-collegial/
LOCATION:Collège Ahuntsic\, 9155 rue Saint-Hubert\, Montréal\, QC\, Canada
CATEGORIES:Communautaire
ATTACH;FMTTYPE=image/jpeg:https://journalmetro.com/wp-content/uploads/2022/09/aigles-dahuntsic-basket-4-2.jpg
END:VEVENT
BEGIN:VEVENT
DTSTART;TZID=America/Toronto:20221105T190000
DTEND;TZID=America/Toronto:20221105T190000
DTSTAMP:20231016T142233
CREATED:20220923T170108Z
LAST-MODIFIED:20220923T172606Z
UID:10007802-1667674800-1667674800@journalmetro.com
SUMMARY:4e édition FestiThéâtreCréole: JESIKA
DESCRIPTION:JESIKA\, une pièce de Faubert Bolivar\, avec un accompagnement musical de David Bontemps qui dénonce l’inacceptable. \n\n\n\nL’Etat est incapable de garantir aux citoyens les conditions d’une vie simplement humaine. C’est le règne de la mort. JESIKA est une histoire qui puise dans la mort\, c’est l’histoire d’un personnage qui sombre dans la folie après avoir croisé le chemin de la mort. \n\n\n\nCette représentation est déconseillée aux mineurs.
URL:https://journalmetro.com/evenement/festitheatrecreole-jesika/
LOCATION:Collège Ahuntsic\, 9155 rue Saint-Hubert\, Montréal\, QC\, Canada
CATEGORIES:Communautaire
ATTACH;FMTTYPE=image/jpeg:https://journalmetro.com/wp-content/uploads/2022/09/festitheatrecreole-2.jpg
END:VEVENT
END:VCALENDAR