BEGIN:VCALENDAR
VERSION:2.0
PRODID:-//Journal Métro - ECPv6.0.13//NONSGML v1.0//EN
CALSCALE:GREGORIAN
METHOD:PUBLISH
X-WR-CALNAME:Journal Métro
X-ORIGINAL-URL:https://journalmetro.com
X-WR-CALDESC:évènements pour Journal Métro
REFRESH-INTERVAL;VALUE=DURATION:PT1H
X-Robots-Tag:noindex
X-PUBLISHED-TTL:PT1H
BEGIN:VTIMEZONE
TZID:America/Toronto
BEGIN:DAYLIGHT
TZOFFSETFROM:-0500
TZOFFSETTO:-0400
TZNAME:EDT
DTSTART:20230312T070000
END:DAYLIGHT
BEGIN:STANDARD
TZOFFSETFROM:-0400
TZOFFSETTO:-0500
TZNAME:EST
DTSTART:20231105T060000
END:STANDARD
END:VTIMEZONE
BEGIN:VEVENT
DTSTART;TZID=America/Toronto:20230122T110000
DTEND;TZID=America/Toronto:20230122T200000
DTSTAMP:20231017T110108
CREATED:20230109T204420Z
LAST-MODIFIED:20230109T205532Z
UID:10009473-1674385200-1674417600@journalmetro.com
SUMMARY:Marché du Nouvel An lunaire
DESCRIPTION:Le marché du Nouvel An lunaire à Montréal est un marché d’une journée le 22 janvier. \n\n\n\nL’organisateur\, Hong Kong Cultural Learning Society à Montréal (HKCLS)\, vise à stimuler l’ambiance du Nouvel An lunaire dans la ville avec de la nourriture asiatique\, des cadeaux festifs et des activités traditionnelles. \n\n\n\nCélébrée par différentes cultures\, dont les Coréens\, les Vietnamiens\, les Chinois\, les Malais\, les Singapouriens\, les Hongkongais et les Taïwanais\, cette année du lapin débutera le dimanche 22 janvier. \n\n\n\n18 vendeurs vendront de cadeaux et de la nourriture\, dont de la gaufre aux œufs de style Hong Kong\, du café d’Asie du Sud-Est\, de l’huile de piment Teochew et du thé à bulles\, au Centre Communautaire de Loisirs Sainte-Catherine d’Alexandrie dans le Village. \n\n\n\nLe marché se déroule de 11h à 20h\, ce dimanche 22 janvier et est ouvert pour les visiteurs gratuitement. \n\n\n\nÉtant le premier jour de l’année du lapin\, les participants seront immergés dans un monde de produits artisanaux de lapin\, du crochet amigurumi\, des arts du papier aux autocollants. \n\n\n\nLe marché proposera également des activités pour tous les âges : prenez le pinceau et écrivez des mots de bénédiction en calligraphie chinoise sur du papier rouge\, faites vos souhaits sur l’arbre à souhaits ou tentez votre chance sur le jeu de dés classique Poisson – Crevette – Crabe. \n\n\n\nLa plupart des vendeurs n’acceptent que les paiements en argent comptant\, alors assurez-vous de vous préparer.  \n\n\n\nApportez également votre propre sac pour transporter toute la bonne fortune à la maison. \n\n\n\nVoici les commerçant-es du marché:  \n\n\n\nGift \n\n\n\n Passionate  \n\n\n\nYellow Shop \n\n\n\nEvergreen \n\n\n\n香港平安 Hong Kong Ping On  \n\n\n\nAction \n\n\n\n Free Hong Kong Montreal  \n\n\n\nDre \n\n\n\n Cheung Designs \n\n\n\nLa \n\n\n\nMaison de Bun Bun / Bun Bun Bakery  \n\n\n\nCafé \n\n\n\n du Triangle d’Or / Golden Triangle Coffee \n\n\n\nSakkabo  \n\n\n\nKawaii \n\n\n\n Stitch  \n\n\n\nPaper \n\n\n\n and Rice Co.  \n\n\n\nOcha \n\n\n\n Tea Shop \n\n\n\nMrs Deli \n\n\n\nUbisee  \n\n\n\n虎媽雜貨 \n\n\n\n Épiceries Tiger Mom  \n\n\n\nTeochew \n\n\n\n Foodie \n\n\n\nFUSETOPS \n\n\n\n\n\n\n\nFacebook event \n\n\n\nContact : hkcls.mtl@gmail.com \n\n\n\nOrganisateur : Hong Kong Cultural Learning Society à Montréal
URL:https://journalmetro.com/evenement/marche-du-nouvel-an-lunaire/
LOCATION:Communauté de Loisirs Sainte-Catherine d’Alexandrie\, 1700 Atateken\, Montréal\, QC\, Canada
CATEGORIES:Communautaire
ATTACH;FMTTYPE=image/jpeg:https://journalmetro.com/wp-content/uploads/2023/01/marche-de-nouvel-an-lunaire-a-mtl-2.jpg
END:VEVENT
END:VCALENDAR