BEGIN:VCALENDAR
VERSION:2.0
PRODID:-//Journal Métro - ECPv6.0.13//NONSGML v1.0//EN
CALSCALE:GREGORIAN
METHOD:PUBLISH
X-WR-CALNAME:Journal Métro
X-ORIGINAL-URL:https://journalmetro.com
X-WR-CALDESC:évènements pour Journal Métro
REFRESH-INTERVAL;VALUE=DURATION:PT1H
X-Robots-Tag:noindex
X-PUBLISHED-TTL:PT1H
BEGIN:VTIMEZONE
TZID:America/Toronto
BEGIN:DAYLIGHT
TZOFFSETFROM:-0500
TZOFFSETTO:-0400
TZNAME:EDT
DTSTART:20220313T070000
END:DAYLIGHT
BEGIN:STANDARD
TZOFFSETFROM:-0400
TZOFFSETTO:-0500
TZNAME:EST
DTSTART:20221106T060000
END:STANDARD
BEGIN:DAYLIGHT
TZOFFSETFROM:-0500
TZOFFSETTO:-0400
TZNAME:EDT
DTSTART:20230312T070000
END:DAYLIGHT
BEGIN:STANDARD
TZOFFSETFROM:-0400
TZOFFSETTO:-0500
TZNAME:EST
DTSTART:20231105T060000
END:STANDARD
END:VTIMEZONE
BEGIN:VEVENT
DTSTART;TZID=America/Toronto:20221028T080000
DTEND;TZID=America/Toronto:20221030T170000
DTSTAMP:20231017T120456
CREATED:20221006T145906Z
LAST-MODIFIED:20230208T175819Z
UID:10008107-1666944000-1667149200@journalmetro.com
SUMMARY:Week-end d'Halloween au CASD
DESCRIPTION:Du 28 au 30 octobre\, le complexe aquatique et sportif de Dorval sera décoré selon la thématique de l’Halloween. Tous les enfants de 12 ans et moins qui viendront pour des cours de natation\, pour des bains libres ou pour des activités libres en gymnase recevront un sac à surprises et pourront participer au tirage d’un pot spécial rempli de bonbons. Le nom de la personne gagnante sera pigé le lundi 31 octobre. \n\n\n\nÀ la demande générale\, le module de jeu Wibit et d’autres éléments gonflables seront disponibles dans la piscine de 25 mètres pendant la période de bain libre du samedi 29 octobre\, de 14 h 30 à 16 h 30. Le prix d‘entrée normal s’applique.
URL:https://journalmetro.com/evenement/week-end-dhalloween-au-casd/
LOCATION:Complexe aquatique et sportif de Dorval\, 1295 avenue Dawson\, Dorval\, QC\, Canada
ATTACH;FMTTYPE=image/jpeg:https://journalmetro.com/wp-content/uploads/2022/10/LachineDorval_JeuxEau.jpg
END:VEVENT
BEGIN:VEVENT
DTSTART;TZID=America/Toronto:20221209T000000
DTEND;TZID=America/Toronto:20221222T000000
DTSTAMP:20231017T120456
CREATED:20221122T213611Z
LAST-MODIFIED:20230208T175112Z
UID:10008847-1670544000-1671667200@journalmetro.com
SUMMARY:Tirage d'un bas de Noël spécial (Temps des Fêtes au CASD)
DESCRIPTION:Chaque fois qu’un participant âgé de 12 ans et moins prendra part à un cours de natation ou à une activité libre en gymnase ou dans la piscine\, un billet lui sera remis à la réception du CASD. Ce billet lui donnera la chance de remporter un bas de Noël spécial rempli de surprises! \n\n\n\nLe tirage au sort se tiendra le 22 décembre à 14 h.
URL:https://journalmetro.com/evenement/tirage-dun-bas-de-noel-special-temps-des-fetes-au-casd/
LOCATION:Complexe aquatique et sportif de Dorval\, 1295 avenue Dawson\, Dorval\, QC\, Canada
ATTACH;FMTTYPE=image/jpeg:https://journalmetro.com/wp-content/uploads/2022/11/iStock-1439723291-BasNoel-1200x600-1.jpg
END:VEVENT
BEGIN:VEVENT
DTSTART;TZID=America/Toronto:20230105T100000
DTEND;TZID=America/Toronto:20230105T120000
DTSTAMP:20231017T120456
CREATED:20221122T202518Z
LAST-MODIFIED:20230208T175452Z
UID:10008837-1672912800-1672920000@journalmetro.com
SUMMARY:Journée Wibit (Temps des Fêtes au CASD)
DESCRIPTION:Venez vous amuser sur une gigantesque structure gonflable sur l’eau! \n\n\n\nLes enfants de 9 ans et moins doivent être accompagnés d’un adulte. \n\n\n\nLe coût d’entrée est celui d’une entrée journalière : \n\n\n\nCatégorieRésidentNon-résidentJeune (17 ans et moins)2\,50 $4 $Adulte (18 à 54 ans)3\,50 $6 $Premier citoyen (55 ans et plus)2\,50 $6 $
URL:https://journalmetro.com/evenement/journee-wibit-temps-des-fetes-au-casd/
LOCATION:Complexe aquatique et sportif de Dorval\, 1295 avenue Dawson\, Dorval\, QC\, Canada
ATTACH;FMTTYPE=image/jpeg:https://journalmetro.com/wp-content/uploads/2022/11/wibit-2.jpg
END:VEVENT
END:VCALENDAR