BEGIN:VCALENDAR
VERSION:2.0
PRODID:-//Journal Métro - ECPv6.0.13//NONSGML v1.0//EN
CALSCALE:GREGORIAN
METHOD:PUBLISH
X-WR-CALNAME:Journal Métro
X-ORIGINAL-URL:https://journalmetro.com
X-WR-CALDESC:évènements pour Journal Métro
REFRESH-INTERVAL;VALUE=DURATION:PT1H
X-Robots-Tag:noindex
X-PUBLISHED-TTL:PT1H
BEGIN:VTIMEZONE
TZID:America/Toronto
BEGIN:DAYLIGHT
TZOFFSETFROM:-0500
TZOFFSETTO:-0400
TZNAME:EDT
DTSTART:20230312T070000
END:DAYLIGHT
BEGIN:STANDARD
TZOFFSETFROM:-0400
TZOFFSETTO:-0500
TZNAME:EST
DTSTART:20231105T060000
END:STANDARD
END:VTIMEZONE
BEGIN:VEVENT
DTSTART;TZID=America/Toronto:20230328T090000
DTEND;TZID=America/Toronto:20230404T090000
DTSTAMP:20231017T125539
CREATED:20221223T192840Z
LAST-MODIFIED:20230120T130541Z
UID:10010088-1679994000-1680598800@journalmetro.com
SUMMARY:Cours iPad
DESCRIPTION:Cette formation gratuite de 10 cours s’adresse aux personnes aînées. Elle vous offre une occasion de vous familiariser avec cet outil informatique et d’accroître votre autonomie au regard des nouvelles technologies tout en socialisant. \n\n\n\nCes cours sont offerts par le Centre d’éducation des adultes Outremont de la Commission scolaire Marguerite-Bourgeoys. \n\n\n\nNiveau 1 (débutant)Les mardis – Du 17 janvier au 28 mars 2023 (pas de cours le 28 février) – 9 h 30 – 150 min. \n\n\n\nNiveau 2 (intermédiaire)Les mardis – Du 17 janvier au 28 mars 2023 (pas de cours le 28 février) – 13 h – 150 min. \n\n\n\nSource: montreal.ca \n\n\n\nDates et horaires sont sujets à changement sans préavis. Avant de vous déplacer\, vérifier ces informations sur montreal.ca
URL:https://journalmetro.com/evenement/cours-ipad/2023-03-28/
LOCATION:Complexe aquatique Michel-Leduc (Aquadôme)\, 1411 rue Lapierre\, Montréal\, QC\, Canada
ATTACH;FMTTYPE=image/jpeg:https://journalmetro.com/wp-content/uploads/2022/12/cours-ipad-2.jpg
END:VEVENT
END:VCALENDAR