BEGIN:VCALENDAR
VERSION:2.0
PRODID:-//Journal Métro - ECPv6.0.13//NONSGML v1.0//EN
CALSCALE:GREGORIAN
METHOD:PUBLISH
X-WR-CALNAME:Journal Métro
X-ORIGINAL-URL:https://journalmetro.com
X-WR-CALDESC:évènements pour Journal Métro
REFRESH-INTERVAL;VALUE=DURATION:PT1H
X-Robots-Tag:noindex
X-PUBLISHED-TTL:PT1H
BEGIN:VTIMEZONE
TZID:America/Toronto
BEGIN:DAYLIGHT
TZOFFSETFROM:-0500
TZOFFSETTO:-0400
TZNAME:EDT
DTSTART:20220313T070000
END:DAYLIGHT
BEGIN:STANDARD
TZOFFSETFROM:-0400
TZOFFSETTO:-0500
TZNAME:EST
DTSTART:20221106T060000
END:STANDARD
BEGIN:DAYLIGHT
TZOFFSETFROM:-0500
TZOFFSETTO:-0400
TZNAME:EDT
DTSTART:20230312T070000
END:DAYLIGHT
BEGIN:STANDARD
TZOFFSETFROM:-0400
TZOFFSETTO:-0500
TZNAME:EST
DTSTART:20231105T060000
END:STANDARD
END:VTIMEZONE
BEGIN:VEVENT
DTSTART;TZID=America/Toronto:20221015T080000
DTEND;TZID=America/Toronto:20221015T130000
DTSTAMP:20231016T141241
CREATED:20220928T145641Z
LAST-MODIFIED:20220928T145642Z
UID:10007887-1665820800-1665838800@journalmetro.com
SUMMARY:Distribution de compost à Saint-Léonard
DESCRIPTION:L’arrondissement de Saint-Léonard invite ses résidents à se procurer gratuitement du compost\, le samedi 15 octobre 2022 au site de dépôt à neige\, au coin des boulevards Langelier et Des Grandes-Prairies. Apportez votre pelle et votre contenant! \n\n\n\nLe compost qui est remis aux citoyens provient des résidus de jardin et des feuilles mortes ramassés dans les collectes de résidus verts. La distribution de compost se fait jusqu’à épuisement des stocks et est réservée aux résidents de Saint-Léonard. \n\n\n\nQuoi apporter?\n\n\n\nune pelledes sacs ou des contenants résistants (rien n’est fourni sur place)une preuve de résidence \n\n\n\nQuantité maximale\n\n\n\nLa quantité de compost est limitée à 2 contenants de 110 litres par véhicule. C’est un volume équivalant à deux poubelles de format standard. \n\n\n\nMesures Covid-19\n\n\n\nL’arrondissement demande aux citoyens de respecter les consignes sanitaires et les directives émises sur les lieux. \n\n\n\nSource: montreal.ca \n\n\n\nDates et horaires sont sujets à changement sans préavis. Avant de vous déplacer\, vérifier ces informations sur montreal.ca
URL:https://journalmetro.com/evenement/distribution-de-compost-a-saint-leonard/
LOCATION:Dépôt à neige Langelier\, 9430 boulevard Langelier\, Montréal\, QC\, Canada
ATTACH;FMTTYPE=image/jpeg:https://journalmetro.com/wp-content/uploads/2022/09/distribution-compost-2.jpg
END:VEVENT
BEGIN:VEVENT
DTSTART;TZID=America/Toronto:20230506T080000
DTEND;TZID=America/Toronto:20230506T130000
DTSTAMP:20231016T141241
CREATED:20230324T191653Z
LAST-MODIFIED:20230324T191655Z
UID:10016574-1683360000-1683378000@journalmetro.com
SUMMARY:Distribution de compost à Saint-Léonard
DESCRIPTION:L’arrondissement de Saint-Léonard invite ses résidents à se procurer gratuitement du compost\, le samedi 6 mai 2023 au site de dépôt à neige\, au coin des boulevards Langelier et Des Grandes-Prairies. Apportez votre pelle et votre contenant! \n\n\n\nLe compost qui est remis aux citoyens provient des résidus de jardin et des feuilles mortes ramassés dans les collectes de résidus verts. La distribution de compost se fait jusqu’à épuisement des stocks et est réservée aux résidents de Saint-Léonard. \n\n\n\nQuoi apporter? \n\n\n\nune pelle \n\n\n\ndes sacs ou des contenants résistants (rien n’est fourni sur place) \n\n\n\nune preuve de résidence  \n\n\n\nQuantité maximale\n\n\n\nLa quantité de compost est limitée à 2 contenants de 110 litres par véhicule. C’est un volume équivalant à deux poubelles de format standard. \n\n\n\nMesures Covid-19\n\n\n\nL’arrondissement demande aux citoyens de respecter les consignes sanitaires et les directives émises sur les lieux. \n\n\n\nSource: montreal.ca \n\n\n\nDates et horaires sont sujets à changement sans préavis. Avant de vous déplacer\, vérifier ces informations sur montreal.ca
URL:https://journalmetro.com/evenement/distribution-de-compost-a-saint-leonard-2/
LOCATION:Dépôt à neige Langelier\, 9430 boulevard Langelier\, Montréal\, QC\, Canada
ATTACH;FMTTYPE=image/jpeg:https://journalmetro.com/wp-content/uploads/2022/09/distribution-compost-2.jpg
END:VEVENT
END:VCALENDAR