BEGIN:VCALENDAR
VERSION:2.0
PRODID:-//Journal Métro - ECPv6.0.13//NONSGML v1.0//EN
CALSCALE:GREGORIAN
METHOD:PUBLISH
X-WR-CALNAME:Journal Métro
X-ORIGINAL-URL:https://journalmetro.com
X-WR-CALDESC:évènements pour Journal Métro
REFRESH-INTERVAL;VALUE=DURATION:PT1H
X-Robots-Tag:noindex
X-PUBLISHED-TTL:PT1H
BEGIN:VTIMEZONE
TZID:America/Toronto
BEGIN:DAYLIGHT
TZOFFSETFROM:-0500
TZOFFSETTO:-0400
TZNAME:EDT
DTSTART:20230312T070000
END:DAYLIGHT
BEGIN:STANDARD
TZOFFSETFROM:-0400
TZOFFSETTO:-0500
TZNAME:EST
DTSTART:20231105T060000
END:STANDARD
END:VTIMEZONE
BEGIN:VEVENT
DTSTART;TZID=America/Toronto:20230302T130000
DTEND;TZID=America/Toronto:20230302T160000
DTSTAMP:20231016T135757
CREATED:20230221T175657Z
LAST-MODIFIED:20230221T204054Z
UID:10015321-1677762000-1677772800@journalmetro.com
SUMMARY:Atelier pour la relâche : articles de cuisine zéro déchet
DESCRIPTION:Contenu promotionnel \n\n\n\n\n\n\n\n\n\n\n\nLa boutique Domeco prend en charge vos enfants pour une après-midi! En bonus\, ils reviendront à la maison avec des nouvelles éponges de cuisine lavables Tawashi ainsi que des emballages alimentaires cirés utiles pour les lunchs ou pour le rangement des plats dans le frigo. \n\n\n\nObjectif de l’atelier : encourager de bons gestes planétaires en concevant des objets utiles du quotidien de la maisonnée avec des objets récupérés et seconde main. \n\n\n\nCet atelier donnera la chance d’apprendre la technique de création d’une éponge Tawashi. Le fil de coton sera créer à partir d’un chandail récupéré. Le gabarit sur planche de bois est inclus. Les emballages alimentaires cirés sont également faits à partir de tissu récupéré. \n\n\n\nGroupe de dix jeunes maximum. Idéal pour les 8 ans et plus. \n\n\n\nLe prix de 29.99$ par personne inclus tout le matériel nécessaire ainsi que les honoraires de l’animatrice. \n\n\n\n\nRéservez maintenant\n\n\n\n\n\n\n\n\nPour en savoir davantage sur Domeco\, visitez le domeco.ca ou leurs médias sociaux! \n\n\n\n\n\n\n\nInstagram\n\nFacebook\n\nTikTok
URL:https://journalmetro.com/evenement/atelier-pour-la-relache-articles-de-cuisine-zero-dechet/
LOCATION:Domeco\, 2150 rue Rachel Est\, Montréal\, QC\, H2H 1R2\, Canada
CATEGORIES:Promotionnel
ATTACH;FMTTYPE=image/png:https://journalmetro.com/wp-content/uploads/2023/02/atelier-tawashi.png
END:VEVENT
BEGIN:VEVENT
DTSTART;TZID=America/Toronto:20230303T130000
DTEND;TZID=America/Toronto:20230303T160000
DTSTAMP:20231016T135757
CREATED:20230221T165943Z
LAST-MODIFIED:20230221T204138Z
UID:10015320-1677848400-1677859200@journalmetro.com
SUMMARY:Atelier pour la relâche : toile d'artiste de collages picturaux
DESCRIPTION:Contenu promotionnel \n\n\n\n\n\n\n\n\n\n\n\nLa boutique Domeco prend en charge vos enfants pour une après-midi! En bonus\, ils reviendront à la maison avec des connaissances artistiques supplémentaires sur l’art pictural : une technique qui met en avant plan la créativité et la beauté par la récupération et le seconde main. \n\n\n\nL’objectif de l’atelier : créer une toile d’artiste personnalisée et organisée sur fond de planche de bois à partir d’images prises dans des revues\, de vieux livres\, de peinture\, et d’objets inusités.  \n\n\n\nLe prix de 34.99$ par personne inclus les honoraires de l’artiste peintre-collage et le matériel. \n\n\n\nL’animateur\, Xavier Ford-Legrand\, est un artiste peintre-collage montréalais qui utilise tout type de matériel pour former des œuvres uniques d’une grande sensibilité. Recycler et réutiliser des images\, des livres\, des détritus sont les principaux moteurs à Xavier pour en faire du beau ! \n\n\n\nGroupe de dix jeunes maximum. Idéal pour les enfants de 10 ans et plus. \n\n\n\nLe prix inclus les honoraires de l’artiste et le matériel. \n\n\n\n\nRéservez maintenant\n\n\n\n\n\n\n\n\nPour en savoir davantage sur Domeco\, visitez le domeco.ca ou leurs médias sociaux! \n\n\n\n\n\n\n\nInstagram\n\nFacebook\n\nTikTok
URL:https://journalmetro.com/evenement/atelier-pour-la-relache-toile-dartiste-de-collages-picturaux/
LOCATION:Domeco\, 2150 rue Rachel Est\, Montréal\, QC\, H2H 1R2\, Canada
CATEGORIES:Promotionnel
ATTACH;FMTTYPE=image/png:https://journalmetro.com/wp-content/uploads/2023/02/Header-2000X1000-2.png
END:VEVENT
BEGIN:VEVENT
DTSTART;TZID=America/Toronto:20230310T000000
DTEND;TZID=America/Toronto:20230324T235959
DTSTAMP:20231016T135757
CREATED:20230221T180240Z
LAST-MODIFIED:20230221T204209Z
UID:10015322-1678406400-1679702399@journalmetro.com
SUMMARY:Apprendre à faire de la broderie un objet décoratif mural
DESCRIPTION:Contenu promotionnel \n\n\n\n\n\n\n\n\n\n\n\nAu programme : un point tissé avec de la laine\, des points de broderie pour texturer et obtenir une pièce 100% bohème\, qui se finira avec des franges si le coeur vous en dit. Offrez-vous un moment pour VOUS\, un moment joyeux et méditatif parfois\, pratiquement comme une séance d’art thérapie. \n\n\n\nCette série d’atelier est pour vous si : vous n’avez jamais touché à une aiguille de couture\, ou si vous êtes débutant en broderie\, ou si vous avez déjà réalisé des projets mais que vous aimeriez partager un bon moment de broderie. \n\n\n\n\nAtelier offert sous forme de série de 3 cours:o Vendredi 10 mars 2023 de 13:00 à 15:00o Vendredi 17 mars 2023 de 13:00 à 15:00o Vendredi 24 mars 2023 de 13:00 à 15:00 \n\n\n\n\nLe montant de 99$ inclus 6 heures d’atelier réparti sur 3 plages horaire de 2 heures. Petit groupe de 8 personnes\, espace convivial ! \n\n\n\n\n\n\n\n\nRéservez maintenant\n\n\n\n\n\n\n\n\nPour en savoir davantage sur Domeco\, visitez le domeco.ca ou leurs médias sociaux! \n\n\n\n\n\n\n\nInstagram\n\nFacebook\n\nTikTok
URL:https://journalmetro.com/evenement/apprendre-a-faire-de-la-broderie-un-objet-decoratif-mural/
LOCATION:Domeco\, 2150 rue Rachel Est\, Montréal\, QC\, H2H 1R2\, Canada
CATEGORIES:Promotionnel
ATTACH;FMTTYPE=image/png:https://journalmetro.com/wp-content/uploads/2023/02/atelier-broderie-cover.png
END:VEVENT
BEGIN:VEVENT
DTSTART;TZID=America/Toronto:20230316T000000
DTEND;TZID=America/Toronto:20230323T235959
DTSTAMP:20231016T135758
CREATED:20230221T181818Z
LAST-MODIFIED:20230221T204246Z
UID:10015324-1678924800-1679615999@journalmetro.com
SUMMARY:Atelier : Réussir son aménagement intérieur durable
DESCRIPTION:Contenu promotionnel \n\n\n\n\n\n\n\n\n\n\n\nEntre revalorisation et intemporalité. Découvrez comment travaillez votre projet de décoration d’intérieur en combinant l’existant\, l’usagé et le neuf pour réussir l’aménagement d’espace selon vos goûts et votre budget.  \n\n\n\nCet atelier vous donne les outils et les connaissances pour l’aspect esthétique d’un projet. Il n’est pas recommandé pour les projets d’envergure tel qu’enlever les murs\, avoir recours à un ingénieur\, ou démolition. Sous forme de petit groupe de huit personnes\, il vous propose des conseils généraux et personnalisés avec la designer Daphney.  \n\n\n\n\nSéance 1 (2hrs) : Division de l’espace\, fonctionnalité\, lumière et éléments architecturaux existants. Choix de mobilier à conserver ou à acheter Les participants repartent avec des devoirs à faire selon leur espace propre a chacun\n\n\n\nSéance 2 (3hrs) : Créer un moodboard\, \, zonage\, matériaux\, personnalisation de son espace – travailler le neuf et l’usager – décoration – les erreurs à éviter – comprendre les tendances\n\n\n\n\nCoût de 120$ par personne. \n\n\n\n\nRéservez maintenant\n\n\n\n\n\n\n\n\nPour en savoir davantage sur Domeco\, visitez le domeco.ca ou leurs médias sociaux! \n\n\n\n\n\n\n\nInstagram\n\nFacebook\n\nTikTok
URL:https://journalmetro.com/evenement/atelier-reussir-son-amenagement-interieur-durable/
LOCATION:Domeco\, 2150 rue Rachel Est\, Montréal\, QC\, H2H 1R2\, Canada
CATEGORIES:Promotionnel
ATTACH;FMTTYPE=image/png:https://journalmetro.com/wp-content/uploads/2023/02/Header-2000X1000-1.png
END:VEVENT
BEGIN:VEVENT
DTSTART;TZID=America/Toronto:20230318T133000
DTEND;TZID=America/Toronto:20230318T153000
DTSTAMP:20231016T135758
CREATED:20230221T181101Z
LAST-MODIFIED:20230221T204318Z
UID:10015323-1679146200-1679153400@journalmetro.com
SUMMARY:Atelier : Confection d'une décoration florale sur cerceau
DESCRIPTION:Contenu promotionnel \n\n\n\n\n\n\n\n\n\n\n\nEmbellissez votre intérieur avec une décoration simple et minimaliste que vous confectionnerez vous-même ! Découvrez les végétaux stabilisés : sans plastique\, sans entretien\, 100% naturels et qui se conservent en tout temps. \n\n\n\nSortez votre côté artistique et venez apprendre avec notre animatrice minutieuse et pédagogue: Blandine. \n\n\n\nTout le matériel est inclus dans le prix de $80.00 par personne. \n\n\n\n\nRéservez maintenant\n\n\n\n\n\n\n\n\nPour en savoir davantage sur Domeco\, visitez le domeco.ca ou leurs médias sociaux! \n\n\n\n\n\n\n\nInstagram\n\nFacebook\n\nTikTok
URL:https://journalmetro.com/evenement/atelier-confection-dune-decoration-florale-sur-cerceau/
LOCATION:Domeco\, 2150 rue Rachel Est\, Montréal\, QC\, H2H 1R2\, Canada
CATEGORIES:Promotionnel
ATTACH;FMTTYPE=image/png:https://journalmetro.com/wp-content/uploads/2023/02/2000X1000-HEADER.png
END:VEVENT
END:VCALENDAR