BEGIN:VCALENDAR
VERSION:2.0
PRODID:-//Journal Métro - ECPv6.0.13//NONSGML v1.0//EN
CALSCALE:GREGORIAN
METHOD:PUBLISH
X-WR-CALNAME:Journal Métro
X-ORIGINAL-URL:https://journalmetro.com
X-WR-CALDESC:évènements pour Journal Métro
REFRESH-INTERVAL;VALUE=DURATION:PT1H
X-Robots-Tag:noindex
X-PUBLISHED-TTL:PT1H
BEGIN:VTIMEZONE
TZID:America/Toronto
BEGIN:DAYLIGHT
TZOFFSETFROM:-0500
TZOFFSETTO:-0400
TZNAME:EDT
DTSTART:20230312T070000
END:DAYLIGHT
BEGIN:STANDARD
TZOFFSETFROM:-0400
TZOFFSETTO:-0500
TZNAME:EST
DTSTART:20231105T060000
END:STANDARD
END:VTIMEZONE
BEGIN:VEVENT
DTSTART;TZID=America/Toronto:20230520T100000
DTEND;TZID=America/Toronto:20230520T160000
DTSTAMP:20231018T175723
CREATED:20230515T190925Z
LAST-MODIFIED:20230515T190927Z
UID:10017573-1684576800-1684598400@journalmetro.com
SUMMARY:Fête de la lecture - Je Passe Partout
DESCRIPTION:Je Passe Partout\, un organisme de soutien scolaire engagé dans la promotion de la lecture et de l’éducation\, est ravi d’annoncer la tenue de sa fête de la lecture annuelle à l’école Baril le samedi 20 mai. Cet événement familial\, qui vise à développer le plaisir de lire chez les enfants\, plonge les participants dans l’univers de la littérature jeunesse et leur permet de prendre part à une variété d’activités culturelles. \n\n\n\nL’école Baril\, située au cœur du quartier\, se transformera en lieu d’exploration et de découverte. Plusieurs organismes de la communauté seront présents afin d’offrir aux familles des ateliers créatifs\, des prestations artistiques et diverses activités ludiques. Les enfants auront l’occasion de rencontrer plusieurs auteures et illustrateurs jeunesse\, et de participer à des ateliers littéraires sur différents thèmes. Il y aura aussi un grand bazar où tous et toutes pourront se choisir des livres gratuitement. \n\n\n\nCette année\, Claudia Larochelle\, animatrice et journaliste impliquée dans plusieurs causes sociales liées à l’importance de la lecture\, s’associe à l’événement en tant que porte-parole. Selon elle\, « tous les enfants du monde devraient avoir accès aux livres. Sans exception. Il faut leur en donner dès leur naissance\, c’est urgent. » \n\n\n\nLa Fête de la lecture de Je Passe Partout à l’école Baril promet d’être une journée inoubliable dédiée à l’exploration du monde littéraire jeunesse. Nous encourageons tous les membres de la communauté à se joindre à nous le samedi 20 mai pour célébrer cette occasion spéciale et partager ensemble notre amour des livres ! \n\n\n\nÀ propos de Je Passe Partout : Je Passe Partout est un organisme de soutien scolaire et d’intervention familiale qui vise à favoriser la réussite et prévenir le décrochage scolaire des jeunes en difficultés\, et ce\, dans un contexte de partenariat avec les parents\, l’école\, les services sociaux et le milieu communautaire.
URL:https://journalmetro.com/evenement/fete-de-la-lecture-je-passe-partout/
LOCATION:École Baril\, 3603 rue Adam\, Montréal\, QC\, Canada
CATEGORIES:Communautaire
ATTACH;FMTTYPE=image/jpeg:https://journalmetro.com/wp-content/uploads/2023/05/FeteLecture02_1200x600.jpg
END:VEVENT
END:VCALENDAR