BEGIN:VCALENDAR
VERSION:2.0
PRODID:-//Journal Métro - ECPv6.0.13//NONSGML v1.0//EN
CALSCALE:GREGORIAN
METHOD:PUBLISH
X-WR-CALNAME:Journal Métro
X-ORIGINAL-URL:https://journalmetro.com
X-WR-CALDESC:évènements pour Journal Métro
REFRESH-INTERVAL;VALUE=DURATION:PT1H
X-Robots-Tag:noindex
X-PUBLISHED-TTL:PT1H
BEGIN:VTIMEZONE
TZID:America/Toronto
BEGIN:DAYLIGHT
TZOFFSETFROM:-0500
TZOFFSETTO:-0400
TZNAME:EDT
DTSTART:20230312T070000
END:DAYLIGHT
BEGIN:STANDARD
TZOFFSETFROM:-0400
TZOFFSETTO:-0500
TZNAME:EST
DTSTART:20231105T060000
END:STANDARD
END:VTIMEZONE
BEGIN:VEVENT
DTSTART;TZID=America/Toronto:20230526T173000
DTEND;TZID=America/Toronto:20230526T193000
DTSTAMP:20231018T182059
CREATED:20230504T143538Z
LAST-MODIFIED:20230504T143540Z
UID:10017417-1685122200-1685129400@journalmetro.com
SUMMARY:Souper Gastronomique
DESCRIPTION:Événement-phare du Festival des Arts de Montréal-Nord\, le souper gastronomique est une occasion de mettre en lumière le travail des artisans de l’École Hôtelière Calixa-Lavallée \n\n\n\nLe souper de l’École Hôtelière de Montréal Calixa-Lavallée propose un menu quatre services préparé par ses chefs et ses élèves qui promet de laisser un souvenir impérissable à tous les gourmets. Ce festin très couru sera agrémenté de prestations du guitariste Jude Charles. Place à la cuisine ! \n\n\n\n42 $/  le couvert \n\n\n\nSource: montreal.ca \n\n\n\nDates et horaires sont sujets à changement sans préavis. Avant de vous déplacer\, vérifier ces informations sur montreal.ca
URL:https://journalmetro.com/evenement/souper-gastronomique/
LOCATION:École hôtelière de Montréal Calixa-Lavallée-Restaurant le Max-Rupp\, 4500 boulevard Henri-Bourassa Est\, Montréal\, QC\, Canada
ATTACH;FMTTYPE=image/jpeg:https://journalmetro.com/wp-content/uploads/2023/05/souper-gastronomique-2.jpg
END:VEVENT
END:VCALENDAR