BEGIN:VCALENDAR
VERSION:2.0
PRODID:-//Journal Métro - ECPv6.0.13//NONSGML v1.0//EN
CALSCALE:GREGORIAN
METHOD:PUBLISH
X-WR-CALNAME:Journal Métro
X-ORIGINAL-URL:https://journalmetro.com
X-WR-CALDESC:évènements pour Journal Métro
REFRESH-INTERVAL;VALUE=DURATION:PT1H
X-Robots-Tag:noindex
X-PUBLISHED-TTL:PT1H
BEGIN:VTIMEZONE
TZID:America/Toronto
BEGIN:DAYLIGHT
TZOFFSETFROM:-0500
TZOFFSETTO:-0400
TZNAME:EDT
DTSTART:20220313T070000
END:DAYLIGHT
BEGIN:STANDARD
TZOFFSETFROM:-0400
TZOFFSETTO:-0500
TZNAME:EST
DTSTART:20221106T060000
END:STANDARD
END:VTIMEZONE
BEGIN:VEVENT
DTSTART;TZID=America/Toronto:20220813T100000
DTEND;TZID=America/Toronto:20220813T160000
DTSTAMP:20231018T180218
CREATED:20220809T155043Z
LAST-MODIFIED:20220809T191041Z
UID:10006961-1660384800-1660406400@journalmetro.com
SUMMARY:Au delà du Bac | Recyclage
DESCRIPTION:Projet démarré par 6 citoyens engagés du quartier Verdun\, dont le but est d’offrir un lieu de proximité où recycler des matériaux généralement destinés à l’écocentre.Rendez-vous à l’école Lévis-Sauvé (métro Verdun)\, chaque 2e samedi du mois pour rencontrer nos bénévoles qui seront là pour ramasser: \n\n\n\nPilesAmpoulesPolystyrènePlastique #6Bouchons de liègeBouchons de plastiqueGoupillesAttaches à painBriquetsLunettesCartouches d’encrePetits électroniquesCrayons de feutres et stylos\n\n\n\n\nContact:FacebookDemain Verdundemainverdun@gmail.com \n\n\n\n\n\n\n\n\nÀ lire également \n\n\n		\n			\n									\n						\n							Ensemble Montréal veut accélérer la sécurisation aux abords des écoles						\n					\n									\n						\n							École Lajoie d’Outremont: une pétition réclame une «cour adéquate» pour les élèves						\n					\n									\n						\n							Bris d’aqueduc dans Saint-Michel: l’avis d’ébullition levé						\n					\n									\n						\n							La construction d’une école primaire au campus MIL est lancée						\n					\n									\n						\n							Verdun sécurise les abords de 3 écoles et 2 bandes cyclables
URL:https://journalmetro.com/evenement/au-dela-du-bac/
LOCATION:École Lévis-Sauvé\, 655 Rue Willibrord\, Montreal\, QC\, H4G 2T8\, Canada
CATEGORIES:Communautaire
ATTACH;FMTTYPE=image/jpeg:https://journalmetro.com/wp-content/uploads/2022/08/au-dela-du-bac.jpg
END:VEVENT
END:VCALENDAR