BEGIN:VCALENDAR
VERSION:2.0
PRODID:-//Journal Métro - ECPv6.0.13//NONSGML v1.0//EN
CALSCALE:GREGORIAN
METHOD:PUBLISH
X-WR-CALNAME:Journal Métro
X-ORIGINAL-URL:https://journalmetro.com
X-WR-CALDESC:évènements pour Journal Métro
REFRESH-INTERVAL;VALUE=DURATION:PT1H
X-Robots-Tag:noindex
X-PUBLISHED-TTL:PT1H
BEGIN:VTIMEZONE
TZID:America/Toronto
BEGIN:DAYLIGHT
TZOFFSETFROM:-0500
TZOFFSETTO:-0400
TZNAME:EDT
DTSTART:20230312T070000
END:DAYLIGHT
BEGIN:STANDARD
TZOFFSETFROM:-0400
TZOFFSETTO:-0500
TZNAME:EST
DTSTART:20231105T060000
END:STANDARD
END:VTIMEZONE
BEGIN:VEVENT
DTSTART;TZID=America/Toronto:20230617T080000
DTEND;TZID=America/Toronto:20230617T150000
DTSTAMP:20231018T180551
CREATED:20230503T121456Z
LAST-MODIFIED:20230503T122608Z
UID:10017395-1686988800-1687014000@journalmetro.com
SUMMARY:Bazar - École St-Marcel
DESCRIPTION:Bazar à l’école St-Marcel. En cas de pluie\, l’événement se tiendra au gymnase. \n\n\n\nSur place: animation\, musique\, cantine\, hot dog à 1$\, grignotines 1$\, breuvage 1$\, barbe à papa\, popcorn \n\n\n\nPour info: oppstmarcel@gmail.com \n\n\n\nPaiement par virement interac disponible \n\n\n\nInstallation des tables dès 7h\, accès aux toilettes \n\n\n\nParasol recommandé \n\n\n\nEmplacement pour 20$ \n\n\n\nEmplacement avec table pour 25$ \n\n\n\nRéservation: \n\n\n\nÀ l’école St-Marcel: entre 8h et 11h et 13h et 15h du lundi au vendredi (prévoir le montant exact) \n\n\n\nPar courriel: oppstmarcel@gmail.com \n\n\n\nNous acceptons les dons \n\n\n\nEntretien vélo à 5$ \n\n\n\n\nLubrification de la chaîne\n\n\n\n\n\nVérification des freins\n\n\n\n\n\nVéfication des pneus\n\n\n\n\nTous les profits de la location\, vente de la cantine et entretien de vélo seront pour des activités pour les élèves de St-Marcel.
URL:https://journalmetro.com/evenement/bazar/
LOCATION:École St-Marcel\, 1470 16e avenue\, Montréal\, QC\, Canada
ATTACH;FMTTYPE=image/jpeg:https://journalmetro.com/wp-content/uploads/2023/03/Bazar.jpg
END:VEVENT
END:VCALENDAR