BEGIN:VCALENDAR
VERSION:2.0
PRODID:-//Journal Métro - ECPv6.0.13//NONSGML v1.0//EN
CALSCALE:GREGORIAN
METHOD:PUBLISH
X-WR-CALNAME:Journal Métro
X-ORIGINAL-URL:https://journalmetro.com
X-WR-CALDESC:évènements pour Journal Métro
REFRESH-INTERVAL;VALUE=DURATION:PT1H
X-Robots-Tag:noindex
X-PUBLISHED-TTL:PT1H
BEGIN:VTIMEZONE
TZID:America/Toronto
BEGIN:DAYLIGHT
TZOFFSETFROM:-0500
TZOFFSETTO:-0400
TZNAME:EDT
DTSTART:20220313T070000
END:DAYLIGHT
BEGIN:STANDARD
TZOFFSETFROM:-0400
TZOFFSETTO:-0500
TZNAME:EST
DTSTART:20221106T060000
END:STANDARD
BEGIN:DAYLIGHT
TZOFFSETFROM:-0500
TZOFFSETTO:-0400
TZNAME:EDT
DTSTART:20230312T070000
END:DAYLIGHT
BEGIN:STANDARD
TZOFFSETFROM:-0400
TZOFFSETTO:-0500
TZNAME:EST
DTSTART:20231105T060000
END:STANDARD
END:VTIMEZONE
BEGIN:VEVENT
DTSTART;TZID=America/Toronto:20221030T150000
DTEND;TZID=America/Toronto:20221030T160500
DTSTAMP:20231016T114429
CREATED:20220922T132611Z
LAST-MODIFIED:20220922T132614Z
UID:10007714-1667142000-1667145900@journalmetro.com
SUMMARY:Les classiques éclatés - Trio Con moto
DESCRIPTION:Venez entendre et voir toutes les couleurs qui découlent de ce trio montréalais à la fois improbable et d’une grande cohérence. \n\n\n\nMusique \n\n\n\nValérie Milot (harpe)\, Jocelyne Roy (flûte) et Elvira Misbakhova (alto) vous proposent un concert atmosphérique autour de la sonate de Claude Debussy composée pour cette formation. Seront aussi au programme des œuvres de Prokofiev\, Chopin et une création du compositeur montréalais Airat Ichmouratov. \n\n\n\n65 minutes \n\n\n\nBillets disponibles dès le 16 octobre à 10h  \n\n\n\nÉglise Saint-Édouard – À l’angle des rues Saint-Denis et Beaubien\, l’entrée se fait par la rue Beaubien \n\n\n\nPour réserver \n\n\n\nMaximum de 2 billets par personne \n\n\n\nBilletterie \n\n\n\nPour s’informer \n\n\n\nMaison de la culture Rosemont–La Petite-Patrie \n\n\n\n514 872-1730 \n\n\n\nmaison_rpp@montreal.ca \n\n\n\nSite web de la Maison de la culture Rosemont–La Petite-Patrie \n\n\n\nSource: montreal.ca \n\n\n\nDates et horaires sont sujets à changement sans préavis. Avant de vous déplacer\, vérifier ces informations sur montreal.ca
URL:https://journalmetro.com/evenement/les-classiques-eclates-trio-con-moto/
LOCATION:Église Saint-Édouard\, À l'angle des rues Saint-Denis et Beaubien\, Montréal\, QC\, Canada
CATEGORIES:Communautaire
ATTACH;FMTTYPE=image/jpeg:https://journalmetro.com/wp-content/uploads/2022/09/les-classiques-eclates-2.jpg
END:VEVENT
BEGIN:VEVENT
DTSTART;TZID=America/Toronto:20230226T150000
DTEND;TZID=America/Toronto:20230226T160000
DTSTAMP:20231016T114429
CREATED:20230106T181946Z
LAST-MODIFIED:20230224T182802Z
UID:10009420-1677423600-1677427200@journalmetro.com
SUMMARY:HOME - Les Arrivants
DESCRIPTION:Venez découvrir l’univers musical de ces trois musiciens\, qui réunit les traditions du tango argentin\, de la musique arabe et des rythmes persans. \n\n\n\nMusique \n\n\n\nEnsemble composé d’Amichai Ben Shalev au bandonéon\, Abdul-Wahab Kayyali au oud et Hamin Honari au daf et aux percussions\, tous trois récemment installés à Montréal\, Les Arrivants interprètent un répertoire original qui réunit les traditions du tango argentin\, de la musique arabe et des rythmes persans. Un voyage musical tout en richesse et en complicité!  \n\n\n\n60 minutes\, suivi d’une discussion \n\n\n\nOuverture des portes 14 h 30 \n\n\n\nSource: montreal.ca \n\n\n\nDates et horaires sont sujets à changement sans préavis. Avant de vous déplacer\, vérifier ces informations sur montreal.ca
URL:https://journalmetro.com/evenement/home-les-arrivants/
LOCATION:Église Saint-Édouard\, À l'angle des rues Saint-Denis et Beaubien\, Montréal\, QC\, Canada
CATEGORIES:Communautaire
ATTACH;FMTTYPE=image/jpeg:https://journalmetro.com/wp-content/uploads/2023/01/les-arrivants-2.jpg
END:VEVENT
BEGIN:VEVENT
DTSTART;TZID=America/Toronto:20230326T150000
DTEND;TZID=America/Toronto:20230326T160000
DTSTAMP:20231016T114429
CREATED:20230106T194419Z
LAST-MODIFIED:20230226T161032Z
UID:10009424-1679842800-1679846400@journalmetro.com
SUMMARY:Trois violoncelles font des nœuds - Space Time Continuo - Trio de violoncelles
DESCRIPTION:Les trois musiciennes de Space Time Continuo – Trio de violoncelles explorent les couleurs et les textures du violoncelle baroque\, de la viole de gambe et de la basse de violon dans un répertoire pour 1\, 2 ou 3 instruments. \n\n\n\nMusique \n\n\n\nVenez découvrir la musique de compositeurs du 17e siècle et d’aujourd’hui : Carolo\, Gabrielli\, Dall’Abaco\, J. S. Bach\, Pachelbel et le montréalais Maxime McKinley. \n\n\n\nAmanda Keesmaat – violoncelle baroque\, basse de violon \n\n\n\nAndrea Stewart – violoncelle baroque\, viole de gambe \n\n\n\nElinor Frey – violoncelle baroque\, viole de gambe \n\n\n\nOuverture des portes à 14 h 30 \n\n\n\nMusique \n\n\n\n60 minutes \n\n\n\nEntrée libre \n\n\n\nSource: montreal.ca \n\n\n\nDates et horaires sont sujets à changement sans préavis. Avant de vous déplacer\, vérifier ces informations sur montreal.ca
URL:https://journalmetro.com/evenement/trois-violoncelles-font-des-noeuds-space-time-continuo-trio-de-violoncelles/
LOCATION:Église Saint-Édouard\, À l'angle des rues Saint-Denis et Beaubien\, Montréal\, QC\, Canada
ATTACH;FMTTYPE=image/jpeg:https://journalmetro.com/wp-content/uploads/2023/01/trois-violoncelles-2.jpg
END:VEVENT
BEGIN:VEVENT
DTSTART;TZID=America/Toronto:20230430T150000
DTEND;TZID=America/Toronto:20230430T160000
DTSTAMP:20231016T114429
CREATED:20230106T213629Z
LAST-MODIFIED:20230226T160634Z
UID:10009439-1682866800-1682870400@journalmetro.com
SUMMARY:Camino de mujeres - Mikha.elles
DESCRIPTION:Empreint de l’intimité de la musique latine\, ce concert transporte dans l’univers métissé de la chanteuse Mikhaëlle Salazar et de son nouveau collectif  Mikha.elles. \n\n\n\nMusique \n\n\n\nLa sensibilité de quatre voix uniques convergent\, dans un répertoire entièrement a cappella chanté en espagnol et en français. Les racines mixtes de Mikhaëlle Salazar racontent avec sensibilité l’universalité du chemin des femmes à travers une musique inspirée de multiples rencontres\, récits et expériences. \n\n\n\n60 minutes \n\n\n\nBillets disponibles dès le 16 avril \n\n\n\nOuverture des portes à 14 h 30 \n\n\n\nPrésentée dans le cadre du CAM en tournée. \n\n\n\nSource: montreal.ca \n\n\n\nDates et horaires sont sujets à changement sans préavis. Avant de vous déplacer\, vérifier ces informations sur montreal.ca
URL:https://journalmetro.com/evenement/camino-de-mujeres-mikha-elles/
LOCATION:Église Saint-Édouard\, À l'angle des rues Saint-Denis et Beaubien\, Montréal\, QC\, Canada
CATEGORIES:Communautaire
ATTACH;FMTTYPE=image/jpeg:https://journalmetro.com/wp-content/uploads/2023/01/camino-de-mujeres-2.jpg
END:VEVENT
END:VCALENDAR