BEGIN:VCALENDAR
VERSION:2.0
PRODID:-//Journal Métro - ECPv6.0.13//NONSGML v1.0//EN
CALSCALE:GREGORIAN
METHOD:PUBLISH
X-WR-CALNAME:Journal Métro
X-ORIGINAL-URL:https://journalmetro.com
X-WR-CALDESC:évènements pour Journal Métro
REFRESH-INTERVAL;VALUE=DURATION:PT1H
X-Robots-Tag:noindex
X-PUBLISHED-TTL:PT1H
BEGIN:VTIMEZONE
TZID:America/Toronto
BEGIN:DAYLIGHT
TZOFFSETFROM:-0500
TZOFFSETTO:-0400
TZNAME:EDT
DTSTART:20220313T070000
END:DAYLIGHT
BEGIN:STANDARD
TZOFFSETFROM:-0400
TZOFFSETTO:-0500
TZNAME:EST
DTSTART:20221106T060000
END:STANDARD
END:VTIMEZONE
BEGIN:VEVENT
DTSTART;TZID=America/Toronto:20220826T170000
DTEND;TZID=America/Toronto:20220826T170000
DTSTAMP:20231019T041949
CREATED:20220726T180923Z
LAST-MODIFIED:20220818T113309Z
UID:10006863-1661533200-1661533200@journalmetro.com
SUMMARY:Pique-nique des voisins.es
DESCRIPTION:Cinéma sous les étoiles (projection du film Kuessipan – L’amitié sans réserve) et danse avec djambola sont au programme. Repas et popcorn gratuits. Ambiance musicale avec DJ. Inscription obligatoire à participation.citoyenne@concertationstleonard.com
URL:https://journalmetro.com/evenement/pique-nique-des-voisins-es/
LOCATION:Espace citoyen de Saint-Léonard\, 8180 rue Collerette\, Montréal\, QC\, Canada
CATEGORIES:Communautaire
ATTACH;FMTTYPE=image/jpeg:https://journalmetro.com/wp-content/uploads/2022/07/Pique-nique-2-1.jpg
END:VEVENT
END:VCALENDAR