BEGIN:VCALENDAR
VERSION:2.0
PRODID:-//Journal Métro - ECPv6.0.13//NONSGML v1.0//EN
CALSCALE:GREGORIAN
METHOD:PUBLISH
X-WR-CALNAME:Journal Métro
X-ORIGINAL-URL:https://journalmetro.com
X-WR-CALDESC:évènements pour Journal Métro
REFRESH-INTERVAL;VALUE=DURATION:PT1H
X-Robots-Tag:noindex
X-PUBLISHED-TTL:PT1H
BEGIN:VTIMEZONE
TZID:America/Toronto
BEGIN:DAYLIGHT
TZOFFSETFROM:-0500
TZOFFSETTO:-0400
TZNAME:EDT
DTSTART:20230312T070000
END:DAYLIGHT
BEGIN:STANDARD
TZOFFSETFROM:-0400
TZOFFSETTO:-0500
TZNAME:EST
DTSTART:20231105T060000
END:STANDARD
END:VTIMEZONE
BEGIN:VEVENT
DTSTART;TZID=America/Toronto:20230707T160000
DTEND;TZID=America/Toronto:20230707T230000
DTSTAMP:20231018T154920
CREATED:20230629T201957Z
LAST-MODIFIED:20230630T164439Z
UID:10018551-1688745600-1688770800@journalmetro.com
SUMMARY:Les Premiers Vendredis - les Philippines
DESCRIPTION:Après une première fin de semaine brésilienne couronnée de succès\, Les Premiers Vendredis\, présentés par Skip\, seront de retour sur l’Esplanade du Parc olympique\, pour célébrer les Philippines le 7 juillet prochain! Un événement à ne pas manquer\, alors que les Premiers Vendredis connaissent la recette pour organiser un party mémorable : de la bonne bouffe\, de la musique rythmée\, et des amis. \n\n\n\nQu’est-ce qu’on cuisine en juillet ? \n\n\n\nLes Premiers Vendredis préparent des plats savoureux… et du gros fun ! Le restaurant familial Notre Pamilya servira de nombreuses spécialités issues des provinces de l’Illongo. De plus\, le restaurant Ocha ainsi que le Saint-Houblon\, appartenant à deux propriétaires philippins\, s’assureront de faire rayonner la culture de leur communauté. En effet\, spécialement pour l’occasion\, ils proposeront un menu reflétant les saveurs traditionnelles du pays. \n\n\n\nLes arômes les plus réputés sur cet archipel du Sud-Est asiatique seront également mis en valeur au Bistro SAQ\, alors que les participants de l’événement auront la chance de déguster un cocktail signature élaboré par le célèbre barman Loyd Von Rose. \n\n\n\nEt pour plaire à tous les goûts\, d’autres restaurateurs s’ajouteront à la programmation culinaire déjà bien alléchante ! Notamment: La Cabane à Chichis\, Gourmet Grill Traiteur\, Bleu Homard\, La Confrérie (La Queue du Diable)\, Churros Montréal\, Manago\, La boîte à crêpes\, Vincent Sous-Marin\, Le Café Strega\, Paella Marisol\, William J. Walter Fleury\, Bouillon de Saveurs Inc.\, Bistro l’Arepa\, BIBI Jus.cery\, Piri Piri\, Teddy\, Frisquet\, Boom Js cuisine\, Nouilles de Hui\, Saint-Houblon\, Érable Rouge\, Shaka Vibes\, Yakiniku Asian street BBQ\, Maquis Yasolo\, Ierba\, Gong Cha\, Bâtiment B\,  Patate-Twist\, Mr. Méchoui\, Di Lallo Burger\, Crémy\, OLAOLA et plus encore! \n\n\n\nTacos Frida se joindra également à la fête\, en occupant l’emblématique camion Skip. \n\n\n\nOn mange\, et après on danse ! \n\n\n\nFidèles à leur habitude\, Les Premiers Vendredis offriront une ambiance du tonnerre. La programmation musicale officielle sera bientôt dévoilée\, mais les performances d’Of Course\, The Holy ainsi que de DJ Cidoine sont déjà confirmées. Avec la présence de trois artistes présentés par belairdirect sur les scènes colorées de l’événement\, ce sera assurément un bon moment ! \n\n\n\nDonner à une bonne cause \n\n\n\nLe Centre Kapwa qui est une organisation à but non-lucratif (soutien à la santé mentale et à l’inclusion de la jeunesse et des familles philippines de Montréal) va donner en cadeau un pain traditionnel philippin aux donateurs qui participeront à leur levée de fonds le jour de l’événement. \n\n\n\nCf :  www.instagram.com/centrekapwa/ \n\n\n\nEncore plus de culture \n\n\n\nConstituée de DJs\, de chanteurs et de musiciens philippins\, la programmation culturelle sera bien diversifiée ! En effet\, afin de bien appuyer la thématique du mois\, de nombreux artistes seront invités à performer sur la scène de la Rue Culturelle. En voici une liste non-exhaustive : Rhea Foz\, Joseph Espinosa\, Jovonchy\, DJ Nino\, Deeclectic\, HONEYBUNN\, Ritzo\, Gwapo Mystizo\, MJ Cabana Deompoc\, Tamara Grace\, Dominique Brillantes\, Riz Gatsby\, Serge Cayanong\, Lou Celestino\, Cristine Toca et plus encore. \n\n\n\nLe propriétaire de chez Valeza Lifestyle sera aussi présent pour vendre ses vêtements\, inspirés des animes et de ses origines philippines. \n\n\n\nEn guise de rappel \n\n\n\nRendez-vous le 7 juillet 2023\, entre 16 h et 23 h. sur l’Esplanade du Stade olympique de Montréal. \n\n\n\nL’entrée sur le site est gratuite \n\n\n\nLe site est accessible aux personnes à mobilité réduite \n\n\n\nLes animaux de compagnie ne sont pas autorisés \n\n\n\nCet événement ne serait possible sans la collaboration de nos précieux partenaires : Skipthedishes – belairdirect – Voilà par IGA – Archibald – Distillerie Rosemont – Société des Alcools du Québec – Canadian Club – Cidrerie du Minot – Rise Kombucha – Smirnoff – 96.9 CKOI – The Beat 92.5 – Le Journal de Montréal – Publicité Sauvage – Le Cuisinomane – Go Cube \n\n\n\nLes Premiers Vendredis\, présentés par Skip\, constituent le plus grand rassemblement de camions-restaurants au Canada. C’est un événement récurrent qui se déroule chaque premier vendredi\, jusqu’au mois d’octobre. \n\n\n\nPour tout savoir sur les Premiers Vendredis\, suivez l’événement sur Facebook : @1ersVendredisMtl ou sur Instagram : @lespremiersvendredis
URL:https://journalmetro.com/evenement/les-premiers-vendredis-les-philippines/
LOCATION:Esplanade du Stade Olympique\, 4141 avenue Pierre-de-Coubertin\, Montréal\, QC\, Canada
CATEGORIES:Communautaire
ATTACH;FMTTYPE=image/jpeg:https://journalmetro.com/wp-content/uploads/2023/06/Copie-de-054A4551_AlexisMonet_1200x600.jpg
END:VEVENT
END:VCALENDAR