BEGIN:VCALENDAR
VERSION:2.0
PRODID:-//Journal Métro - ECPv6.0.13//NONSGML v1.0//EN
CALSCALE:GREGORIAN
METHOD:PUBLISH
X-WR-CALNAME:Journal Métro
X-ORIGINAL-URL:https://journalmetro.com
X-WR-CALDESC:évènements pour Journal Métro
REFRESH-INTERVAL;VALUE=DURATION:PT1H
X-Robots-Tag:noindex
X-PUBLISHED-TTL:PT1H
BEGIN:VTIMEZONE
TZID:America/Toronto
BEGIN:DAYLIGHT
TZOFFSETFROM:-0500
TZOFFSETTO:-0400
TZNAME:EDT
DTSTART:20230312T070000
END:DAYLIGHT
BEGIN:STANDARD
TZOFFSETFROM:-0400
TZOFFSETTO:-0500
TZNAME:EST
DTSTART:20231105T060000
END:STANDARD
END:VTIMEZONE
BEGIN:VEVENT
DTSTART;TZID=America/Toronto:20230215T190000
DTEND;TZID=America/Toronto:20230222T190000
DTSTAMP:20231016T135707
CREATED:20230127T155458Z
LAST-MODIFIED:20230127T160632Z
UID:10013048-1676487600-1677092400@journalmetro.com
SUMMARY:Les Apéros du Patin Libre au parc Lafontaine
DESCRIPTION:Sur la splendide patinoire naturelle du Parc La Fontaine\, à l’heure de l’apéro\, passez un beau moment avec les artistes-patineurs professionels de la compagnie Le Patin Libre. Ils offriront une brève performance de patinage contemporain avant d’animer une soirée dansante qui plaira aux amoureux confirmés du patinage comme aux débutants. Parfait pour une initiation\, une belle soirée en famille ou une sortie galante en plein-air. Enfants et adultes bienvenus. Débutants et experts bienvenus. \n\n\n\n19h: micro-performance de patinage contemporain par Le Patin Libre  \n\n\n\n19h15: atelier ludique de danse sur glace pour tout le monde\, débutants inclus  \n\n\n\n19h30: on danse tous ensemble\, bonne musique\, ambiance chouette
URL:https://journalmetro.com/evenement/les-aperos-du-patin-libre-au-parc-lafontaine-2/2023-02-15/
LOCATION:Étang du Parc Lafontaine\, 3819 avenue Calixa-Lavallée\, Montréal\, QC\, Canada
CATEGORIES:Communautaire
ATTACH;FMTTYPE=image/jpeg:https://journalmetro.com/wp-content/uploads/2023/01/image-apero-2023-2-1.jpg
END:VEVENT
END:VCALENDAR