BEGIN:VCALENDAR
VERSION:2.0
PRODID:-//Journal Métro - ECPv6.0.13//NONSGML v1.0//EN
CALSCALE:GREGORIAN
METHOD:PUBLISH
X-WR-CALNAME:Journal Métro
X-ORIGINAL-URL:https://journalmetro.com
X-WR-CALDESC:évènements pour Journal Métro
REFRESH-INTERVAL;VALUE=DURATION:PT1H
X-Robots-Tag:noindex
X-PUBLISHED-TTL:PT1H
BEGIN:VTIMEZONE
TZID:America/Toronto
BEGIN:DAYLIGHT
TZOFFSETFROM:-0500
TZOFFSETTO:-0400
TZNAME:EDT
DTSTART:20220313T070000
END:DAYLIGHT
BEGIN:STANDARD
TZOFFSETFROM:-0400
TZOFFSETTO:-0500
TZNAME:EST
DTSTART:20221106T060000
END:STANDARD
END:VTIMEZONE
BEGIN:VEVENT
DTSTART;TZID=America/Toronto:20221205T090000
DTEND;TZID=America/Toronto:20221206T160000
DTSTAMP:20231012T204139
CREATED:20221129T181735Z
LAST-MODIFIED:20230329T144244Z
UID:10008901-1670230800-1670342400@journalmetro.com
SUMMARY:Bazar/Brocante de livres
DESCRIPTION:Éducation 3e âge du Collège de Maisonneuve tient un bazar/brocante de livres\, CD\, casse-têtes usagés les 5 et 6 décembre\, de 9h à 16h\, dans le foyer du Collège de Maisonneuve (entrée du 2701 rue Nicolet). Éducation 3e âge versera 60% des revenus de son bazar à la fondation du Collège de Maisonneuve pour l’aider à garnir les paniers de Noël destinés aux étudiants dans le besoin.
URL:https://journalmetro.com/evenement/bazar-brocante-de-livres/
LOCATION:Foyer du Collège de Maisonneuve\, 2701 rue Nicolet\, Montréal\, QC\, Canada
ATTACH;FMTTYPE=image/jpeg:https://journalmetro.com/wp-content/uploads/2022/11/vente-de-livres-2.jpg
END:VEVENT
END:VCALENDAR