BEGIN:VCALENDAR
VERSION:2.0
PRODID:-//Journal Métro - ECPv6.0.13//NONSGML v1.0//EN
CALSCALE:GREGORIAN
METHOD:PUBLISH
X-WR-CALNAME:Journal Métro
X-ORIGINAL-URL:https://journalmetro.com
X-WR-CALDESC:évènements pour Journal Métro
REFRESH-INTERVAL;VALUE=DURATION:PT1H
X-Robots-Tag:noindex
X-PUBLISHED-TTL:PT1H
BEGIN:VTIMEZONE
TZID:America/Toronto
BEGIN:DAYLIGHT
TZOFFSETFROM:-0500
TZOFFSETTO:-0400
TZNAME:EDT
DTSTART:20230312T070000
END:DAYLIGHT
BEGIN:STANDARD
TZOFFSETFROM:-0400
TZOFFSETTO:-0500
TZNAME:EST
DTSTART:20231105T060000
END:STANDARD
END:VTIMEZONE
BEGIN:VEVENT
DTSTART;TZID=America/Toronto:20230521T140000
DTEND;TZID=America/Toronto:20230521T170000
DTSTAMP:20231016T111418
CREATED:20230516T144534Z
LAST-MODIFIED:20230516T144539Z
UID:10017586-1684677600-1684688400@journalmetro.com
SUMMARY:Vernissage - Karina Kelly
DESCRIPTION:Venez rencontrer l’artiste Karina Kelly\, artiste peintre depuis plus de 15 ans\, dont le sujet principal depuis quelques années sont les fleurs.  \n\n\n\nSon art\, résolument contemporain\, est à la fois abstrait et figuratif. L’artiste crée des oeuvres éclatantes\, dont les couleurs vives font ressortir la profondeur de la composition. La peinture\, principalement étalée au couteau en couches épaisses\, donnent des oeuvres fascinantes. Karina Kelly sait comment faire respirer la surface de la toile en laissant certains espaces libres\, voire plus doux. Chaque oeuvre est empreinte d’une vibrance émotionnelle au fort pouvoir évocateur de pur bonheur!
URL:https://journalmetro.com/evenement/vernissage-karina-kelly/
LOCATION:Galerie d’art Le Luxart\, 66 rue Saint-Paul Ouest\, Montréal\, QC\, Canada
CATEGORIES:Communautaire
ATTACH;FMTTYPE=image/jpeg:https://journalmetro.com/wp-content/uploads/2023/05/KarinaKelly_1200x600.jpg
END:VEVENT
END:VCALENDAR