BEGIN:VCALENDAR
VERSION:2.0
PRODID:-//Journal Métro - ECPv6.0.13//NONSGML v1.0//EN
CALSCALE:GREGORIAN
METHOD:PUBLISH
X-WR-CALNAME:Journal Métro
X-ORIGINAL-URL:https://journalmetro.com
X-WR-CALDESC:évènements pour Journal Métro
REFRESH-INTERVAL;VALUE=DURATION:PT1H
X-Robots-Tag:noindex
X-PUBLISHED-TTL:PT1H
BEGIN:VTIMEZONE
TZID:America/Toronto
BEGIN:DAYLIGHT
TZOFFSETFROM:-0500
TZOFFSETTO:-0400
TZNAME:EDT
DTSTART:20220313T070000
END:DAYLIGHT
BEGIN:STANDARD
TZOFFSETFROM:-0400
TZOFFSETTO:-0500
TZNAME:EST
DTSTART:20221106T060000
END:STANDARD
BEGIN:DAYLIGHT
TZOFFSETFROM:-0500
TZOFFSETTO:-0400
TZNAME:EDT
DTSTART:20230312T070000
END:DAYLIGHT
BEGIN:STANDARD
TZOFFSETFROM:-0400
TZOFFSETTO:-0500
TZNAME:EST
DTSTART:20231105T060000
END:STANDARD
END:VTIMEZONE
BEGIN:VEVENT
DTSTART;TZID=America/Toronto:20220802T100000
DTEND;TZID=America/Toronto:20220828T170000
DTSTAMP:20231012T211918
CREATED:20220720T164519Z
LAST-MODIFIED:20220806T200904Z
UID:10006807-1659434400-1661706000@journalmetro.com
SUMMARY:Exposition Don't Look Down - Philippe Allard
DESCRIPTION:L’artiste contemporain Philippe Allard vit et travaille à Montréal. Ses œuvres ont fait l’objet d’expositions individuelles et collectives au Canada\, en France\, au Portugal\, au Maroc et en Corée du Sud. Notons particulièrement celles présentées au Centre Articule\, à la Fonderie Darling\, à Dare-dare\, au Confederation Centre de Charlottetown\, ainsi qu’au Musée d’art de Joliette. \n\n\n\nDans cette exposition présentée à la Galerie Port-Maurice\, Philippe Allard reprend et reproduit des images d’une portion de ses œuvres réalisées au cours des 14 dernières années.  \n\n\n\nDans une vision durable\, l’artiste exprime son engagement politique face aux enjeux environnementaux de notre société. En réutilisant des matériaux de l’industrie ou de notre quotidien pour intervenir dans l’espace public et créer des installations insolites\, l’artiste nous fait réfléchir sur la surutilisation des matières premières et l’empreinte écologique sur la planète. \n\n\n\nRécipiendaire de plusieurs prix\, Philippe Allard a réalisé à ce jour huit œuvres d’intégration à l’architecture et est en voie d’en réaliser trois autres\, dont celle du nouveau centre de tri des matières organiques pour le Bureau d’art public de la Ville de Montréal\, en collaboration avec l’artiste Alexandre Burton.  \n\n\n\n\n\n\n\n\nPour s’informer \n\n\n\nCulture Saint-Léonard \n\n\n\n514-328-8500 poste 8514 \n\n\n\nculturesaintleonard@montreal.ca \n\n\n\n\nSite web de Philippe Allard \n\n\n\nSource: montréal.ca \n\n\n\nDates et horaires sont sujets à changement sans préavis. Avant de vous déplacer\, vérifier ces informations sur montreal.ca
URL:https://journalmetro.com/evenement/exposition-dont-look-down-philippe-allard/
LOCATION:Galerie Port-Maurice\, 8420 boulevard Lacordaire\, Montréal\, QC\, H1R3G5\, Canada
CATEGORIES:Communautaire
ATTACH;FMTTYPE=image/jpeg:https://journalmetro.com/wp-content/uploads/2022/07/expophilallard.jpg
END:VEVENT
BEGIN:VEVENT
DTSTART;TZID=America/Toronto:20220916T193000
DTEND;TZID=America/Toronto:20220916T201500
DTSTAMP:20231012T211918
CREATED:20220824T164918Z
LAST-MODIFIED:20220906T153214Z
UID:10007246-1663356600-1663359300@journalmetro.com
SUMMARY:Dansaville en tournée - Festival international de projection illusionniste de Montréal
DESCRIPTION:Dansaville\, une promenade en projections et danse. Rassemble 3 entités\, l’organisme MAPP_MTL\, le studio LELOI et la danseuse et chorégraphe Mistaya Hemingway. \n\n\n\nCette collaboration transforme le patrimoine urbain en scène publique grandiose. Le déploiement de projections mobiles spectaculaires met en scène cinq rencontres dansées\, entre traditionnel et moderne. La rencontre est au cœur de ce projet\, qui superpose l’utilisation des nouvelles technologies numériques au patrimoine architectural. Par la « projection mapping » et l’univers sonore\, ce projet fait vibrer la ville devenue scène\, tel un plancher sous les talons d’une danseuse de flamenco géante. La performance est magnifiée\, l’environnement habité et profondément vivant. \n\n\n\nSource: montreal.ca \n\n\n\nDates et horaires sont sujets à changement sans préavis. Avant de vous déplacer\, vérifier ces informations sur montreal.ca \n\n\n\n\n\n\n\nUn événement présenté dans le cadre du CAM en tournée.
URL:https://journalmetro.com/evenement/dansaville-en-tournee-festival-international-de-projection-illusionniste-de-montreal/
LOCATION:Galerie Port-Maurice\, 8420 boulevard Lacordaire\, Montréal\, QC\, H1R3G5\, Canada
CATEGORIES:Communautaire
ATTACH;FMTTYPE=image/jpeg:https://journalmetro.com/wp-content/uploads/2022/08/dansaville-en-tournee-2.jpg
END:VEVENT
BEGIN:VEVENT
DTSTART;TZID=America/Toronto:20221019T180000
DTEND;TZID=America/Toronto:20221113T180000
DTSTAMP:20231012T211918
CREATED:20220824T164054Z
LAST-MODIFIED:20220824T164148Z
UID:10007245-1666202400-1668362400@journalmetro.com
SUMMARY:Autel - Dia de muertos de PAAL - Partageons le monde
DESCRIPTION:Venez découvrir l’exposition participative Autel – Dia de muertos qui vous plongera dans l’ambiance mexicaine du Jour de Morts. \n\n\n\nL’exposition Autel – Dia de muertos propose à la communauté de St-Léonard de découvrir la signification d’une des plus vieilles traditions mexicaines\, le Jour des morts. \n\n\n\nCette exposition est aussi participative:  \n\n\n\nLa création des éléments décoratifs de l’autel sera réalisée à l’avance avec des résidents du quartier.  \n\n\n\nLe public pourra en apprécier toutes les facettes. \n\n\n\nLes personnes qui le désirent seront invitées à apporter et déposer une photo ou un objet d’un être cher disparu\, afin qu’il puisse faire partie de l’autel. \n\n\n\nC’est donc une vraie célébration du Jour des morts qui vous est présentée\, telle qu’on la retrouve encore de nos jours au Mexique ! \n\n\n\nUn vernissage est organisé le mercredi 19 octobre 2022 à 18h. \n\n\n\nUn atelier artistique à faire en famille est offert le samedi 15 octobre à 15h: création de squelette en argile. \n\n\n\nUn autre atelier artistique pour petits et grands est proposé le mercredi 19 octobre à 18h30: la création de crânes mexicains en papier. \n\n\n\nSource: montreal.ca \n\n\n\nPour s’informer \n\n\n\n514 328-8500 Poste 8514 \n\n\n\nculturesaintleonard@montreal.ca \n\n\n\nDates et horaires sont sujets à changement sans préavis. Avant de vous déplacer\, vérifier ces informations sur montreal.ca
URL:https://journalmetro.com/evenement/autel-dia-de-muertos-de-paal-partageons-le-monde/
LOCATION:Galerie Port-Maurice\, 8420 boulevard Lacordaire\, Montréal\, QC\, H1R3G5\, Canada
CATEGORIES:Communautaire
ATTACH;FMTTYPE=image/jpeg:https://journalmetro.com/wp-content/uploads/2022/08/dia-de-muertos-2.jpg
END:VEVENT
BEGIN:VEVENT
DTSTART;TZID=America/Toronto:20230323T100000
DTEND;TZID=America/Toronto:20230514T170000
DTSTAMP:20231012T211918
CREATED:20230321T171939Z
LAST-MODIFIED:20230321T171942Z
UID:10016336-1679565600-1684083600@journalmetro.com
SUMMARY:Perspectives Hip-Hop Qc - Marven Clerveau
DESCRIPTION:Venez découvrir l’univers du Hip-Hop québécois grâce aux oeuvres de l’artiste multidisciplinaire et montréalais\, Marven Clerveau. \n\n\n\nÀ travers l’exposition Perspectives Hip-Hop Qc.\, Marven Clerveau nous fait découvrir l’univers méconnu de la scène hip-hop québécoise. \n\n\n\nSes oeuvres\, des tableaux grands formats créés à partir de peinture et de collage\, représentent plusieurs personnalités issues de la diversité culturelle québécoise et canadienne\, et qui ont marqué le hip-hop québécois.   \n\n\n\nEnrichie par des documents d’archives\, l’exposition est un bel hommage à l’art et à la musique! \n\n\n\nVenez rencontrer l’artiste lors du VERNISSAGE le 24 mars 2023 à 18h30 à la Bibliothèque de Saint-Léonard ! \n\n\n\nSource: montreal.ca \n\n\n\nDates et horaires sont sujets à changement sans préavis. Avant de vous déplacer\, vérifier ces informations sur montreal.ca
URL:https://journalmetro.com/evenement/perspectives-hip-hop-qc-marven-clerveau/
LOCATION:Galerie Port-Maurice\, 8420 boulevard Lacordaire\, Montréal\, QC\, H1R3G5\, Canada
CATEGORIES:Communautaire
ATTACH;FMTTYPE=image/jpeg:https://journalmetro.com/wp-content/uploads/2023/03/ST-LEONARD_Perspective-1.jpg
END:VEVENT
BEGIN:VEVENT
DTSTART;TZID=America/Toronto:20230601T133000
DTEND;TZID=America/Toronto:20230820T183000
DTSTAMP:20231012T211918
CREATED:20230615T154805Z
LAST-MODIFIED:20230615T154807Z
UID:10018096-1685626200-1692556200@journalmetro.com
SUMMARY:REGALIA Fierté Autochtone par Roland Lorente & Aline Saffore.
DESCRIPTION:La danse traditionnelle joue un rôle central dans les Pow-Wow. À mi-chemin entre le sacré et l’expression artistique\, les danseurs  y portent des tenues traditionnelles\, les regalia\, confectionnées à leur image ces créations et donne la paroles aux danseurs. \n\n\n\nDescription\n\n\n\nLa danse traditionnelle joue un rôle central dans les Pow-Wow\, ces rencontres amicales et festives entre Premières Nations. À mi-chemin entre le sacré et l’expression artistique\, les danseurs y honorent la terre mère\, leurs ancêtres et leurs semblables. Ils y portent des tenues traditionnelles\, les regalia\, confectionnées à leur image REGALIA\, fierté Autochtone révèle la splendeur de ces créations et donne la paroles aux danseurs.
URL:https://journalmetro.com/evenement/regalia-fierte-autochtone-par-roland-lorente-aline-saffore/
LOCATION:Galerie Port-Maurice\, 8420 boulevard Lacordaire\, Montréal\, QC\, H1R3G5\, Canada
CATEGORIES:Communautaire
ATTACH;FMTTYPE=image/jpeg:https://journalmetro.com/wp-content/uploads/2023/06/a5wdzcrpylcm6teghkrs-Cropped.jpg
END:VEVENT
BEGIN:VEVENT
DTSTART;TZID=America/Toronto:20230601T133000
DTEND;TZID=America/Toronto:20230820T183000
DTSTAMP:20231012T211918
CREATED:20230602T205115Z
LAST-MODIFIED:20230605T153738Z
UID:10017881-1685626200-1692556200@journalmetro.com
SUMMARY:REGALIA Fierté Autochtone par Roland Laurente & Aline Saffore
DESCRIPTION:La danse traditionnelle joue un rôle central dans les Pow-Wow. À mi-chemin entre le sacré et l’expression artistique\, les danseurs  y portent des tenues traditionnelles\, les regalia\, confectionnées à leur image ces créations et donne la paroles aux danseurs. \n\n\n\nLa danse traditionnelle joue un rôle central dans les Pow-Wow\, ces rencontres amicales et festives entre Premières Nations. À mi-chemin entre le sacré et l’expression artistique\, les danseurs y honorent la terre mère\, leurs ancêtres et leurs semblables. Ils y portent des tenues traditionnelles\, les regalia\, confectionnées à leur image REGALIA\, fierté Autochtone révèle la splendeur de ces créations et donne la paroles aux danseurs. \n\n\n\nSource: montreal.ca \n\n\n\nDates et horaires sont sujets à changement sans préavis. Avant de vous déplacer\, vérifier ces informations sur montreal.ca
URL:https://journalmetro.com/evenement/regalia-fierte-autochtone-par-roland-laurente-aline-saffore/
LOCATION:Galerie Port-Maurice\, 8420 boulevard Lacordaire\, Montréal\, QC\, H1R3G5\, Canada
ATTACH;FMTTYPE=image/jpeg:https://journalmetro.com/wp-content/uploads/2023/06/REGALIA.jpg
END:VEVENT
END:VCALENDAR