BEGIN:VCALENDAR
VERSION:2.0
PRODID:-//Journal Métro - ECPv6.0.13//NONSGML v1.0//EN
CALSCALE:GREGORIAN
METHOD:PUBLISH
X-WR-CALNAME:Journal Métro
X-ORIGINAL-URL:https://journalmetro.com
X-WR-CALDESC:évènements pour Journal Métro
REFRESH-INTERVAL;VALUE=DURATION:PT1H
X-Robots-Tag:noindex
X-PUBLISHED-TTL:PT1H
BEGIN:VTIMEZONE
TZID:America/Toronto
BEGIN:DAYLIGHT
TZOFFSETFROM:-0500
TZOFFSETTO:-0400
TZNAME:EDT
DTSTART:20220313T070000
END:DAYLIGHT
BEGIN:STANDARD
TZOFFSETFROM:-0400
TZOFFSETTO:-0500
TZNAME:EST
DTSTART:20221106T060000
END:STANDARD
END:VTIMEZONE
BEGIN:VEVENT
DTSTART;TZID=America/Toronto:20221020T100000
DTEND;TZID=America/Toronto:20221020T170000
DTSTAMP:20231016T180504
CREATED:20221018T191405Z
LAST-MODIFIED:20221019T160807Z
UID:10008280-1666260000-1666285200@journalmetro.com
SUMMARY:Salon de gériatrie sociale Saint-Laurent
DESCRIPTION:La Fondation Demeures Sainte-Croix\, l’équipe de Demeures Sainte-Croix et l’équipe de Gériatrie Sociale CommunAînés\, préparent un évènement d’envergure pour la communauté de Saint-Laurent: il s’agit du Salon Gériatrie Sociale Saint-Laurent! \n\n\n\nPrésence du Dr. Stéphane Lemire. \n\n\n\nExposants et Conférences d’organismes communautaires\, privés et publics vous attendent tout au long de la journée! \n\n\n\nPlusieurs prix de présence pour vous et accessibilité pour tous!
URL:https://journalmetro.com/evenement/salon-de-geriatrie-sociale-saint-laurent/
LOCATION:Gériatrie sociale CommunAînés\, 1225 avenue Sainte-Croix\, Montréal\, QC\, Canada
ATTACH;FMTTYPE=image/jpeg:https://journalmetro.com/wp-content/uploads/2022/10/Geriatrie-1.jpg
END:VEVENT
END:VCALENDAR