BEGIN:VCALENDAR
VERSION:2.0
PRODID:-//Journal Métro - ECPv6.0.13//NONSGML v1.0//EN
CALSCALE:GREGORIAN
METHOD:PUBLISH
X-WR-CALNAME:Journal Métro
X-ORIGINAL-URL:https://journalmetro.com
X-WR-CALDESC:évènements pour Journal Métro
REFRESH-INTERVAL;VALUE=DURATION:PT1H
X-Robots-Tag:noindex
X-PUBLISHED-TTL:PT1H
BEGIN:VTIMEZONE
TZID:America/Toronto
BEGIN:DAYLIGHT
TZOFFSETFROM:-0500
TZOFFSETTO:-0400
TZNAME:EDT
DTSTART:20230312T070000
END:DAYLIGHT
BEGIN:STANDARD
TZOFFSETFROM:-0400
TZOFFSETTO:-0500
TZNAME:EST
DTSTART:20231105T060000
END:STANDARD
END:VTIMEZONE
BEGIN:VEVENT
DTSTART;TZID=America/Toronto:20230701T000000
DTEND;TZID=America/Toronto:20230904T235959
DTSTAMP:20231016T140546
CREATED:20230615T020459Z
LAST-MODIFIED:20230618T170540Z
UID:10018080-1688169600-1693871999@journalmetro.com
SUMMARY:Activités citoyennes à la roseraie
DESCRIPTION:Venez découvrir un tout nouvel espace citoyen en plein cœur du jardin de la roseraie! \n\n\n\nDans cet endroit magnifique\, venez apprendre et vous amuser en participant à une panoplie d’ateliers\, de cours et de conférences pour tous les goûts. C’est gratuit pour tous! \n\n\n\nCet été\, profitez de plusieurs activités offertes à la roseraie :  \n\n\n\n\n\n➤ Cours de yoga en plein air\n\n\n\n➤ Conférences horticoles\n\n\n\n\n\n➤ Agriculture urbaine\n\n\n\n➤ Fabrication de cabanes d’oiseaux\n\n\n\n\n\n➤ Fabrication de marionnettes\n\n\n\n➤ Aquarelle\n\n\n\n\n\n\n\n\n\n\n\n\n\n\n\n\n\n\n\n\n\n\n\n\n\n\n\n\n\n\n\nPour en savoir davantage\, visitez le parcjeandrapeau.com ou suivez les réseaux sociaux du parc Jean-Drapeau! \n\n\n\n\n\n\n\n\n\n\n\nFacebook\n\nInstagram\n\nTwitter\n\nYouTube
URL:https://journalmetro.com/evenement/activites-citoyennes-a-la-roseraie/
LOCATION:La Roseraie\, 200 Chem. du Tour de l'isle\, Montréal\, QC\, H3C 4G8\, Canada
CATEGORIES:Promotionnel
ATTACH;FMTTYPE=image/jpeg:https://journalmetro.com/wp-content/uploads/2023/06/Explorez-Calendrier-Evenement-Parc-Jean-Drapeau-3.jpg
END:VEVENT
END:VCALENDAR