BEGIN:VCALENDAR
VERSION:2.0
PRODID:-//Journal Métro - ECPv6.0.13//NONSGML v1.0//EN
CALSCALE:GREGORIAN
METHOD:PUBLISH
X-WR-CALNAME:Journal Métro
X-ORIGINAL-URL:https://journalmetro.com
X-WR-CALDESC:évènements pour Journal Métro
REFRESH-INTERVAL;VALUE=DURATION:PT1H
X-Robots-Tag:noindex
X-PUBLISHED-TTL:PT1H
BEGIN:VTIMEZONE
TZID:America/Toronto
BEGIN:DAYLIGHT
TZOFFSETFROM:-0500
TZOFFSETTO:-0400
TZNAME:EDT
DTSTART:20230312T070000
END:DAYLIGHT
BEGIN:STANDARD
TZOFFSETFROM:-0400
TZOFFSETTO:-0500
TZNAME:EST
DTSTART:20231105T060000
END:STANDARD
END:VTIMEZONE
BEGIN:VEVENT
DTSTART;TZID=America/Toronto:20230608T000000
DTEND;TZID=America/Toronto:20230611T000000
DTSTAMP:20231018T161514
CREATED:20230608T154846Z
LAST-MODIFIED:20230608T154847Z
UID:10018008-1686182400-1686441600@journalmetro.com
SUMMARY:Pantoufle du quartier - exposition
DESCRIPTION:L’exposition Pantoufle de quartier\, de l’artiste Carolina Echeverria\, aura lieu du 8 au 11 juin 2023.  \n\n\n\nÉcoutez-là raconter l’histoire derrière cette exposition: \n\n\n\n« Cette année\, la ville de Laval m’a invitée à parler du projet La Pantoufle du quartier (PdQ) afin d’inspirer d’autres médiateurs culturels\, comme moi\, à développer des idées sur la manière de faire participer le public. J’ai été surprise que quelque chose d’aussi simple qu’une pantoufle suscite autant d’intérêt. Mais la simplicité a une valeur inestimable. Ces pantoufles de tous les jours ont été le point de départ d’une discussion plus large sur le rôle important que jouent les immigrants dans la société québécoise d’aujourd’hui. \n\n\n\nIl est préférable de parler de ce qui peut nous unir plutôt que de ce qui ne le fait pas\, alors que nous portons tous des pantoufles. \n\n\n\nIl s’agit de mon dernier projet avant de quitter Immigrant de souche (Native-Immigrant)\, une organisation que j’ai fondée il y a dix ans. À travers Immigrant de souche\, j’ai cherché à construire de beaux ponts entre les immigrants et les premières nations  afin d’inspirer l’amour pour cette terre. Financé par la Ville de Montréal\, La Pantoufle du quartier est un projet de médiation culturelle qui utilise la pantoufle comme un pont entre les communautés. \n\n\n\nPdQ est mon rêve d’une marque de style de vie renouvelée pour le Québec. Inspiré par la croyance traditionnelle des Kanien’kehá:ka selon laquelle les enfants viennent au monde avec un cadeau\, PdQ fonctionne comme une collaboration active et inclusive d’échange culturel.  À l’instar de la cosmo-vision des Kanien’kehá:ka\, nous croyons que tous les immigrants arrivent sur cette terre avec un cadeau\, celui de leur propre culture. \n\n\n\nJanelle Gauthier\, de Matane\, m’a raconté qu’en grandissant\, l’hiver était la saison de la confection de pantoufles. En discutant avec divers amis autochtones et immigrés\, nous nous sommes rapprochés de l’expérience commune qui consiste à enlever nos chaussures lorsque nous entrons dans les maisons de nos amis québécois. Au Québec\, il est courant d’enlever ses chaussures et d’utiliser les pantoufles en phentex offertes à l’entrée de la maison. \n\n\n\n Une nouvelle idée passionnante a émergé : prendre un objet simple et familier comme une pantoufle en phentex et lui donner une superbe métamorphose inspirée par la grande diversité culturelle des artistes montréalais. \n\n\n\nGrâce au financement de la Ville de Montréal pour ce programme\, une douzaine d’artistes ont présenté leurs créations aux nombreux participants qui ont assisté à nos ateliers. Je suis encore plus reconnaissante envers tous ceux qui ont été inspirés par le défi.   \n\n\n\nC’est en s’approchant et en collaborant les uns avec les autres que l’on peut réinventer un nouveau Québec ! \n\n\n\nAu cours des deux dernières années\, nous avons organisé plus de cinquante ateliers et guidé plus d’une centaine de participants dans cette initiative créative et inspirante. Rejoignez-nous et laissez-vous émerveiller par la magnifique collection de pantoufles. Serait-ce le début d’une nouvelle économie sociale\, où les aînés\, les nouveaux arrivants et les premiers peuples collaboreront à la création d’une nouvelle image de ce que nous sommes en tant que nation? » \n\n\n\nL’exposition aura lieu du 8 au 11 juin 2023.
URL:https://journalmetro.com/evenement/pantoufle-du-quartier-exposition/
LOCATION:Le Belgo\, 372 rue Sainte-Catherine Ouest\, Montréal\, QC\, Canada
CATEGORIES:Communautaire
ATTACH;FMTTYPE=image/jpeg:https://journalmetro.com/wp-content/uploads/2023/06/PantoufleQuartier_1200x600jpg.jpg
END:VEVENT
END:VCALENDAR