BEGIN:VCALENDAR
VERSION:2.0
PRODID:-//Journal Métro - ECPv6.0.13//NONSGML v1.0//EN
CALSCALE:GREGORIAN
METHOD:PUBLISH
X-WR-CALNAME:Journal Métro
X-ORIGINAL-URL:https://journalmetro.com
X-WR-CALDESC:évènements pour Journal Métro
REFRESH-INTERVAL;VALUE=DURATION:PT1H
X-Robots-Tag:noindex
X-PUBLISHED-TTL:PT1H
BEGIN:VTIMEZONE
TZID:America/Toronto
BEGIN:DAYLIGHT
TZOFFSETFROM:-0500
TZOFFSETTO:-0400
TZNAME:EDT
DTSTART:20230312T070000
END:DAYLIGHT
BEGIN:STANDARD
TZOFFSETFROM:-0400
TZOFFSETTO:-0500
TZNAME:EST
DTSTART:20231105T060000
END:STANDARD
END:VTIMEZONE
BEGIN:VEVENT
DTSTART;TZID=America/Toronto:20230319T100000
DTEND;TZID=America/Toronto:20230319T150000
DTSTAMP:20231018T170725
CREATED:20230228T191747Z
LAST-MODIFIED:20230228T205759Z
UID:10015535-1679220000-1679238000@journalmetro.com
SUMMARY:Journée Portes Ouvertes – Le Sommet de la Rive
DESCRIPTION:514-768-8880 \n\n\n\nContenu promotionnel \n\n\n\n\n\n\n\n\n\n\n\n\n\n\n\nNe manquez pas la journée Portes Ouvertes de la résidence Le Sommet de la Rive!   \n\n\n\nVenez visiter leurs appartements modèles\, le dimanche 19 mars de 10h à 15h. \n\n\n\n\n\n\n\n\n\n\n\n\n\n\n\n\n\n\n\n\n\n\n\n\n\n\n\n\n\n\n\n\n\nVisitez le sommetdelarive.com pour plus d’information. \n\n\n\n\n\n\n\nFacebook
URL:https://journalmetro.com/evenement/journee-portes-ouvertes/
LOCATION:Le Sommet de la Rive\, 3501 Boul. Gaétan-Laberge\, Verdun\, QC\, H4G0A2\, Canada
CATEGORIES:Promotionnel
ATTACH;FMTTYPE=image/jpeg:https://journalmetro.com/wp-content/uploads/2023/02/2000x1000-sommet-de-la-rive.jpg
END:VEVENT
BEGIN:VEVENT
DTSTART;TZID=America/Toronto:20230423T100000
DTEND;TZID=America/Toronto:20230423T150000
DTSTAMP:20231018T170725
CREATED:20230317T161918Z
LAST-MODIFIED:20230317T162409Z
UID:10016285-1682244000-1682262000@journalmetro.com
SUMMARY:Journée Portes Ouvertes - Le Sommet de la Rive
DESCRIPTION:Contenu promotionnel \n\n\n\n\n\n\n\n514-768-8880 \n\n\n\n\n\n\n\n\n\n\n\nNe manquez pas la journée Portes Ouvertes de la résidence Le Sommet de la Rive!   \n\n\n\nVenez visiter leurs appartements modèles\, le dimanche 23 avril de 10h à 15h. \n\n\n\n\n\n\n\n\n\n\n\n\n\n\n\n\n\n\n\n\n\n\n\n\n\n\n\n\n\n\n\n\n\n \n\n\n\n\n\n\n\nVisitez le sommetdelarive.com pour plus d’information. \n\n\n\n\n\n\n\nFacebook
URL:https://journalmetro.com/evenement/journee-portes-ouvertes-le-sommet-de-la-rive/
LOCATION:Le Sommet de la Rive\, 3501 Boul. Gaétan-Laberge\, Verdun\, QC\, H4G0A2\, Canada
CATEGORIES:Promotionnel
ATTACH;FMTTYPE=image/jpeg:https://journalmetro.com/wp-content/uploads/2023/03/2000x1000-sommet-de-la-rive.jpg
END:VEVENT
END:VCALENDAR