BEGIN:VCALENDAR
VERSION:2.0
PRODID:-//Journal Métro - ECPv6.0.13//NONSGML v1.0//EN
CALSCALE:GREGORIAN
METHOD:PUBLISH
X-WR-CALNAME:Journal Métro
X-ORIGINAL-URL:https://journalmetro.com
X-WR-CALDESC:évènements pour Journal Métro
REFRESH-INTERVAL;VALUE=DURATION:PT1H
X-Robots-Tag:noindex
X-PUBLISHED-TTL:PT1H
BEGIN:VTIMEZONE
TZID:America/Toronto
BEGIN:DAYLIGHT
TZOFFSETFROM:-0500
TZOFFSETTO:-0400
TZNAME:EDT
DTSTART:20230312T070000
END:DAYLIGHT
BEGIN:STANDARD
TZOFFSETFROM:-0400
TZOFFSETTO:-0500
TZNAME:EST
DTSTART:20231105T060000
END:STANDARD
END:VTIMEZONE
BEGIN:VEVENT
DTSTART;TZID=America/Toronto:20230215T000000
DTEND;TZID=America/Toronto:20230301T235959
DTSTAMP:20231018T181839
CREATED:20230215T191342Z
LAST-MODIFIED:20230216T193232Z
UID:10014808-1676419200-1677715199@journalmetro.com
SUMMARY:Services gratuits d’aide à l’emploi
DESCRIPTION:Contenu promotionnel \n\n\n\n\n\n\n\n\n\n\n\nL’Enjeu : cap sur l’emploi est un organisme sans but lucratif ayant pour mission de favoriser l’intégration et le maintien en emploi de personnes éprouvant des difficultés au plan professionnel\, en leur offrant une gamme de services d’aide à l’emploi.  \n\n\n\nL’organisme offre gratuitement aux femmes sans emploi un accompagnement favorisant l’intégration et le maintien en emploi. Aide à la recherche d’emploi et au placement\, évaluation de compétences en travail de bureau\, orientation scolaire et professionnelle\, jumelages candidates / employeurs\, développement de carrière. \n\n\n\nIl s’engage à fournir à sa clientèle un coaching et un accompagnement de qualité privilégiant une approche personnalisée tenant compte de l’ensemble de la situation d’un individu. \n\n\n\nPour plus de renseignements\, composez le (514) 858-5288 poste 0. \n\n\n\n\n\n\n\nFacebook
URL:https://journalmetro.com/evenement/services-gratuits-daide-a-lemploi-3/
LOCATION:L’Enjeu : cap sur l’emploi\, 2215 rue Jean-Talon Est\, Suite 204\, Montréal\, QC\, H2E1V5\, Canada
CATEGORIES:Promotionnel
ATTACH;FMTTYPE=image/jpeg:https://journalmetro.com/wp-content/uploads/2023/02/Image-organisme-Paysage_980x675-1.jpeg
END:VEVENT
BEGIN:VEVENT
DTSTART;TZID=America/Toronto:20230215T000000
DTEND;TZID=America/Toronto:20230301T235959
DTSTAMP:20231018T181839
CREATED:20230215T191302Z
LAST-MODIFIED:20230216T193306Z
UID:10014807-1676419200-1677715199@journalmetro.com
SUMMARY:Services gratuits d’aide à l’emploi
DESCRIPTION:Contenu promotionnel \n\n\n\n\n\n\n\n\n\n\n\nL’Enjeu : cap sur l’emploi est un organisme sans but lucratif ayant pour mission de favoriser l’intégration et le maintien en emploi de personnes éprouvant des difficultés au plan professionnel\, en leur offrant une gamme de services d’aide à l’emploi.  \n\n\n\nL’organisme offre gratuitement aux femmes sans emploi un accompagnement favorisant l’intégration et le maintien en emploi. Aide à la recherche d’emploi et au placement\, évaluation de compétences en travail de bureau\, orientation scolaire et professionnelle\, jumelages candidates / employeurs\, développement de carrière. \n\n\n\nIl s’engage à fournir à sa clientèle un coaching et un accompagnement de qualité privilégiant une approche personnalisée tenant compte de l’ensemble de la situation d’un individu. \n\n\n\nPour plus de renseignements\, composez le (514) 858-5288 poste 0. \n\n\n\n\n\n\n\nFacebook
URL:https://journalmetro.com/evenement/services-gratuits-daide-a-lemploi-2/
LOCATION:L’Enjeu : cap sur l’emploi\, 2215 rue Jean-Talon Est\, Suite 204\, Montréal\, QC\, H2E1V5\, Canada
CATEGORIES:Promotionnel
ATTACH;FMTTYPE=image/jpeg:https://journalmetro.com/wp-content/uploads/2023/02/Image-organisme-Paysage_980x675-2.jpeg
END:VEVENT
BEGIN:VEVENT
DTSTART;TZID=America/Toronto:20230215T000000
DTEND;TZID=America/Toronto:20230301T235959
DTSTAMP:20231018T181840
CREATED:20230215T185542Z
LAST-MODIFIED:20230216T193134Z
UID:10014806-1676419200-1677715199@journalmetro.com
SUMMARY:Services gratuits d’aide à l’emploi
DESCRIPTION:Contenu promotionnel \n\n\n\n\n\n\n\n\n\n\n\nL’Enjeu : cap sur l’emploi est un organisme sans but lucratif ayant pour mission de favoriser l’intégration et le maintien en emploi de personnes éprouvant des difficultés au plan professionnel\, en leur offrant une gamme de services d’aide à l’emploi.  \n\n\n\nL’organisme offre gratuitement aux femmes sans emploi un accompagnement favorisant l’intégration et le maintien en emploi. Aide à la recherche d’emploi et au placement\, évaluation de compétences en travail de bureau\, orientation scolaire et professionnelle\, jumelages candidates / employeurs\, développement de carrière. \n\n\n\nIl s’engage à fournir à sa clientèle un coaching et un accompagnement de qualité privilégiant une approche personnalisée tenant compte de l’ensemble de la situation d’un individu. \n\n\n\nPour plus de renseignements\, composez le (514) 858-5288 poste 0. \n\n\n\n\n\n\n\nFacebook
URL:https://journalmetro.com/evenement/services-gratuits-daide-a-lemploi/
LOCATION:L’Enjeu : cap sur l’emploi\, 2215 rue Jean-Talon Est\, Suite 204\, Montréal\, QC\, H2E1V5\, Canada
CATEGORIES:Promotionnel
ATTACH;FMTTYPE=image/jpeg:https://journalmetro.com/wp-content/uploads/2023/02/Image-organisme-Paysage_980x675.jpeg
END:VEVENT
END:VCALENDAR