BEGIN:VCALENDAR
VERSION:2.0
PRODID:-//Journal Métro - ECPv6.0.13//NONSGML v1.0//EN
CALSCALE:GREGORIAN
METHOD:PUBLISH
X-WR-CALNAME:Journal Métro
X-ORIGINAL-URL:https://journalmetro.com
X-WR-CALDESC:évènements pour Journal Métro
REFRESH-INTERVAL;VALUE=DURATION:PT1H
X-Robots-Tag:noindex
X-PUBLISHED-TTL:PT1H
BEGIN:VTIMEZONE
TZID:America/Toronto
BEGIN:DAYLIGHT
TZOFFSETFROM:-0500
TZOFFSETTO:-0400
TZNAME:EDT
DTSTART:20230312T070000
END:DAYLIGHT
BEGIN:STANDARD
TZOFFSETFROM:-0400
TZOFFSETTO:-0500
TZNAME:EST
DTSTART:20231105T060000
END:STANDARD
END:VTIMEZONE
BEGIN:VEVENT
DTSTART;TZID=America/Toronto:20230802T170000
DTEND;TZID=America/Toronto:20230802T172500
DTSTAMP:20231018T173947
CREATED:20230629T192649Z
LAST-MODIFIED:20230629T192713Z
UID:10018540-1690995600-1690997100@journalmetro.com
SUMMARY:La crinoline aux chapeaux - Marguerite à bicyclette
DESCRIPTION:Aussi à 18h30. \n\n\n\nInspiré du Théâtre de l’absurde et accompagné de musique live\, ce spectacle de cirque tout public n’est qu’une magnifique exhibition de non-sens\, empreinte d’une évidente pureté. \n\n\n\nDeux personnages aux archétypes de la bourgeoisie sont installés dans un monde dont eux-seuls détiennent les codes de conduite. Ces automates vivent une vérité incompréhensive\, répétitive et désordonnée à travers leurs corps\, leurs chapeaux et leur planche sautoir acrobatique… \n\n\n\nProduit par Marguerite à bicyclette\, écoresponsable et éco-conçu\, La crinoline aux chapeaux se déplace entièrement à vélo! \n\n\n\nInterprètes : Frédéric Lemieux-Cormier\, Némo Venba et Pauline Baud. \n\n\n\nEntrée libre | Annulé en cas de conditions météorologiques défavorables \n\n\n\nSource: montreal.ca \n\n\n\nDates et horaires sont sujets à changement sans préavis. Avant de vous déplacer\, vérifier ces informations sur montreal.ca \n\n\n\nDeux interprètes de La crinoline aux chapeaux
URL:https://journalmetro.com/evenement/la-crinoline-aux-chapeaux-marguerite-a-bicyclette-15/
LOCATION:L’Ile aux volcans\, Angle des rues De Drucourt et Marquette\, Montréal\, Canada
CATEGORIES:Communautaire
ATTACH;FMTTYPE=image/jpeg:https://journalmetro.com/wp-content/uploads/2023/05/crinoline-aux-chapeaux-2.jpg
END:VEVENT
END:VCALENDAR