BEGIN:VCALENDAR
VERSION:2.0
PRODID:-//Journal Métro - ECPv6.0.13//NONSGML v1.0//EN
CALSCALE:GREGORIAN
METHOD:PUBLISH
X-WR-CALNAME:Journal Métro
X-ORIGINAL-URL:https://journalmetro.com
X-WR-CALDESC:évènements pour Journal Métro
REFRESH-INTERVAL;VALUE=DURATION:PT1H
X-Robots-Tag:noindex
X-PUBLISHED-TTL:PT1H
BEGIN:VTIMEZONE
TZID:America/Toronto
BEGIN:DAYLIGHT
TZOFFSETFROM:-0500
TZOFFSETTO:-0400
TZNAME:EDT
DTSTART:20220313T070000
END:DAYLIGHT
BEGIN:STANDARD
TZOFFSETFROM:-0400
TZOFFSETTO:-0500
TZNAME:EST
DTSTART:20221106T060000
END:STANDARD
BEGIN:DAYLIGHT
TZOFFSETFROM:-0500
TZOFFSETTO:-0400
TZNAME:EDT
DTSTART:20230312T070000
END:DAYLIGHT
BEGIN:STANDARD
TZOFFSETFROM:-0400
TZOFFSETTO:-0500
TZNAME:EST
DTSTART:20231105T060000
END:STANDARD
END:VTIMEZONE
BEGIN:VEVENT
DTSTART;TZID=America/Toronto:20221126T100000
DTEND;TZID=America/Toronto:20221204T170000
DTSTAMP:20231016T114048
CREATED:20221124T151339Z
LAST-MODIFIED:20221124T151622Z
UID:10008860-1669456800-1670173200@journalmetro.com
SUMMARY:Marché des Fêtes
DESCRIPTION:Le Collectif Créatif MTL organise un marché des fêtes intérieur les 26 et 27 novembre\, et encore les 3 et 4 décembre\, à Locoshop Angus. \n\n\n\nQui est Le Collectif Créatif MTL? \n\n\n\nLe Collectif Créatif MTL est un regroupement d’artisans\, créateurs et designers de Montréal et environs crée par Mel Serangelo et Michelle Beausejour. Notre mission est de faire rayonner le talent d’ici et le commerce local à travers nos Marchés Créatifs. Nous organisons des marchés artisanales sous le nom Etsy Montreal depuis 2014.  \n\n\n\nListe des exposants
URL:https://journalmetro.com/evenement/2953970/
LOCATION:Locoshop Angus\, 2600 rue William-Tremblay\, Montréal\, QC\, Canada
ATTACH;FMTTYPE=image/jpeg:https://journalmetro.com/wp-content/uploads/2022/11/marcheverdunphotobymelserangelo-2.jpg
END:VEVENT
BEGIN:VEVENT
DTSTART;TZID=America/Toronto:20230422T100000
DTEND;TZID=America/Toronto:20230430T100000
DTSTAMP:20231016T114048
CREATED:20230424T202241Z
LAST-MODIFIED:20230424T203919Z
UID:10017315-1682157600-1682848800@journalmetro.com
SUMMARY:Marché du printemps du Collectif Créatif MTL
DESCRIPTION:Le Collectif Créatif MTL est heureux d’annoncer le retour de son Marché du printemps en collaboration avec le Technopôle Angus les fins de semaine du 22 et 23 avril et du 29 et 30 avril prochains\, de 10h à 17h au LocoshopAngus. Présentant une programmation différente d’entreprises exposantes chaque fin de semaine\, le marché créatif mettra en vedette 180 artisan.e.s d’ici.  \n\n\n\nCe sera l’occasion de découvrir ce que la communauté a à offrir dans une ambiance marquée par le retour du beau temps et de la couleur après de longs mois d’hiver! Cet événement culturel incontournable de la ville de Montréal s’inscrit autour de valeurs fortes telles que la créativité\, le partage et le rayonnement des talents de la scène artisanale locale. \n\n\n\nMel Serangelo\, cofondatrice du Collectif Créatif MTL\, souligne : « On est ravis de célébrer la créativité montréalaise à travers le Marché du printemps. C’est une occasion unique de mettre en avant les artisans locaux et de découvrir les dernières tendances en matière de création et de design. On est impatients de vous accueillir! »Plus d’une centaine de compagnies locales\, dont 80 y participent pour la toute première fois\, offriront une variété de produits de qualité : vêtements\, accessoires\, œuvres d’art\, accessoires de décoration et délices gourmands. Les visiteur.euse.s pourront découvrir les dernières tendances de la mode et du design tout en appréciant l’ambiance conviviale et festive du marché.  \n\n\n\nLe quartier Angus est le lieu de rencontre idéal pour les esprits curieux et les aventurier.ère.s urbain.e.s. \n\n\n\nDurant ces deux fins de semaine\, il sera possible de découvrir les bijoux durables et raffinés d’Evelyne b Joaillière\, les pièces artisanales d’Isabelle Kapsaskis\, joaillière\, ainsi que les bijoux urbains lalouve inspirés par l’Amérique du Sud. Pour accessoiriser leur quotidien\, les visiteur.euse.s pourront se procurer les pièces faites de poudre de verre et de médiums mixtes de chez MÉLA et les bijoux faits à partir de béton de Catrie Artiste Joaillière. \n\n\n\nAvec le changement graduel de température\, quoi de mieux quede tester et de se procurer les produits pour le corps signés RUNAK\, fabriqués au Québec à partir d’huiles exotiques et pures provenant directement de la forêt amazonienne du Pérou. La compagnie Kanopé Fragrances saura également combler grand nombre de personnes grâce à ses produits conçus à partir d’essences naturelles\, d’huiles essentielles et d’absolus. Finalement\, pour égayer ses tenues\, Rouge Cerise sera présente pour présenter ses accessoires\, notamment ses sacs colorés. Les produits art de vivre de l’entreprise d’ici LUVO permettront ensuite d’agrémenter son chez-soi\, tout comme ceux de la compagnie Rainbows & Lollipops avec sa papeterie dédiée aux tout-petits et aux futurs parents. \n\n\n\nLe Collectif Créatif MTL (anciennement connu sous le nom Etsy Montréal) est un regroupement d’artisan.e.s\, créateur.trice.s et designer.euse.s de Montréal et les environs créé par Mel Serangelo et Michelle Beausejour. Sa mission est de faire rayonner le talent d’ici et le commerce local à travers des marchés créatifs et des ateliers. Composée également de Kristina Kasparian (Veni Etiam Photographie) et Gregory Webb\, l’équipe organise des marchés créatifs depuis 2014.
URL:https://journalmetro.com/evenement/marche-du-printemps-du-collectif-creatif-mtl/
LOCATION:Locoshop Angus\, 2600 rue William-Tremblay\, Montréal\, QC\, Canada
ATTACH;FMTTYPE=image/jpeg:https://journalmetro.com/wp-content/uploads/2023/04/MarcheeduprintempsCollectifCreatifMTL2023_1200x600.jpg
END:VEVENT
END:VCALENDAR