BEGIN:VCALENDAR
VERSION:2.0
PRODID:-//Journal Métro - ECPv6.0.13//NONSGML v1.0//EN
CALSCALE:GREGORIAN
METHOD:PUBLISH
X-WR-CALNAME:Journal Métro
X-ORIGINAL-URL:https://journalmetro.com
X-WR-CALDESC:évènements pour Journal Métro
REFRESH-INTERVAL;VALUE=DURATION:PT1H
X-Robots-Tag:noindex
X-PUBLISHED-TTL:PT1H
BEGIN:VTIMEZONE
TZID:America/Toronto
BEGIN:DAYLIGHT
TZOFFSETFROM:-0500
TZOFFSETTO:-0400
TZNAME:EDT
DTSTART:20220313T070000
END:DAYLIGHT
BEGIN:STANDARD
TZOFFSETFROM:-0400
TZOFFSETTO:-0500
TZNAME:EST
DTSTART:20221106T060000
END:STANDARD
END:VTIMEZONE
BEGIN:VEVENT
DTSTART;TZID=America/Toronto:20221011T190000
DTEND;TZID=America/Toronto:20221011T190000
DTSTAMP:20231016T173439
CREATED:20221004T153310Z
LAST-MODIFIED:20221004T153312Z
UID:10008040-1665514800-1665514800@journalmetro.com
SUMMARY:Séance du conseil d'arrondissement du Sud-Ouest - octobre
DESCRIPTION:Le conseil d’arrondissement du 11 octobre 2022 se déroulera à la mairie d’arrondissement. \n\n\n\nCette séance sera webdiffusée en direct et pourra également être visionnée en différée. \n\n\n\nPour entrer dans l’édifice du 815\, rue Bel-Air\, utilisez la porte d’accessibilité universelle située dans le stationnement ou l’entrée accessible par le 780\, avenue Brewster. \n\n\n\nSi vous désirez vous inscrire pour poser une question sur place\, vous devez le faire de 18 h 15 à 18 h 45\, à la salle du conseil\, la journée même. \n\n\n\nLes archives des ordres du jour\, les procès-verbaux et les documents officiels des séances peuvent être consultés en ligne. \n\n\n\nVous pouvez poser une question en ligne\, à compter du vendredi précédant la séance jusqu’au mardi 11 octobre\, 10 h en utilisant ce formulaire. \n\n\n\nSource: montreal.ca \n\n\n\nDates et horaires sont sujets à changement sans préavis. Avant de vous déplacer\, vérifier ces informations sur montreal.ca
URL:https://journalmetro.com/evenement/seance-du-conseil-darrondissement-du-sud-ouest-octobre/
LOCATION:Mairie de l’arrondissement du Sud-Ouest\, 815 rue Bélair\, Montréal\, QC\, Canada
ATTACH;FMTTYPE=image/jpeg:https://journalmetro.com/wp-content/uploads/2022/10/seance-conseil-sud-ouest-2.jpg
END:VEVENT
BEGIN:VEVENT
DTSTART;TZID=America/Toronto:20221114T190000
DTEND;TZID=America/Toronto:20221114T190000
DTSTAMP:20231016T173439
CREATED:20221004T173448Z
LAST-MODIFIED:20221004T173450Z
UID:10008045-1668452400-1668452400@journalmetro.com
SUMMARY:Séance du conseil d'arrondissement du Sud-Ouest - novembre
DESCRIPTION:Le conseil d’arrondissement du 14 novembre 2022 se déroulera à la mairie d’arrondissement. \n\n\n\nCette séance sera webdiffusée en direct et pourra également être visionnée en différée. \n\n\n\nPour entrer dans l’édifice du 815\, rue Bel-Air\, utilisez la porte d’accessibilité universelle située dans le stationnement ou l’entrée accessible par le 780\, avenue Brewster. \n\n\n\nSi vous désirez vous inscrire pour poser une question sur place\, vous devez le faire de 18 h 15 à 18 h 45\, à la salle du conseil\, la journée même. \n\n\n\nLes archives des ordres du jour\, les procès-verbaux et les documents officiels des séances peuvent être consultés en ligne. \n\n\n\nVous pouvez poser une question en ligne\, à compter du vendredi précédant la séance jusqu’au lundi 14 novembre\, 10 h en utilisant ce formulaire. \n\n\n\nSource: montreal.ca \n\n\n\nDates et horaires sont sujets à changement sans préavis. Avant de vous déplacer\, vérifier ces informations sur montreal.ca
URL:https://journalmetro.com/evenement/seance-du-conseil-darrondissement-du-sud-ouest-novembre/
LOCATION:Mairie de l’arrondissement du Sud-Ouest\, 815 rue Bélair\, Montréal\, QC\, Canada
ATTACH;FMTTYPE=image/jpeg:https://journalmetro.com/wp-content/uploads/2022/10/seance-conseil-sud-ouest-2.jpg
END:VEVENT
BEGIN:VEVENT
DTSTART;TZID=America/Toronto:20221205T190000
DTEND;TZID=America/Toronto:20221205T190000
DTSTAMP:20231016T173439
CREATED:20221004T174110Z
LAST-MODIFIED:20221004T174111Z
UID:10008047-1670266800-1670266800@journalmetro.com
SUMMARY:Séance du conseil d'arrondissement du Sud-Ouest - décembre
DESCRIPTION:Le conseil d’arrondissement du 5 décembre 2022 se déroulera à la mairie d’arrondissement. \n\n\n\nCette séance sera webdiffusée en direct et pourra également être visionnée en différée. \n\n\n\nPour entrer dans l’édifice du 815\, rue Bel-Air\, utilisez la porte d’accessibilité universelle située dans le stationnement ou l’entrée accessible par le 780\, avenue Brewster. \n\n\n\nSi vous désirez vous inscrire pour poser une question sur place\, vous devez le faire de 18 h 15 à 18 h 45\, à la salle du conseil\, la journée même. \n\n\n\nLes archives des ordres du jour\, les procès-verbaux et les documents officiels des séances peuvent être consultés en ligne. \n\n\n\nVous pouvez poser une question en ligne\, à compter du vendredi précédant la séance jusqu’au lundi 5 décembre\, 10 h en utilisant ce formulaire. \n\n\n\nSource: montreal.ca \n\n\n\nDates et horaires sont sujets à changement sans préavis. Avant de vous déplacer\, vérifier ces informations sur montreal.ca
URL:https://journalmetro.com/evenement/seance-du-conseil-darrondissement-du-sud-ouest-decembre/
LOCATION:Mairie de l’arrondissement du Sud-Ouest\, 815 rue Bélair\, Montréal\, QC\, Canada
ATTACH;FMTTYPE=image/jpeg:https://journalmetro.com/wp-content/uploads/2022/10/seance-conseil-sud-ouest-2.jpg
END:VEVENT
END:VCALENDAR