BEGIN:VCALENDAR
VERSION:2.0
PRODID:-//Journal Métro - ECPv6.0.13//NONSGML v1.0//EN
CALSCALE:GREGORIAN
METHOD:PUBLISH
X-WR-CALNAME:Journal Métro
X-ORIGINAL-URL:https://journalmetro.com
X-WR-CALDESC:évènements pour Journal Métro
REFRESH-INTERVAL;VALUE=DURATION:PT1H
X-Robots-Tag:noindex
X-PUBLISHED-TTL:PT1H
BEGIN:VTIMEZONE
TZID:America/Toronto
BEGIN:DAYLIGHT
TZOFFSETFROM:-0500
TZOFFSETTO:-0400
TZNAME:EDT
DTSTART:20230312T070000
END:DAYLIGHT
BEGIN:STANDARD
TZOFFSETFROM:-0400
TZOFFSETTO:-0500
TZNAME:EST
DTSTART:20231105T060000
END:STANDARD
END:VTIMEZONE
BEGIN:VEVENT
DTSTART;TZID=America/Toronto:20230808T140000
DTEND;TZID=America/Toronto:20230808T140000
DTSTAMP:20231016T191605
CREATED:20230623T193719Z
LAST-MODIFIED:20230623T193721Z
UID:10018363-1691503200-1691503200@journalmetro.com
SUMMARY:Activité d'extraction de miel
DESCRIPTION:Coopérative de solidarité Polliflora \n\n\n\nVous serez émerveillé(e)s en voyant le miel couler dans les pots après l’avoir extrait des ruches urbaines! \n\n\n\nApprenez les différentes étapes d’extraction afin de récolter le miel de nos amies les abeilles. \n\n\n\nInscription : 514 872-2240 \n\n\n\nPrésenté dans le cadre de l’accréditation Scène écoresponsable – Or de la maison de la culture de Pointe-aux-Trembles. \n\n\n\nSource: montreal.ca \n\n\n\nDates et horaires sont sujets à changement sans préavis. Avant de vous déplacer\, vérifier ces informations sur montreal.ca
URL:https://journalmetro.com/evenement/activite-dextraction-de-miel-2/
LOCATION:Maison de la culture de Pointe-aux-Trembles\, 14001 rue Notre-Dame Est\, Montréal\, QC\, Canada
CATEGORIES:Communautaire
ATTACH;FMTTYPE=image/jpeg:https://journalmetro.com/wp-content/uploads/2023/06/extraction-miel_1200x600.jpg
END:VEVENT
END:VCALENDAR