BEGIN:VCALENDAR
VERSION:2.0
PRODID:-//Journal Métro - ECPv6.0.13//NONSGML v1.0//EN
CALSCALE:GREGORIAN
METHOD:PUBLISH
X-WR-CALNAME:Journal Métro
X-ORIGINAL-URL:https://journalmetro.com
X-WR-CALDESC:évènements pour Journal Métro
REFRESH-INTERVAL;VALUE=DURATION:PT1H
X-Robots-Tag:noindex
X-PUBLISHED-TTL:PT1H
BEGIN:VTIMEZONE
TZID:America/Toronto
BEGIN:DAYLIGHT
TZOFFSETFROM:-0500
TZOFFSETTO:-0400
TZNAME:EDT
DTSTART:20220313T070000
END:DAYLIGHT
BEGIN:STANDARD
TZOFFSETFROM:-0400
TZOFFSETTO:-0500
TZNAME:EST
DTSTART:20221106T060000
END:STANDARD
END:VTIMEZONE
BEGIN:VEVENT
DTSTART;TZID=America/Toronto:20221002T133000
DTEND;TZID=America/Toronto:20221127T183000
DTSTAMP:20231016T173526
CREATED:20221017T152722Z
LAST-MODIFIED:20221017T160442Z
UID:10008218-1664717400-1669573800@journalmetro.com
SUMMARY:Salon Barbershop
DESCRIPTION:L’activité « Salon Barbershop » est de retour\, cette fois-ci en collaboration avec @marvin.sully à la Maison des jeunes de Saint-Léonard!Viens faire ta TCHASS GRATUITEMENT et chiller avec nous tous les dimanches\, du 2 octobre au 27 novembre\, 13h30 à 18h30.Gars : Pour des tchass\, fade\, hightop et tout style sauf les designs.Filles : Pour des tresses (braids) \n\n\n\nCollations et jeux (société\, vidéos\, musique) sur place.En prime\, on t’offre des photos professionnelles pour tes réseaux sociaux après ta tchass.Inscription à l’avance obligatoire en nous envoyant un DM par Instagram à @e.a.stl ou @i.stl_public !
URL:https://journalmetro.com/evenement/salon-barbershop/
LOCATION:Maison des jeunes de Saint-Léonard\, 8180 rue Collerette\, Montréal\, QC\, Canada
CATEGORIES:Communautaire
ATTACH;FMTTYPE=image/jpeg:https://journalmetro.com/wp-content/uploads/2022/10/salon-barbershop-2.jpg
END:VEVENT
END:VCALENDAR