BEGIN:VCALENDAR
VERSION:2.0
PRODID:-//Journal Métro - ECPv6.0.13//NONSGML v1.0//EN
CALSCALE:GREGORIAN
METHOD:PUBLISH
X-WR-CALNAME:Journal Métro
X-ORIGINAL-URL:https://journalmetro.com
X-WR-CALDESC:évènements pour Journal Métro
REFRESH-INTERVAL;VALUE=DURATION:PT1H
X-Robots-Tag:noindex
X-PUBLISHED-TTL:PT1H
BEGIN:VTIMEZONE
TZID:America/Toronto
BEGIN:DAYLIGHT
TZOFFSETFROM:-0500
TZOFFSETTO:-0400
TZNAME:EDT
DTSTART:20230312T070000
END:DAYLIGHT
BEGIN:STANDARD
TZOFFSETFROM:-0400
TZOFFSETTO:-0500
TZNAME:EST
DTSTART:20231105T060000
END:STANDARD
END:VTIMEZONE
BEGIN:VEVENT
DTSTART;TZID=America/Toronto:20230620T100000
DTEND;TZID=America/Toronto:20230810T100000
DTSTAMP:20231016T115106
CREATED:20230620T203538Z
LAST-MODIFIED:20230621T151248Z
UID:10018234-1687255200-1691661600@journalmetro.com
SUMMARY:En photo... être Montréalais à la Belle Époque - Maison Hurtubise
DESCRIPTION:Cet été\, offrez-vous un voyage dans le temps en images \n\n\n\nCet été\, nul besoin d’aller bien loin pour vous dépayser. La Maison Hurtubise\, sise sur le chemin de la Côte-Saint-Antoine à Westmount\, se transforme en galerie d’exposition durant la saison estivale et vous invite à un voyage dans le temps… au temps de la Belle Époque\, à travers une expo photographique mettant en lumière de nombreuses photographies réalisées par Leopold Hurtubise. \n\n\n\n«En photo… Être montréalais à la Belle-Époque» présente des photographies inédites prises par le Dr Hurtubise au début du XXesiècle\, soit de 1901 à 1908. Près d’une vingtaine d’images captées par l’appareil photo à soufflet Premo du photographe sont exposées dans la résidence ancestrale qui porte son nom. Ces photos ont été sélectionnées parmi les quelques 300 négatifs sur plaques de verre datant du début du XXe siècle\, témoignant de la vie urbaine montréalaise de cette époque. Bien plus qu’une simple exposition photographique\, cette initiative de l’Héritage canadien du Québec (HCQ) fait la promotion d’une vision historique sur le long terme.  \n\n\n\nL’HCQ s’est lancé dans l’immense travail d’archivage de cette riche collection photographique documentant l’histoire sociale de Montréal. Stockés dans les locaux des archives de la Maison Hurtubise\, ces documents ont dû faire l’objet d’une attention touteparticulière.  \n\n\n\nL’équipe de l’Héritage s’est assurée de permettre un accès à l’expo adapté à tous les publics\, incluant les personnes en situation de handicap visuel qui se verront offrir une passerelle entre le monde visible et le monde perceptif grâce à un audioguide au contenu détaillé et explicatif. \n\n\n\nL’exposition permet également une visite de la Maison Hurtubise\, magnifique lieu patrimonial\, ainsi que de la grange calechière attenante à la propriété entourée de vastes jardins. \n\n\n\nLes visiteurs doivent réserver leur visite guidée au préalable\, laquelle leur sera confirmée par courriel à l’adresse coord@hcq-chq.org \n\n\n\nVenez vivre La Belle-Époque en photos à travers le regard de Leopold Hurtubise\, les mardis\, mercredis et jeudis\, de 10h à 12h et de 13h à 15h\, du 20 juin au 10 août 2023\, au 561 chemin de la Côte-Saint-Antoine à Westmount. Au plaisir de vous accueillir !
URL:https://journalmetro.com/evenement/en-photo-etre-montrealais-a-la-belle-epoque-maison-hurtubise/
LOCATION:Maison Hurtubise\, 561 chemin de la Côte-Saint-Antoine\, Westmount\, QC\, Canada
CATEGORIES:Communautaire
ATTACH;FMTTYPE=image/jpeg:https://journalmetro.com/wp-content/uploads/2023/06/Belle-Epoque_1200x600.jpg
END:VEVENT
END:VCALENDAR