BEGIN:VCALENDAR
VERSION:2.0
PRODID:-//Journal Métro - ECPv6.0.13//NONSGML v1.0//EN
CALSCALE:GREGORIAN
METHOD:PUBLISH
X-WR-CALNAME:Journal Métro
X-ORIGINAL-URL:https://journalmetro.com
X-WR-CALDESC:évènements pour Journal Métro
REFRESH-INTERVAL;VALUE=DURATION:PT1H
X-Robots-Tag:noindex
X-PUBLISHED-TTL:PT1H
BEGIN:VTIMEZONE
TZID:America/Toronto
BEGIN:DAYLIGHT
TZOFFSETFROM:-0500
TZOFFSETTO:-0400
TZNAME:EDT
DTSTART:20220313T070000
END:DAYLIGHT
BEGIN:STANDARD
TZOFFSETFROM:-0400
TZOFFSETTO:-0500
TZNAME:EST
DTSTART:20221106T060000
END:STANDARD
END:VTIMEZONE
BEGIN:VEVENT
DTSTART;TZID=America/Toronto:20220917T080000
DTEND;TZID=America/Toronto:20220917T170000
DTSTAMP:20231016T185723
CREATED:20220912T204223Z
LAST-MODIFIED:20230328T154203Z
UID:10007493-1663401600-1663434000@journalmetro.com
SUMMARY:5e édition du Concours de la meilleure tarte aux pommes
DESCRIPTION:C’est le samedi 17 septembre prochain que se tiendra la 5e édition du concours de la meilleure tarte aux pommes de la province! Pour célébrer le retour de ce grand événement\, l’animatrice de la populaire émission Les Chefs\, Élyse Marquis\, fera partie du jury et sera sur place pour rencontrer la clientèle des Halles. \n\n\n\nDes petites tartes\, des grosses tartes\, des sucrées\, des légères\, des croustillantes\, des molles… Toutes les tartes sont acceptées. Sortez vos talents culinaires et démontrez ce dont vous êtes capable. La crème de la crème des tartes – sans mauvais jeux de mots – sera présente! (Psst. Grand-maman aussi peut participer!)
URL:https://journalmetro.com/evenement/5e-edition-du-concours-de-la-meilleure-tarte-aux-pommes/
LOCATION:Marché des Halles d’Anjou\, 7500 boulevard des Galeries d'Anjou\, Montréal\, QC\, Canada
CATEGORIES:Communautaire
ATTACH;FMTTYPE=image/jpeg:https://journalmetro.com/wp-content/uploads/2022/09/tarte-pommes.jpg
END:VEVENT
END:VCALENDAR