BEGIN:VCALENDAR
VERSION:2.0
PRODID:-//Journal Métro - ECPv6.0.13//NONSGML v1.0//EN
CALSCALE:GREGORIAN
METHOD:PUBLISH
X-WR-CALNAME:Journal Métro
X-ORIGINAL-URL:https://journalmetro.com
X-WR-CALDESC:évènements pour Journal Métro
REFRESH-INTERVAL;VALUE=DURATION:PT1H
X-Robots-Tag:noindex
X-PUBLISHED-TTL:PT1H
BEGIN:VTIMEZONE
TZID:America/Toronto
BEGIN:DAYLIGHT
TZOFFSETFROM:-0500
TZOFFSETTO:-0400
TZNAME:EDT
DTSTART:20230312T070000
END:DAYLIGHT
BEGIN:STANDARD
TZOFFSETFROM:-0400
TZOFFSETTO:-0500
TZNAME:EST
DTSTART:20231105T060000
END:STANDARD
END:VTIMEZONE
BEGIN:VEVENT
DTSTART;TZID=America/Toronto:20230129T140000
DTEND;TZID=America/Toronto:20230129T140000
DTSTAMP:20231023T051716
CREATED:20230120T160030Z
LAST-MODIFIED:20230227T150145Z
UID:10012499-1675000800-1675000800@journalmetro.com
SUMMARY:Club de LEGO (Chameran)
DESCRIPTION:Club LEGO à la mini-bibliothèque de Chameran \n\n\n\nEn équipe ou en solo\, les participants réalisent des objets créatifs en briques Lego selon leur imagination. Les œuvres sont ensuite exposées dans la Mini-bibliothèque de Chameran pendant un mois. \n\n\n\nPour enfants de 6 à 12 ans. \n\n\n\nSource: montreal.ca \n\n\n\nDates et horaires sont sujets à changement sans préavis. Avant de vous déplacer\, vérifier ces informations sur montreal.ca
URL:https://journalmetro.com/evenement/club-de-lego-chameran/
LOCATION:Mini-bibliothèque de Chameran\, 260 rue Marcotte (au chalet du parc Painter)\, Montréal\, QC\, Canada
ATTACH;FMTTYPE=image/jpeg:https://journalmetro.com/wp-content/uploads/2023/01/club-de-lego-chameran-2.jpg
END:VEVENT
BEGIN:VEVENT
DTSTART;TZID=America/Toronto:20230326T140000
DTEND;TZID=America/Toronto:20230326T140000
DTSTAMP:20231023T051717
CREATED:20230227T150125Z
LAST-MODIFIED:20230227T150127Z
UID:10015427-1679839200-1679839200@journalmetro.com
SUMMARY:Club de LEGO (Chameran)
DESCRIPTION:Club LEGO à la mini-bibliothèque de Chameran \n\n\n\nEn équipe ou en solo\, les participants réalisent des objets créatifs en briques Lego selon leur imagination. Les œuvres sont ensuite exposées dans la Mini-bibliothèque de Chameran pendant un mois. \n\n\n\nPour enfants de 6 à 12 ans. \n\n\n\nSource: montreal.ca \n\n\n\nDates et horaires sont sujets à changement sans préavis. Avant de vous déplacer\, vérifier ces informations sur montreal.ca
URL:https://journalmetro.com/evenement/club-de-lego-chameran-2/
LOCATION:Mini-bibliothèque de Chameran\, 260 rue Marcotte (au chalet du parc Painter)\, Montréal\, QC\, Canada
ATTACH;FMTTYPE=image/jpeg:https://journalmetro.com/wp-content/uploads/2023/01/club-de-lego-chameran-2.jpg
END:VEVENT
BEGIN:VEVENT
DTSTART;TZID=America/Toronto:20230430T140000
DTEND;TZID=America/Toronto:20230430T140000
DTSTAMP:20231023T051717
CREATED:20230322T165438Z
LAST-MODIFIED:20230322T165440Z
UID:10016414-1682863200-1682863200@journalmetro.com
SUMMARY:Club de LEGO (Chameran)
DESCRIPTION:Club LEGO à la mini-bibliothèque de Chameran \n\n\n\nEn équipe ou en solo\, les participants réalisent des objets créatifs en briques Lego selon leur imagination. Les œuvres sont ensuite exposées dans la Mini-bibliothèque de Chameran pendant un mois. \n\n\n\nPour enfants de 6 à 12 ans. \n\n\n\nSource: montreal.ca \n\n\n\nDates et horaires sont sujets à changement sans préavis. Avant de vous déplacer\, vérifier ces informations sur montreal.ca
URL:https://journalmetro.com/evenement/club-de-lego-chameran-3/
LOCATION:Mini-bibliothèque de Chameran\, 260 rue Marcotte (au chalet du parc Painter)\, Montréal\, QC\, Canada
ATTACH;FMTTYPE=image/jpeg:https://journalmetro.com/wp-content/uploads/2023/01/club-de-lego-chameran-2.jpg
END:VEVENT
END:VCALENDAR