BEGIN:VCALENDAR
VERSION:2.0
PRODID:-//Journal Métro - ECPv6.0.13//NONSGML v1.0//EN
CALSCALE:GREGORIAN
METHOD:PUBLISH
X-WR-CALNAME:Journal Métro
X-ORIGINAL-URL:https://journalmetro.com
X-WR-CALDESC:évènements pour Journal Métro
REFRESH-INTERVAL;VALUE=DURATION:PT1H
X-Robots-Tag:noindex
X-PUBLISHED-TTL:PT1H
BEGIN:VTIMEZONE
TZID:America/Toronto
BEGIN:DAYLIGHT
TZOFFSETFROM:-0500
TZOFFSETTO:-0400
TZNAME:EDT
DTSTART:20220313T070000
END:DAYLIGHT
BEGIN:STANDARD
TZOFFSETFROM:-0400
TZOFFSETTO:-0500
TZNAME:EST
DTSTART:20221106T060000
END:STANDARD
BEGIN:DAYLIGHT
TZOFFSETFROM:-0500
TZOFFSETTO:-0400
TZNAME:EDT
DTSTART:20230312T070000
END:DAYLIGHT
BEGIN:STANDARD
TZOFFSETFROM:-0400
TZOFFSETTO:-0500
TZNAME:EST
DTSTART:20231105T060000
END:STANDARD
END:VTIMEZONE
BEGIN:VEVENT
DTSTART;TZID=America/Toronto:20220518T080000
DTEND;TZID=America/Toronto:20221106T170000
DTSTAMP:20231016T103914
CREATED:20221006T141338Z
LAST-MODIFIED:20230208T180046Z
UID:10008098-1652860800-1667754000@journalmetro.com
SUMMARY:Exposition : Les Trésors du Musée
DESCRIPTION:Dans le cadre de son 20e anniversaire\, le Musée a sélectionné avec soin plus d’une soixantaine d’objets de sa collection. Ces trésors du quotidien d’autrefois\, tels que des accessoires de couture\, dentelles\, gramophone\, vaisselles et faïences\, vêtements et accessoires\, œuvres d’arts et de l’artisanat sont\, pour l’occasion\, mis en valeur dans la verrière du Musée. Venez découvrir ces magnifiques trésors lors de votre visite de cette exposition temporaire. \n\n\n\nLe Musée invite les enfants à participer à une activité de type chasse aux trésors dans le cadre de l’exposition Les trésors du Musée. Des trésors y sont dissimulés. Saurez-vous les trouver? Gardez l’oeil ouvert et méritez une surprise! \n\n\n\nSur réservation par courriel au musee@ville.dorval.qc.ca ou par téléphone au 514 633-4071. \n\n\n\nL’histoire vous passionne davantage? N’oubliez pas de suivre la page Facebook du Musée @museedorvalmuseum. \n\n\n\nVoyez aussi le Youtube du Musée : Musée Dorval Museum \n\n\n\nPour connaître l’horaire du Musée\, cliquer ici.
URL:https://journalmetro.com/evenement/exposition-les-tresors-du-musee/
LOCATION:Musée d’histoire et du patrimoine de Dorval\, 1850 chemin du Bord-du-Lac-Lakeshore\, Dorval\, QC\, Canada
ATTACH;FMTTYPE=image/jpeg:https://journalmetro.com/wp-content/uploads/2022/10/Lachine_Tresors.jpg
END:VEVENT
BEGIN:VEVENT
DTSTART;TZID=America/Toronto:20230126T000000
DTEND;TZID=America/Toronto:20230430T000000
DTSTAMP:20231016T103914
CREATED:20221122T203550Z
LAST-MODIFIED:20230208T175130Z
UID:10008839-1674691200-1682812800@journalmetro.com
SUMMARY:Exposition: Coups de patins! La passion canadienne pour le patinage
DESCRIPTION:Une exposition itinérante réalisée par le Musée canadien de l’histoire \n\n\n\nDes débuts du patinage jusqu’au rêve olympique canadien\, cette exposition réalisée par le Musée canadien de l’histoire présente le hockey\, le patinage de vitesse et le patinage artistique\, ainsi que plusieurs autres éléments intéressants reliés au patinage. Venez découvrir toute l’histoire derrière l’une des activités les plus anciennes et les plus populaires encore aujourd’hui au Canada\, comme à Dorval! \n\n\n\nVernissage: Mercredi 25 janvier à 18 h 30 (sur réservation). \n\n\n\nVisitez le site Internet du Musée canadien de l’histoire : www.museedelhistoire.ca \n\n\n\nL’histoire vous passionne davantage? N’oubliez pas de suivre la page Facebook du Musée @museedorvalmuseum. \n\n\n\nVoyez aussi le Youtube du Musée : Musée Dorval Museum \n\n\n\nPour connaître l’horaire du Musée\, cliquer ici.
URL:https://journalmetro.com/evenement/exposition-coups-de-patins-la-passion-canadienne-pour-le-patinage/
LOCATION:Musée d’histoire et du patrimoine de Dorval\, 1850 chemin du Bord-du-Lac-Lakeshore\, Dorval\, QC\, Canada
CATEGORIES:Communautaire
ATTACH;FMTTYPE=image/jpeg:https://journalmetro.com/wp-content/uploads/2022/11/coup_de_patins-2.jpg
END:VEVENT
END:VCALENDAR