BEGIN:VCALENDAR
VERSION:2.0
PRODID:-//Journal Métro - ECPv6.0.13//NONSGML v1.0//EN
CALSCALE:GREGORIAN
METHOD:PUBLISH
X-WR-CALNAME:Journal Métro
X-ORIGINAL-URL:https://journalmetro.com
X-WR-CALDESC:évènements pour Journal Métro
REFRESH-INTERVAL;VALUE=DURATION:PT1H
X-Robots-Tag:noindex
X-PUBLISHED-TTL:PT1H
BEGIN:VTIMEZONE
TZID:America/Toronto
BEGIN:DAYLIGHT
TZOFFSETFROM:-0500
TZOFFSETTO:-0400
TZNAME:EDT
DTSTART:20230312T070000
END:DAYLIGHT
BEGIN:STANDARD
TZOFFSETFROM:-0400
TZOFFSETTO:-0500
TZNAME:EST
DTSTART:20231105T060000
END:STANDARD
END:VTIMEZONE
BEGIN:VEVENT
DTSTART;TZID=America/Toronto:20230624T110000
DTEND;TZID=America/Toronto:20230624T163000
DTSTAMP:20231016T190247
CREATED:20230517T185640Z
LAST-MODIFIED:20230614T185625Z
UID:10017612-1687604400-1687624200@journalmetro.com
SUMMARY:Célébrons en famille la fête nationale à Anjou
DESCRIPTION:Le 24 juin\, l’arrondissement d’Anjou vous invite à prendre part à sa grande fête annuelle. L’événement\, qui a pour thème Célébrons en famille la fête nationale!\, se tiendra à Anjou-sur-le-Lac de 11 h à 16 h 30. \n\n\n\nPlusieurs activités sont au programme de la journée : jeux gonflables\, minifermette\, jeux de kermesse\, ateliers d’initiation au cirque et plus encore!  \n\n\n\nÀ cela s’ajoute le spectacle du groupe de musique traditionnelle Winston Band (un spectacle aux accents louisianais dans la plus pure tradition festive québécoise) qui offrira deux représentations\, la première à 13 h 30 et la deuxième à 14 h 45.  \n\n\n\nDe plus\, une distribution gratuite de hot-dogs et de jus aura lieu de 11 h 30 à 13 h 30. \n\n\n\nIl est à noter que la fête aura lieu beau temps\, mauvais temps. \n\n\n\nAccessibilité au site et transport gratuitLors de cette journée\, les citoyens désirant venir en voiture auront accès au stationnement par la rue Renaude-Lapointe. Ils devront garer leur véhicule dans l’aire de stationnement réservée à cette fin au Home Depot ou au Bureau en gros. Il est important de noter que les rues du secteur Anjou-sur-le-Lac seront accessibles pour la circulation locale uniquement. En effet\, afin d’assurer la sécurité des résidents et des visiteurs\, les résidents du secteur pourront circuler librement\, mais les visiteurs de la fête ne pourront pas circuler en voiture ni se stationner sur le boulevard des Galeries-d’Anjou et sur la promenade des Riverains au nord de la rue Bombardier. Pour faciliter l’accès au site et permettre au plus grand nombre de citoyens de participer\, des navettes d’autobus seront offertes gratuitement pour vous déplacer. \n\n\n\nPour plus de renseignements\, vous pouvez consulter la page Web de l’événement oucommuniquer avec le bureau Accès Montréal d’Anjou en composant le 311 \n\n\n\nSource: montreal.ca \n\n\n\nDates et horaires sont sujets à changement sans préavis. Avant de vous déplacer\, vérifier ces informations sur montreal.ca
URL:https://journalmetro.com/evenement/celebrons-en-famille-la-fete-nationale-a-anjou/
LOCATION:Parc Anjou-sur-le-Lac\, Angle du boulevard des Galeries d'Anjou et de la rue Bombardier\, Montréal\, QC\, Canada
ATTACH;FMTTYPE=image/jpeg:https://journalmetro.com/wp-content/uploads/2023/05/fete-nationle-anjou-2.jpg
END:VEVENT
BEGIN:VEVENT
DTSTART;TZID=America/Toronto:20230816T180000
DTEND;TZID=America/Toronto:20230816T210000
DTSTAMP:20231016T190247
CREATED:20230627T181029Z
LAST-MODIFIED:20230720T171502Z
UID:10018417-1692208800-1692219600@journalmetro.com
SUMMARY:Concert sur l'herbe - I Musici de Montréal
DESCRIPTION:Les concerts sur l’herbe vous offrent une célébration de la musique en plein air. Apportez votre pique-nique ou profitez des hot-dogs qui seront servis gratuitement. \n\n\n\nI Musici de Montréal vous offre le mariage parfait entre les envolées bucoliques des Quatre Saisons de Vivaldi et les thèmes galants du Divertimento pour cordes en ré majeur de Mozart. \n\n\n\nCommunicateur reconnu et aimé du public\, notre chef facilite votre écoute et vous expose\, brièvement et en toute simplicité\, le contexte historique et musical du programme. Votre appréciation des œuvres n’en sera que meilleure. \n\n\n\nSource: montreal.ca \n\n\n\nDates et horaires sont sujets à changement sans préavis. Avant de vous déplacer\, vérifier ces informations sur montreal.ca
URL:https://journalmetro.com/evenement/concert-sur-lherbe-i-musici-de-montreal/
LOCATION:Parc Anjou-sur-le-Lac\, Angle du boulevard des Galeries d'Anjou et de la rue Bombardier\, Montréal\, QC\, Canada
CATEGORIES:Communautaire
ATTACH;FMTTYPE=image/jpeg:https://journalmetro.com/wp-content/uploads/2023/06/i-musici-2.jpg
END:VEVENT
END:VCALENDAR