BEGIN:VCALENDAR
VERSION:2.0
PRODID:-//Journal Métro - ECPv6.0.13//NONSGML v1.0//EN
CALSCALE:GREGORIAN
METHOD:PUBLISH
X-WR-CALNAME:Journal Métro
X-ORIGINAL-URL:https://journalmetro.com
X-WR-CALDESC:évènements pour Journal Métro
REFRESH-INTERVAL;VALUE=DURATION:PT1H
X-Robots-Tag:noindex
X-PUBLISHED-TTL:PT1H
BEGIN:VTIMEZONE
TZID:America/Toronto
BEGIN:DAYLIGHT
TZOFFSETFROM:-0500
TZOFFSETTO:-0400
TZNAME:EDT
DTSTART:20220313T070000
END:DAYLIGHT
BEGIN:STANDARD
TZOFFSETFROM:-0400
TZOFFSETTO:-0500
TZNAME:EST
DTSTART:20221106T060000
END:STANDARD
END:VTIMEZONE
BEGIN:VEVENT
DTSTART;TZID=America/Toronto:20220813T130000
DTEND;TZID=America/Toronto:20220813T170000
DTSTAMP:20231016T174256
CREATED:20220801T164917Z
LAST-MODIFIED:20220805T200826Z
UID:10006883-1660395600-1660410000@journalmetro.com
SUMMARY:Initiation au soccer | Parc Beurling
DESCRIPTION:L’association de soccer mineur de Verdun fait une sortie portes ouvertes au parc Beurling! C’est l’occasion de venir parfaire vos connaissances! \n\n\n\nIl y a deux séances divisées par groupe d’âge : 13h à 14h – U5 à U9 et 14h30 à 15h30 – U10 et +.  \n\n\n\nPlaces limitées. Pour vous inscrire gratuitement\, appelez au 514-765-7150. \n\n\n\nDates et horaires sont sujets à changement sans préavis. Avant de vous déplacer\, vérifier ces informations sur montreal.ca
URL:https://journalmetro.com/evenement/initiation-au-soccer/
LOCATION:Parc Beurling\, 6001 rue Beurling\, Montreal\, QC\, Canada
CATEGORIES:Communautaire
ATTACH;FMTTYPE=image/jpeg:https://journalmetro.com/wp-content/uploads/2022/08/soccer-verdun.jpg
END:VEVENT
END:VCALENDAR