BEGIN:VCALENDAR
VERSION:2.0
PRODID:-//Journal Métro - ECPv6.0.13//NONSGML v1.0//EN
CALSCALE:GREGORIAN
METHOD:PUBLISH
X-WR-CALNAME:Journal Métro
X-ORIGINAL-URL:https://journalmetro.com
X-WR-CALDESC:évènements pour Journal Métro
REFRESH-INTERVAL;VALUE=DURATION:PT1H
X-Robots-Tag:noindex
X-PUBLISHED-TTL:PT1H
BEGIN:VTIMEZONE
TZID:America/Toronto
BEGIN:DAYLIGHT
TZOFFSETFROM:-0500
TZOFFSETTO:-0400
TZNAME:EDT
DTSTART:20230312T070000
END:DAYLIGHT
BEGIN:STANDARD
TZOFFSETFROM:-0400
TZOFFSETTO:-0500
TZNAME:EST
DTSTART:20231105T060000
END:STANDARD
END:VTIMEZONE
BEGIN:VEVENT
DTSTART;TZID=America/Toronto:20230621T170000
DTEND;TZID=America/Toronto:20230621T180000
DTSTAMP:20231016T181843
CREATED:20230531T184243Z
LAST-MODIFIED:20230531T184245Z
UID:10017833-1687366800-1687370400@journalmetro.com
SUMMARY:Conseils gratuits d’experts en comportement canin
DESCRIPTION:Vous avez un chien? Venez profiter de l’expertise d’éducateurs canins\, qui vous partageront leurs meilleurs conseils pour mieux vivre avec votre animal de compagnie. Les activités se déroulent dans une trentaine de parcs à chiens de la Ville. \n\n\n\nParmi les sujets qui seront abordés : la gestion de la dynamique dans un parc à chiens\, l’intégration du chiot\, le langage canin\, la prévention des morsures\, l’agression entre chiens et le jeu. \n\n\n\nSource: montreal.ca \n\n\n\nDates et horaires sont sujets à changement sans préavis. Avant de vous déplacer\, vérifier ces informations sur montreal.ca
URL:https://journalmetro.com/evenement/conseils-gratuits-dexperts-en-comportement-canin-3/
LOCATION:Parc canin d’Outremont (parc Mali)\, Avenue McEachran\, Montréal\, QC\, Canada
CATEGORIES:Communautaire
ATTACH;FMTTYPE=image/jpeg:https://journalmetro.com/wp-content/uploads/2023/05/conseils-comportement-canin-2.jpg
END:VEVENT
END:VCALENDAR