BEGIN:VCALENDAR
VERSION:2.0
PRODID:-//Journal Métro - ECPv6.0.13//NONSGML v1.0//EN
CALSCALE:GREGORIAN
METHOD:PUBLISH
X-WR-CALNAME:Journal Métro
X-ORIGINAL-URL:https://journalmetro.com
X-WR-CALDESC:évènements pour Journal Métro
REFRESH-INTERVAL;VALUE=DURATION:PT1H
X-Robots-Tag:noindex
X-PUBLISHED-TTL:PT1H
BEGIN:VTIMEZONE
TZID:America/Toronto
BEGIN:DAYLIGHT
TZOFFSETFROM:-0500
TZOFFSETTO:-0400
TZNAME:EDT
DTSTART:20220313T070000
END:DAYLIGHT
BEGIN:STANDARD
TZOFFSETFROM:-0400
TZOFFSETTO:-0500
TZNAME:EST
DTSTART:20221106T060000
END:STANDARD
END:VTIMEZONE
BEGIN:VEVENT
DTSTART;TZID=America/Toronto:20221210T183000
DTEND;TZID=America/Toronto:20221210T203000
DTSTAMP:20231016T113752
CREATED:20221114T191006Z
LAST-MODIFIED:20221114T191008Z
UID:10008807-1670697000-1670704200@journalmetro.com
SUMMARY:Féérie des fêtes
DESCRIPTION:L’esprit des Fêtes s’invite au Parc Centennial pour notre plus grand plaisir. Au programme : concert de Noël\, animation et sucreries.
URL:https://journalmetro.com/evenement/feerie-des-fetes/
LOCATION:Parc Centennial\, 288 boulevard Beaconsfield\, Beaconsfield\, QC\, Canada
ATTACH;FMTTYPE=image/jpeg:https://journalmetro.com/wp-content/uploads/2022/11/feerie.jpg
END:VEVENT
END:VCALENDAR