BEGIN:VCALENDAR
VERSION:2.0
PRODID:-//Journal Métro - ECPv6.0.13//NONSGML v1.0//EN
CALSCALE:GREGORIAN
METHOD:PUBLISH
X-WR-CALNAME:Journal Métro
X-ORIGINAL-URL:https://journalmetro.com
X-WR-CALDESC:évènements pour Journal Métro
REFRESH-INTERVAL;VALUE=DURATION:PT1H
X-Robots-Tag:noindex
X-PUBLISHED-TTL:PT1H
BEGIN:VTIMEZONE
TZID:America/Toronto
BEGIN:DAYLIGHT
TZOFFSETFROM:-0500
TZOFFSETTO:-0400
TZNAME:EDT
DTSTART:20230312T070000
END:DAYLIGHT
BEGIN:STANDARD
TZOFFSETFROM:-0400
TZOFFSETTO:-0500
TZNAME:EST
DTSTART:20231105T060000
END:STANDARD
END:VTIMEZONE
BEGIN:VEVENT
DTSTART;TZID=America/Toronto:20230816T170000
DTEND;TZID=America/Toronto:20230816T200000
DTSTAMP:20231016T184416
CREATED:20230803T135036Z
LAST-MODIFIED:20230803T135038Z
UID:10019346-1692205200-1692216000@journalmetro.com
SUMMARY:Le Vélo des beaux-arts - Parc Charles-S. Campbell
DESCRIPTION:Cet été\, le MBAM s’associe à la Ville de Montréal pour offrir des ateliers en plein air qui permettent aux enfants de tous âges\, accompagnés de leurs parents\, de démystifier l’art et de s’initier à la création. \n\n\n\nRempli de matériel artistique\, le Vélo des beaux-arts sillonnera des parcs de l’arrondissement de Ville-Marie et du quartier de la Petite-Bourgogne dans l’arrondissement du Sud-Ouest. Au programme : sculpture d’un animal miniature en argile et aquarelle dépeignant un jardin imaginaire inspiré d’œuvres de la riche collection du Musée. Ces activités sont gratuites et tout le matériel artistique nécessaire est fourni. \n\n\n\nSurveillez les pages Facebook de ces arrondissements pour tous les détails. \n\n\n\nRemerciements \n\n\n\nGrand mécène : Fondation de la Chenelière \n\n\n\nAvec le soutien de BLG\, du Fonds Lethbridge et du Fonds Merlin \n\n\n\nSource: montreal.ca \n\n\n\nDates et horaires sont sujets à changement sans préavis. Avant de vous déplacer\, vérifier ces informations sur montreal.ca
URL:https://journalmetro.com/evenement/le-velo-des-beaux-arts-parc-charles-s-campbell/
LOCATION:Parc Charles-S-Campbell\, 1250-1296 rue de Champlain\, Montréal\, QC\, Canada
CATEGORIES:Communautaire
ATTACH;FMTTYPE=image/jpeg:https://journalmetro.com/wp-content/uploads/2023/08/uztevzp6sndcehd9bzvx-Cropped.jpg
END:VEVENT
BEGIN:VEVENT
DTSTART;TZID=America/Toronto:20230816T170000
DTEND;TZID=America/Toronto:20230816T200000
DTSTAMP:20231016T184416
CREATED:20230803T134015Z
LAST-MODIFIED:20230803T134017Z
UID:10019345-1692205200-1692216000@journalmetro.com
SUMMARY:Fête de quartier au parc Charles-S.-Campbell
DESCRIPTION:La fête de quartier au parc Charles-S.-Campbell\, suivie à 19h d’un spectacle de musique – Bruno Rodéo.  \n\n\n\nC’est une belle occasion de profiter de l’été. \n\n\n\nSpectacle\, danse\, troupe de théâtre\, jeux participatifs\, atelier créatif et plus encore. Plaisir garanti! \n\n\n\nSource: montreal.ca \n\n\n\nDates et horaires sont sujets à changement sans préavis. Avant de vous déplacer\, vérifier ces informations sur montreal.ca
URL:https://journalmetro.com/evenement/fete-de-quartier-au-parc-charles-s-campbell/
LOCATION:Parc Charles-S-Campbell\, 1250-1296 rue de Champlain\, Montréal\, QC\, Canada
CATEGORIES:Communautaire
ATTACH;FMTTYPE=image/jpeg:https://journalmetro.com/wp-content/uploads/2023/08/udeh0qpvlecff8tkepu82-Cropped.jpg
END:VEVENT
BEGIN:VEVENT
DTSTART;TZID=America/Toronto:20230816T190000
DTEND;TZID=America/Toronto:20230816T200000
DTSTAMP:20231016T184416
CREATED:20230711T142455Z
LAST-MODIFIED:20230711T142457Z
UID:10018811-1692212400-1692216000@journalmetro.com
SUMMARY:Bruno Rodéo
DESCRIPTION:Imaginez un croisement entre Plume Latraverse et Willie Lamothe avec des profondes racines rockabilly\, et vous aurez une vague idée du son de Bruno Rodéo. Mais pour bien saisir son univers\, il faut décidément le voir en spectacle lors de cette fête de quartier! \n\n\n\nAprès le succès de son album Les étoiles se placent\, en nomination pour l’album country de l’année à l’ADISQ 2022\, Bruno Rodéo\, plus que jamais créatif\, a sorti en mai 2022 son nouvel album Ok c’est beau. Dans son spectacle en formule trio\, il est accompagné de ses deux complices et artistes talentueux : Pascal Beaulieu à la batterie et Adam Gilbert à la contrebasse. \n\n\n\nSource: montreal.ca \n\n\n\nDates et horaires sont sujets à changement sans préavis. Avant de vous déplacer\, vérifier ces informations sur montreal.ca
URL:https://journalmetro.com/evenement/bruno-rodeo/
LOCATION:Parc Charles-S-Campbell\, 1250-1296 rue de Champlain\, Montréal\, QC\, Canada
CATEGORIES:Communautaire
ATTACH;FMTTYPE=image/jpeg:https://journalmetro.com/wp-content/uploads/2023/07/bruno-rodeo-2.jpg
END:VEVENT
END:VCALENDAR