BEGIN:VCALENDAR
VERSION:2.0
PRODID:-//Journal Métro - ECPv6.0.13//NONSGML v1.0//EN
CALSCALE:GREGORIAN
METHOD:PUBLISH
X-WR-CALNAME:Journal Métro
X-ORIGINAL-URL:https://journalmetro.com
X-WR-CALDESC:évènements pour Journal Métro
REFRESH-INTERVAL;VALUE=DURATION:PT1H
X-Robots-Tag:noindex
X-PUBLISHED-TTL:PT1H
BEGIN:VTIMEZONE
TZID:America/Toronto
BEGIN:DAYLIGHT
TZOFFSETFROM:-0500
TZOFFSETTO:-0400
TZNAME:EDT
DTSTART:20230312T070000
END:DAYLIGHT
BEGIN:STANDARD
TZOFFSETFROM:-0400
TZOFFSETTO:-0500
TZNAME:EST
DTSTART:20231105T060000
END:STANDARD
END:VTIMEZONE
BEGIN:VEVENT
DTSTART;TZID=America/Toronto:20230810T203000
DTEND;TZID=America/Toronto:20230810T220000
DTSTAMP:20231016T103832
CREATED:20230804T195936Z
LAST-MODIFIED:20230804T195937Z
UID:10019422-1691699400-1691704800@journalmetro.com
SUMMARY:Super Mario Bros. le film
DESCRIPTION:Un plombier nommé Mario parcourt un labyrinthe souterrain avec son frère\, Luigi\, essayant de sauver une princesse capturée. Adaptation cinématographique du célèbre jeu vidéo. \n\n\n\nSource: montreal.ca \n\n\n\nDates et horaires sont sujets à changement sans préavis. Avant de vous déplacer\, vérifier ces informations sur montreal.ca
URL:https://journalmetro.com/evenement/super-mario-bros-le-film/
LOCATION:Parc Coubertin\, 4755 rue Valéry\, Montréal\, QC\, H1R1H9\, Canada
CATEGORIES:Communautaire
ATTACH;FMTTYPE=image/jpeg:https://journalmetro.com/wp-content/uploads/2023/08/MarioBros.jpg
END:VEVENT
END:VCALENDAR