BEGIN:VCALENDAR
VERSION:2.0
PRODID:-//Journal Métro - ECPv6.0.13//NONSGML v1.0//EN
CALSCALE:GREGORIAN
METHOD:PUBLISH
X-WR-CALNAME:Journal Métro
X-ORIGINAL-URL:https://journalmetro.com
X-WR-CALDESC:évènements pour Journal Métro
REFRESH-INTERVAL;VALUE=DURATION:PT1H
X-Robots-Tag:noindex
X-PUBLISHED-TTL:PT1H
BEGIN:VTIMEZONE
TZID:America/Toronto
BEGIN:DAYLIGHT
TZOFFSETFROM:-0500
TZOFFSETTO:-0400
TZNAME:EDT
DTSTART:20230312T070000
END:DAYLIGHT
BEGIN:STANDARD
TZOFFSETFROM:-0400
TZOFFSETTO:-0500
TZNAME:EST
DTSTART:20231105T060000
END:STANDARD
END:VTIMEZONE
BEGIN:VEVENT
DTSTART;TZID=America/Toronto:20230628T203000
DTEND;TZID=America/Toronto:20230628T223000
DTSTAMP:20231016T141514
CREATED:20230608T172420Z
LAST-MODIFIED:20230608T172422Z
UID:10018011-1687984200-1687991400@journalmetro.com
SUMMARY:Ciné-parc Rétro! - La Grande Vadrouille
DESCRIPTION:Apportez votre chaise ou votre couverture et votre maïs soufflé pour assister à cette projection de film en plein air à la tombée du jour! \n\n\n\nEn 1942\, un avion anglais est abattu par les Allemands au-dessus de Paris. Les trois pilotes sautent en parachute et atterrissent dans différents endroits de la capitale. Ils sont aidés par deux civils français\, un chef d’orchestre et un peintre en bâtiment qui acceptent de les mener en zone libre; ils deviennent ainsi\, malgré eux\, acteurs de la Résistance. \n\n\n\nSource: montreal.ca \n\n\n\nDates et horaires sont sujets à changement sans préavis. Avant de vous déplacer\, vérifier ces informations sur montreal.ca
URL:https://journalmetro.com/evenement/cine-parc-retro-la-grande-vadrouille/
LOCATION:Parc D’Antioche\, Place D'Antioche\, Montréal\, QC\, Canada
CATEGORIES:Communautaire
ATTACH;FMTTYPE=image/jpeg:https://journalmetro.com/wp-content/uploads/2023/06/grande-vadrouille-2.jpg
END:VEVENT
BEGIN:VEVENT
DTSTART;TZID=America/Toronto:20230803T163000
DTEND;TZID=America/Toronto:20230803T193000
DTSTAMP:20231016T141514
CREATED:20230627T170541Z
LAST-MODIFIED:20230627T170542Z
UID:10018406-1691080200-1691091000@journalmetro.com
SUMMARY:Soirée de jeux de société vintage
DESCRIPTION:Venez passer un soirée à découvrir et redécouvrir les jeux de planche et d’adresse animés par des spécialistes de Ludopolis! \n\n\n\nDébut des animations à 16h30. \n\n\n\nGratuit. \n\n\n\nEntrée libre. \n\n\n\nSource: montreal.ca \n\n\n\nDates et horaires sont sujets à changement sans préavis. Avant de vous déplacer\, vérifier ces informations sur montreal.ca
URL:https://journalmetro.com/evenement/soiree-de-jeux-de-societe-vintage/
LOCATION:Parc D’Antioche\, Place D'Antioche\, Montréal\, QC\, Canada
ATTACH;FMTTYPE=image/jpeg:https://journalmetro.com/wp-content/uploads/2023/06/jeux-de-societe-vintage-2.jpg
END:VEVENT
END:VCALENDAR