BEGIN:VCALENDAR
VERSION:2.0
PRODID:-//Journal Métro - ECPv6.0.13//NONSGML v1.0//EN
CALSCALE:GREGORIAN
METHOD:PUBLISH
X-WR-CALNAME:Journal Métro
X-ORIGINAL-URL:https://journalmetro.com
X-WR-CALDESC:évènements pour Journal Métro
REFRESH-INTERVAL;VALUE=DURATION:PT1H
X-Robots-Tag:noindex
X-PUBLISHED-TTL:PT1H
BEGIN:VTIMEZONE
TZID:America/Toronto
BEGIN:DAYLIGHT
TZOFFSETFROM:-0500
TZOFFSETTO:-0400
TZNAME:EDT
DTSTART:20220313T070000
END:DAYLIGHT
BEGIN:STANDARD
TZOFFSETFROM:-0400
TZOFFSETTO:-0500
TZNAME:EST
DTSTART:20221106T060000
END:STANDARD
BEGIN:DAYLIGHT
TZOFFSETFROM:-0500
TZOFFSETTO:-0400
TZNAME:EDT
DTSTART:20230312T070000
END:DAYLIGHT
BEGIN:STANDARD
TZOFFSETFROM:-0400
TZOFFSETTO:-0500
TZNAME:EST
DTSTART:20231105T060000
END:STANDARD
END:VTIMEZONE
BEGIN:VEVENT
DTSTART;TZID=America/Toronto:20220813T190000
DTEND;TZID=America/Toronto:20220813T190000
DTSTAMP:20231016T104020
CREATED:20220807T215406Z
LAST-MODIFIED:20220808T182300Z
UID:10006944-1660417200-1660417200@journalmetro.com
SUMMARY:Parcours Gouin - nuitée sur les berges
DESCRIPTION:Initiez-vous à une nuitée de camping urbaine lors d’une soirée remplie d’activités spéciales! Au programme : feu de camp\, activités et plus encore! Les activités se donneront de 19h à 21h\, et seront suivis d’une nuitée de camping. \n\n\n\nÀ SAVOIR \n\n\n\nInscriptions obligatoires. Ouverture des inscriptions à partir du 24 juin. \n\n\n\nComprend votre tente et les tapis de sol. \n\n\n\nReprise le 10 septembre en cas de pluie. \n\n\n\nMerci à Sport et Loisir de l’Île de Montréal\, au Ministère de l’Éducation et de l’Enseignement supérieur\, à la Ville de Montréal ainsi qu’à l’arrondissement d’Ahuntsic-Cartierville pour leur soutien financier. 
URL:https://journalmetro.com/evenement/parcours-gouin-nuitee-sur-les-berges/
LOCATION:Parc de Beauséjour\, 6995 boulevard Gouin Ouest\, Montréal\, QC\, H4K1B5\, Canada
CATEGORIES:Communautaire
ATTACH;FMTTYPE=image/jpeg:https://journalmetro.com/wp-content/uploads/2022/08/camping-2.jpg
END:VEVENT
BEGIN:VEVENT
DTSTART;TZID=America/Toronto:20220820T203000
DTEND;TZID=America/Toronto:20220820T223000
DTSTAMP:20231016T104020
CREATED:20220803T182258Z
LAST-MODIFIED:20220805T210228Z
UID:10006737-1661027400-1661034600@journalmetro.com
SUMMARY:Cinéma d'animation familial en plein air - Les méchants
DESCRIPTION:Au programme : Les méchants de DreamWorks Animation \n\n\n\nSYNOPSIS \n\n\n\nPatrick et Sebastien passent la pire journée de leur vie. En quelques heures\, ils deviennent les méchants les plus recherchés de France. La raison ? Une fake news montée de toutes pièces par Virginie Arioule\, présentatrice d’une chaine de débat prête à tout pour faire de l’audience\, quitte à pactiser avec des trafiquants de clics. \n\n\n\nEn cas de pluie\, la projection est annulée. \n\n\n\nEn partenariat avec GUEPE. \n\n\n\nSources:  \n\n\n\nmontreal.ca  \n\n\n\nsynopsis d’allo-ciné \n\n\n\nDates et horaires sont sujets à changement sans préavis. Avant de vous déplacer\, vérifier ces informations sur montreal.ca
URL:https://journalmetro.com/evenement/cinema-danimation-familial-en-plein-air-les-mechants/
LOCATION:Parc de Beauséjour\, 6995 boulevard Gouin Ouest\, Montréal\, QC\, H4K1B5\, Canada
CATEGORIES:Communautaire
ATTACH;FMTTYPE=image/jpeg:https://journalmetro.com/wp-content/uploads/2022/08/les-mechants-2.jpg
END:VEVENT
BEGIN:VEVENT
DTSTART;TZID=America/Toronto:20220905T100000
DTEND;TZID=America/Toronto:20220905T150000
DTSTAMP:20231016T104020
CREATED:20220808T184118Z
LAST-MODIFIED:20220814T092326Z
UID:10006953-1662372000-1662390000@journalmetro.com
SUMMARY:Beauséjour : Pêche en herbe
DESCRIPTION:Pour enfants et pour ados. Gratuit.  \n\n\n\nInitiez vos jeunes aventuriers à la pêche sportive. Au cours de cette formation\, un permis de pêche sera remis aux participants de 8 à 15 ans seulement. De 10h à midi\, puis de 13h à 15h.
URL:https://journalmetro.com/evenement/beausejour-peche-en-herbe/
LOCATION:Parc de Beauséjour\, 6995 boulevard Gouin Ouest\, Montréal\, QC\, H4K1B5\, Canada
CATEGORIES:Communautaire
ATTACH;FMTTYPE=image/jpeg:https://journalmetro.com/wp-content/uploads/2022/08/vignette-enviro-peche-en-herbe-2.jpg
END:VEVENT
BEGIN:VEVENT
DTSTART;TZID=America/Toronto:20220911T073000
DTEND;TZID=America/Toronto:20220911T093000
DTSTAMP:20231016T104020
CREATED:20220808T184809Z
LAST-MODIFIED:20220808T184811Z
UID:10006954-1662881400-1662888600@journalmetro.com
SUMMARY:Beauséjour : Kayak au lever du soleil (12 ans et plus)
DESCRIPTION:Pagayez sous les premiers rayons du soleil et vivez un réveil parmi les différentes espèces peuplant les berges. Un naturaliste GUEPE sera présent afin de vous orienter et de vous faire découvrir la faune et la flore locale. Cette activité est accessible aux débutants\, mais il est conseillé d’avoir déjà fait du kayak avant de s’y inscrire. \n\n\n\nRÉSERVATION ET PAIEMENT \n\n\n\nPaiement crédit en ligne uniquement; \n\n\n\nRéservation en ligne via Reservotron entre 14 et 0 jours avant la location.
URL:https://journalmetro.com/evenement/beausejour-kayak-au-lever-du-soleil-12-ans-et-plus/
LOCATION:Parc de Beauséjour\, 6995 boulevard Gouin Ouest\, Montréal\, QC\, H4K1B5\, Canada
ATTACH;FMTTYPE=image/jpeg:https://journalmetro.com/wp-content/uploads/2022/08/kayak-au-lever-du-soleil-2.jpg
END:VEVENT
BEGIN:VEVENT
DTSTART;TZID=America/Toronto:20230818T190000
DTEND;TZID=America/Toronto:20230818T200000
DTSTAMP:20231016T104020
CREATED:20230628T202025Z
LAST-MODIFIED:20230628T202027Z
UID:10018479-1692385200-1692388800@journalmetro.com
SUMMARY:Frétillant et agile - Jocelyn Sioui
DESCRIPTION:Avec Frétillant et agile\, Jocelyn Sioui redonne vie à Auhaïtsic\, un improbable héros wendat disparu en 1625\, qui a donné son nom au quartier. \n\n\n\nComment Auhaïtsic\, cet illustre inconnu qui inspire la méfiance parmi les siens\, parvient-il à sauver sa nation de l’extinction et à changer le cours de l’histoire? \n\n\n\nMarionnettiste aguerri et fabuleux conteur\, Jocelyn Sioui s’amuse à sortir de l’ombre des personnages colorés\, plus grands que nature. Auteur de Mononk Jules\, qu’il a adapté pour la scène\, Sioui sait qu’il faut se méfier de l’eau qui dort. \n\n\n\nPrésenté dans le cadre de l’appel à projets La culture sous toutes ses formes pour animer les espaces publics d’Ahuntsic-Cartierville. \n\n\n\nEn cas de pluie\, l’événement sera annulé. \n\n\n\nSource: montreal.ca \n\n\n\nDates et horaires sont sujets à changement sans préavis. Avant de vous déplacer\, vérifier ces informations sur montreal.ca
URL:https://journalmetro.com/evenement/fretillant-et-agile-jocelyn-sioui-4/
LOCATION:Parc de Beauséjour\, 6995 boulevard Gouin Ouest\, Montréal\, QC\, H4K1B5\, Canada
CATEGORIES:Communautaire
ATTACH;FMTTYPE=image/jpeg:https://journalmetro.com/wp-content/uploads/2023/06/fretillant-et-agile-2.jpg
END:VEVENT
END:VCALENDAR