BEGIN:VCALENDAR
VERSION:2.0
PRODID:-//Journal Métro - ECPv6.0.13//NONSGML v1.0//EN
CALSCALE:GREGORIAN
METHOD:PUBLISH
X-WR-CALNAME:Journal Métro
X-ORIGINAL-URL:https://journalmetro.com
X-WR-CALDESC:évènements pour Journal Métro
REFRESH-INTERVAL;VALUE=DURATION:PT1H
X-Robots-Tag:noindex
X-PUBLISHED-TTL:PT1H
BEGIN:VTIMEZONE
TZID:America/Toronto
BEGIN:DAYLIGHT
TZOFFSETFROM:-0500
TZOFFSETTO:-0400
TZNAME:EDT
DTSTART:20230312T070000
END:DAYLIGHT
BEGIN:STANDARD
TZOFFSETFROM:-0400
TZOFFSETTO:-0500
TZNAME:EST
DTSTART:20231105T060000
END:STANDARD
END:VTIMEZONE
BEGIN:VEVENT
DTSTART;TZID=America/Toronto:20230715T203000
DTEND;TZID=America/Toronto:20230715T223000
DTSTAMP:20231016T141446
CREATED:20230704T141644Z
LAST-MODIFIED:20230704T141645Z
UID:10018605-1689453000-1689460200@journalmetro.com
SUMMARY:Cinéma en Plein Air au parc de la Savane - 15 juillet
DESCRIPTION:Venez visionner un film en plein air sur écran géant\, près du terrain de baseball du parc. Apportez couverture\, chaise et pique-nique pour une expérience encore plus captivante. La projection commencera à la tombée du jour. \n\n\n\nTitre du film : Katak\, le brave petit béluga\n\n\n\nAlors que ses amis sont tous rendus blancs\, Katak\, le jeune béluga\, est petit et gris. Pour prouver sa maturité\, il compte exaucer le dernier souhait de sa mamie souffrante : retrouver son premier amour dans le nord\, à la Grande Banquise. \n\n\n\nGratuit et sans inscription! \n\n\n\nNous vous recommandons d’arriver à l’avance pour être prêt et confortable lorsque la projection débutera. \n\n\n\nSource: montreal.ca \n\n\n\nDates et horaires sont sujets à changement sans préavis. Avant de vous déplacer\, vérifier ces informations sur montreal.ca
URL:https://journalmetro.com/evenement/cinema-en-plein-air-au-parc-de-la-savane-15-juillet/
LOCATION:Parc de la Savane\, 5111 rue Paré\, Montréal\, QC\, Canada
CATEGORIES:Communautaire
ATTACH;FMTTYPE=image/jpeg:https://journalmetro.com/wp-content/uploads/2023/06/cinema-en-plein-air-cdn-2.jpg
END:VEVENT
END:VCALENDAR