BEGIN:VCALENDAR
VERSION:2.0
PRODID:-//Journal Métro - ECPv6.0.13//NONSGML v1.0//EN
CALSCALE:GREGORIAN
METHOD:PUBLISH
X-WR-CALNAME:Journal Métro
X-ORIGINAL-URL:https://journalmetro.com
X-WR-CALDESC:évènements pour Journal Métro
REFRESH-INTERVAL;VALUE=DURATION:PT1H
X-Robots-Tag:noindex
X-PUBLISHED-TTL:PT1H
BEGIN:VTIMEZONE
TZID:America/Toronto
BEGIN:DAYLIGHT
TZOFFSETFROM:-0500
TZOFFSETTO:-0400
TZNAME:EDT
DTSTART:20220313T070000
END:DAYLIGHT
BEGIN:STANDARD
TZOFFSETFROM:-0400
TZOFFSETTO:-0500
TZNAME:EST
DTSTART:20221106T060000
END:STANDARD
END:VTIMEZONE
BEGIN:VEVENT
DTSTART;TZID=America/Toronto:20220820T090000
DTEND;TZID=America/Toronto:20220820T120000
DTSTAMP:20231016T191505
CREATED:20220818T133619Z
LAST-MODIFIED:20230328T155308Z
UID:10007136-1660986000-1660996800@journalmetro.com
SUMMARY:Initiez-vous au pickleball
DESCRIPTION:Connaissez-vous le pickleball? Ce sport\, qui est une variante du tennis\, gagne en popularité partout en Amérique du Nord. Voici l’occasion de l’essayer gratuitement ! \n\n\n\nAnjou organise une journée d’initiation au pickleball au parc de Peterborough. Le matériel sera fourni sur place.  \n\n\n\nRéservation requise.  \n\n\n\nEn cas de pluie\, l’activité sera déplacée au lendemain\, soit au dimanche 21 août.  \n\n\n\nFaites vite\, les places sont limitées! \n\n\n\nPour réserver \n\n\n\n514 493-8222
URL:https://journalmetro.com/evenement/initiez-vous-au-pickleball/
LOCATION:Parc de Peterborough\, 8400 boulevard de Châteauneuf\, Montréal\, QC\, Canada
ATTACH;FMTTYPE=image/jpeg:https://journalmetro.com/wp-content/uploads/2022/08/pickleball-2.jpg
END:VEVENT
END:VCALENDAR