BEGIN:VCALENDAR
VERSION:2.0
PRODID:-//Journal Métro - ECPv6.0.13//NONSGML v1.0//EN
CALSCALE:GREGORIAN
METHOD:PUBLISH
X-WR-CALNAME:Journal Métro
X-ORIGINAL-URL:https://journalmetro.com
X-WR-CALDESC:évènements pour Journal Métro
REFRESH-INTERVAL;VALUE=DURATION:PT1H
X-Robots-Tag:noindex
X-PUBLISHED-TTL:PT1H
BEGIN:VTIMEZONE
TZID:America/Toronto
BEGIN:DAYLIGHT
TZOFFSETFROM:-0500
TZOFFSETTO:-0400
TZNAME:EDT
DTSTART:20220313T070000
END:DAYLIGHT
BEGIN:STANDARD
TZOFFSETFROM:-0400
TZOFFSETTO:-0500
TZNAME:EST
DTSTART:20221106T060000
END:STANDARD
BEGIN:DAYLIGHT
TZOFFSETFROM:-0500
TZOFFSETTO:-0400
TZNAME:EDT
DTSTART:20230312T070000
END:DAYLIGHT
BEGIN:STANDARD
TZOFFSETFROM:-0400
TZOFFSETTO:-0500
TZNAME:EST
DTSTART:20231105T060000
END:STANDARD
END:VTIMEZONE
BEGIN:VEVENT
DTSTART;TZID=America/Toronto:20220704T190000
DTEND;TZID=America/Toronto:20220704T190000
DTSTAMP:20231016T093612
CREATED:20220617T153855Z
LAST-MODIFIED:20220617T194534Z
UID:10006752-1656961200-1656961200@journalmetro.com
SUMMARY:Séance du conseil d'Ahuntsic-Cartierville de juillet 2022￼
DESCRIPTION:Assistez au conseil d’arrondissement qui se tiendra le lundi 4 juillet 2022\, dès 19 h\, au parc des Hirondelles. Si le contexte sanitaire ne le permet pas\, la séance se tiendra en webdiffusion. \n\n\n\nDescription\n\n\n\nLes mesures sanitaires en vigueur au moment de la séance seront appliquées. Aussi\, prière de noter que la capacité d’accueil de la salle sera réduite en raison de la distanciation physique exigée. Par conséquent\, l’accès sera accordé selon l’ordre d’arrivée\, et ce\, jusqu’à l’atteinte de la capacité maximale. \n\n\n\nCette séance du conseil d’arrondissement sera aussi accessible en webdiffusion et en différé.  \n\n\n\nVisionnez la séance en directVisionnez les séances antérieures sur notre chaîne YouTubeConsultez les ordres du jour\, les procès-verbaux et les documents officiels de ces séances \n\n\n\nPour poser une question\n\n\n\nLes personnes qui souhaitent poser une question aux membres du conseil d’arrondissement en présentiel pourront s’inscrire à la période de questions du public sur place\, le jour même\, entre 18 h 15 et 18 h 45\, avant la séance du conseil d’arrondissement qui débutera à 19 h. \n\n\n\nIl est également toujours possible d’inscrire une question à distance par le biais du formulaire en ligne\, et ce\, avant 9 h\, le matin du 4 juillet 2022. Toute question reçue après cette date ne sera pas répondue. \n\n\n\nDans un souci d’équité et d’efficacité\, nous vous demandons également de limiter le texte de votre question à 1000 caractères. \n\n\n\nVotre question sera lue à voix haute lors du conseil d’arrondissement. Elle sera ignorée si elle contient des propos diffamatoires ou si elle ne respecte pas le décorum. \n\n\n\nVotre participation à d’autres assemblées publiques\n\n\n\nVous êtes également invités à participer à toute assemblée publique de consultation en matière d’urbanisme\, au cours de laquelle vous pouvez commenter le projet de règlement à l’étude. Vous êtes informés de la tenue de ces séances par la publication d’avis publics. \n\n\n\nEn ligneYouTube : Regarder \n\n\n\nDates et horaires sont sujets à changement sans préavis. Avant de vous déplacer\, vérifier ces informations sur montreal.ca \n\n\n\nSource: montreal.ca
URL:https://journalmetro.com/evenement/seance-du-conseil-dahuntsic-cartierville-de-juillet-2022%ef%bf%bc/
LOCATION:Parc des Hirondelles\, 2601\, rue Sauvé Est\, Montréal\, QC\, H2B 1L5\, Canada
END:VEVENT
BEGIN:VEVENT
DTSTART;TZID=America/Toronto:20230622T150000
DTEND;TZID=America/Toronto:20230622T153000
DTSTAMP:20231016T093612
CREATED:20230622T161618Z
LAST-MODIFIED:20230622T161620Z
UID:10018310-1687446000-1687447800@journalmetro.com
SUMMARY:La crinoline aux chapeaux - Marguerite à bicyclette
DESCRIPTION:Inspiré du Théâtre de l’absurde et accompagné de musique live\, ce spectacle de cirque tout public n’est qu’une magnifique exhibition de non-sens\, empreinte d’une évidente pureté. \n\n\n\nDeux personnages aux archétypes de la bourgeoisie sont installés dans un monde dont eux-seuls détiennent les codes de conduite. Ces automates vivent une vérité incompréhensive\, répétitive et désordonnée à travers leurs corps\, leurs chapeaux et leur planche sautoir acrobatique… \n\n\n\nProduit par Marguerite à bicyclette\, écoresponsable et éco-conçu\, La crinoline aux chapeaux se déplace entièrement à vélo! \n\n\n\nInterprètes : Frédéric Lemieux-Cormier\, Némo Venba et Pauline Baud. \n\n\n\nPrésenté dans le cadre de l’appel à projets La culture sous toutes ses formes pour animer les espaces publics d’Ahuntsic-Cartierville. \n\n\n\nEn cas de pluie\, l’événement sera annulé. \n\n\n\nSource: montreal.ca \n\n\n\nDates et horaires sont sujets à changement sans préavis. Avant de vous déplacer\, vérifier ces informations sur montreal.ca \n\n\n\nDeux interprètes de La crinoline aux chapeaux
URL:https://journalmetro.com/evenement/la-crinoline-aux-chapeaux-marguerite-a-bicyclette-9/
LOCATION:Parc des Hirondelles\, 2601\, rue Sauvé Est\, Montréal\, QC\, H2B 1L5\, Canada
CATEGORIES:Communautaire
ATTACH;FMTTYPE=image/jpeg:https://journalmetro.com/wp-content/uploads/2023/05/crinoline-aux-chapeaux-2.jpg
END:VEVENT
BEGIN:VEVENT
DTSTART;TZID=America/Toronto:20230802T090000
DTEND;TZID=America/Toronto:20230802T100000
DTSTAMP:20231016T093613
CREATED:20230728T195510Z
LAST-MODIFIED:20230728T195512Z
UID:10019261-1690966800-1690970400@journalmetro.com
SUMMARY:Activités physiques dans les parcs (50 ans+)
DESCRIPTION:Vous êtes âgé(e)s de 50 ans ou plus? C’est un rendez-vous au parc pour des activités physiques dirigées. \n\n\n\nPortez des vêtements confortables et apportez votre bouteille d’eau. \n\n\n\nVenez participer à une période d’activités physiques diverses adaptés à la clientèle aînées (ex: Soccer marché\, kinball\, étirements\, etc.) \n\n\n\nL’activité se tiendra près du chalet de parc  \n\n\n\n*En cas de pluie\, l’activité aura lieu à l’intérieur du chalet de parc des Hirondelles \n\n\n\n*Activité sujet à changement sans préavis* \n\n\n\nSource: montreal.ca \n\n\n\nDates et horaires sont sujets à changement sans préavis. Avant de vous déplacer\, vérifier ces informations sur montreal.ca
URL:https://journalmetro.com/evenement/activites-physiques-dans-les-parcs-50-ans-4/
LOCATION:Parc des Hirondelles\, 2601\, rue Sauvé Est\, Montréal\, QC\, H2B 1L5\, Canada
ATTACH;FMTTYPE=image/jpeg:https://journalmetro.com/wp-content/uploads/2023/07/activites-physiques-parc-lalemant-2.jpg
END:VEVENT
BEGIN:VEVENT
DTSTART;TZID=America/Toronto:20230809T090000
DTEND;TZID=America/Toronto:20230809T100000
DTSTAMP:20231016T093613
CREATED:20230803T182458Z
LAST-MODIFIED:20230803T182500Z
UID:10019377-1691571600-1691575200@journalmetro.com
SUMMARY:Activités physiques dans les parcs (50 ans+)
DESCRIPTION:Vous êtes âgé(e)s de 50 ans ou plus? C’est un rendez-vous au parc pour des activités physiques dirigées. \n\n\n\nPortez des vêtements confortables et apportez votre bouteille d’eau. \n\n\n\nVenez participer à une période d’activités physiques diverses adaptés à la clientèle aînées (ex: Soccer marché\, kinball\, étirements\, etc.) \n\n\n\nL’activité se tiendra près du chalet de parc  \n\n\n\n*En cas de pluie\, l’activité aura lieu à l’intérieur du chalet de parc des Hirondelles \n\n\n\n*Activité sujet à changement sans préavis. \n\n\n\nSource: montreal.ca \n\n\n\nDates et horaires sont sujets à changement sans préavis. Avant de vous déplacer\, vérifier ces informations sur montreal.ca
URL:https://journalmetro.com/evenement/activites-physiques-dans-les-parcs-50-ans-12/
LOCATION:Parc des Hirondelles\, 2601\, rue Sauvé Est\, Montréal\, QC\, H2B 1L5\, Canada
ATTACH;FMTTYPE=image/jpeg:https://journalmetro.com/wp-content/uploads/2023/07/activites-physiques-parc-lalemant-2.jpg
END:VEVENT
BEGIN:VEVENT
DTSTART;TZID=America/Toronto:20230824T190000
DTEND;TZID=America/Toronto:20230824T194500
DTSTAMP:20231016T093613
CREATED:20230629T141306Z
LAST-MODIFIED:20230629T141307Z
UID:10018489-1692903600-1692906300@journalmetro.com
SUMMARY:Avant de devenir un arbre - La fille du laitier
DESCRIPTION:Avant de devenir un arbre est une pièce solo de 45 minutes\, où l’on découvre le parcours fabulé d’une artiste en devenir. \n\n\n\nMondialement connue grâce à ses dessins de bonhommes allumettes à lunettes\, ADA fera la rencontre d’un pépin qui lui fera tranquillement perdre l’usage de ses précieuses mains et chamboulera ses plans de carrière. Dans un espace qui pourrait être un atelier ou encore une chambre d’hôpital\, on suivra le personnage de l’annonce de son diagnostic jusqu’à l’étape de l’acceptation. \n\n\n\nAvant de devenir un arbre célèbre la résilience de l’enfance avec humour et poésie aux travers de tableaux ludiques alliant théâtre d’images\, théâtre physique et marionnettes. \n\n\n\nCréation et interprétation : Marie-Hélène Bélanger Dumas \n\n\n\nDirection de production et assistance à la mise en scène : Laurence Régnier \n\n\n\nConseil artistique : Jérémie Desbiens \n\n\n\nConception des décors : Cédric Lord \n\n\n\nConception des marionnettes et accessoires : Elisabeth Coulon-Lafleur \n\n\n\nConception sonore : Stéfan Boucher \n\n\n\nDirection technique : Jean-Marie Gardien \n\n\n\nConception des costumes : Olga Abeleva \n\n\n\nJeune public \n\n\n\nDurée : 45 minutes \n\n\n\nLe spectacle sera présenté dans la zone près du coin Sauvé et Larose (coin sud-est).  \n\n\n\nPrésenté dans le cadre de l’appel à projets La culture sous toutes ses formes pour animer les espaces publics d’Ahuntsic-Cartierville. \n\n\n\nEn cas de pluie\, l’événement sera annulé. \n\n\n\nSource: montreal.ca \n\n\n\nDates et horaires sont sujets à changement sans préavis. Avant de vous déplacer\, vérifier ces informations sur montreal.ca
URL:https://journalmetro.com/evenement/avant-de-devenir-un-arbre-la-fille-du-laitier-3/
LOCATION:Parc des Hirondelles\, 2601\, rue Sauvé Est\, Montréal\, QC\, H2B 1L5\, Canada
CATEGORIES:Communautaire
ATTACH;FMTTYPE=image/jpeg:https://journalmetro.com/wp-content/uploads/2023/06/avant-de-devenir-un-arbre-2.jpg
END:VEVENT
END:VCALENDAR