BEGIN:VCALENDAR
VERSION:2.0
PRODID:-//Journal Métro - ECPv6.0.13//NONSGML v1.0//EN
CALSCALE:GREGORIAN
METHOD:PUBLISH
X-WR-CALNAME:Journal Métro
X-ORIGINAL-URL:https://journalmetro.com
X-WR-CALDESC:évènements pour Journal Métro
REFRESH-INTERVAL;VALUE=DURATION:PT1H
X-Robots-Tag:noindex
X-PUBLISHED-TTL:PT1H
BEGIN:VTIMEZONE
TZID:America/Toronto
BEGIN:DAYLIGHT
TZOFFSETFROM:-0500
TZOFFSETTO:-0400
TZNAME:EDT
DTSTART:20230312T070000
END:DAYLIGHT
BEGIN:STANDARD
TZOFFSETFROM:-0400
TZOFFSETTO:-0500
TZNAME:EST
DTSTART:20231105T060000
END:STANDARD
END:VTIMEZONE
BEGIN:VEVENT
DTSTART;TZID=America/Toronto:20230819T130000
DTEND;TZID=America/Toronto:20230819T160000
DTSTAMP:20231017T112325
CREATED:20230630T164308Z
LAST-MODIFIED:20230630T164310Z
UID:10018506-1692450000-1692460800@journalmetro.com
SUMMARY:Capturé par des livres
DESCRIPTION:Jeu d’évasion en plein air \n\n\n\nSaurez-vous résoudre les énigmes dans le 20 minutes allouées pour libérer le personnage coincé dans différentes histoires? Pour les 6 à 12 ans avec un parent. \n\n\n\nSource: montreal.ca \n\n\n\nDates et horaires sont sujets à changement sans préavis. Avant de vous déplacer\, vérifier ces informations sur montreal.ca
URL:https://journalmetro.com/evenement/capture-par-des-livres/
LOCATION:Parc Félix Leclerc – LaSalle\, 1080 avenue Dollard\, Montréal\, QC\, Canada
ATTACH;FMTTYPE=image/jpeg:https://journalmetro.com/wp-content/uploads/2023/06/Enfant-lecture_iStock-1397843796_1200x600.jpg
END:VEVENT
END:VCALENDAR