BEGIN:VCALENDAR
VERSION:2.0
PRODID:-//Journal Métro - ECPv6.0.13//NONSGML v1.0//EN
CALSCALE:GREGORIAN
METHOD:PUBLISH
X-WR-CALNAME:Journal Métro
X-ORIGINAL-URL:https://journalmetro.com
X-WR-CALDESC:évènements pour Journal Métro
REFRESH-INTERVAL;VALUE=DURATION:PT1H
X-Robots-Tag:noindex
X-PUBLISHED-TTL:PT1H
BEGIN:VTIMEZONE
TZID:America/Toronto
BEGIN:DAYLIGHT
TZOFFSETFROM:-0500
TZOFFSETTO:-0400
TZNAME:EDT
DTSTART:20230312T070000
END:DAYLIGHT
BEGIN:STANDARD
TZOFFSETFROM:-0400
TZOFFSETTO:-0500
TZNAME:EST
DTSTART:20231105T060000
END:STANDARD
END:VTIMEZONE
BEGIN:VEVENT
DTSTART;TZID=America/Toronto:20230624T120000
DTEND;TZID=America/Toronto:20230624T220000
DTSTAMP:20231016T142134
CREATED:20230525T195033Z
LAST-MODIFIED:20230525T195035Z
UID:10017711-1687608000-1687644000@journalmetro.com
SUMMARY:Fête de la famille de Rivière-des-Prairies
DESCRIPTION:C’est le grand retour\, le samedi 24 juin\, de la Fête de la famille de RDP au parc Ferdinand-Biondi! \n\n\n\nLes organismes du quartier de Rivière-des-Prairies et partenaires vous ont concocté une belle programmation en ce jour de fête nationale! \n\n\n\nDe 12 h à 17 h\, plusieurs activités gratuites sont à l’horaire\, beau temps\, mauvais temps : \n\n\n\n\nTyrolienne\n\n\n\nBricolage\n\n\n\nPersonnages mythiques\n\n\n\nJeux de foire\n\n\n\nSautoirs \n\n\n\nPrestations culturelles\n\n\n\nPrestations sportives\n\n\n\nDivertissements divers\n\n\n\nJeux gonflables\n\n\n\nZone Petite Enfance de l’Initiative 1\, 2\, 3 Go! RDP\n\n\n\nKiosque restauration ($) du Club optimiste \n\n\n\n\nCette année\, la fête se prolonge en soirée! De 17 h à 22 h\, profitez d’animations de scène en musique et en chanson avec Joseph Boonen et ses invités! \n\n\n\nSource: montreal.ca \n\n\n\nDates et horaires sont sujets à changement sans préavis. Avant de vous déplacer\, vérifier ces informations sur montreal.ca
URL:https://journalmetro.com/evenement/fete-de-la-famille-de-riviere-des-prairies/
LOCATION:Parc Ferdinand-Biondi\, 7748 rue Albert-Laberge\, Montréal\, QC\, Canada
ATTACH;FMTTYPE=image/jpeg:https://journalmetro.com/wp-content/uploads/2023/05/fete-famille-rdp_1200x600.jpg
END:VEVENT
END:VCALENDAR