BEGIN:VCALENDAR
VERSION:2.0
PRODID:-//Journal Métro - ECPv6.0.13//NONSGML v1.0//EN
CALSCALE:GREGORIAN
METHOD:PUBLISH
X-WR-CALNAME:Journal Métro
X-ORIGINAL-URL:https://journalmetro.com
X-WR-CALDESC:évènements pour Journal Métro
REFRESH-INTERVAL;VALUE=DURATION:PT1H
X-Robots-Tag:noindex
X-PUBLISHED-TTL:PT1H
BEGIN:VTIMEZONE
TZID:America/Toronto
BEGIN:DAYLIGHT
TZOFFSETFROM:-0500
TZOFFSETTO:-0400
TZNAME:EDT
DTSTART:20230312T070000
END:DAYLIGHT
BEGIN:STANDARD
TZOFFSETFROM:-0400
TZOFFSETTO:-0500
TZNAME:EST
DTSTART:20231105T060000
END:STANDARD
END:VTIMEZONE
BEGIN:VEVENT
DTSTART;TZID=America/Toronto:20230801T130000
DTEND;TZID=America/Toronto:20230801T140000
DTSTAMP:20231016T161607
CREATED:20230728T170653Z
LAST-MODIFIED:20230728T170655Z
UID:10019250-1690894800-1690898400@journalmetro.com
SUMMARY:Activités physiques dans les parcs (50 ans+)
DESCRIPTION:Vous êtes âgé(e)s de 50 ans ou plus? C’est un rendez-vous au parc pour des activités physiques dirigées. \n\n\n\nPortez des vêtements confortables et apportez votre bouteille d’eau. \n\n\n\nVenez participer à une période d’activités physiques diverses adaptés à la clientèle aînées (ex: Soccer marché\, kinball\, étirements\, etc.) \n\n\n\nL’activité se tiendra près du chalet de parc  \n\n\n\n*En cas de pluie\, l’activité sera annulée* \n\n\n\n*Activité sujet à changement sans préavis* \n\n\n\nSource: montreal.ca \n\n\n\nDates et horaires sont sujets à changement sans préavis. Avant de vous déplacer\, vérifier ces informations sur montreal.ca
URL:https://journalmetro.com/evenement/activites-physiques-dans-les-parcs-50-ans-3/
LOCATION:Parc Gabriel-Lalemant\, 2244 rue Sauvé Est\, Montréal\, QC\, Canada
ATTACH;FMTTYPE=image/jpeg:https://journalmetro.com/wp-content/uploads/2023/07/activites-physiques-parc-lalemant-2.jpg
END:VEVENT
BEGIN:VEVENT
DTSTART;TZID=America/Toronto:20230803T140000
DTEND;TZID=America/Toronto:20230803T150000
DTSTAMP:20231016T161607
CREATED:20230731T200502Z
LAST-MODIFIED:20230731T200504Z
UID:10019274-1691071200-1691074800@journalmetro.com
SUMMARY:Activités physiques dans les parcs (50 ans+)
DESCRIPTION:*En raison de la qualité de l’air\, l’activité prévue est annulée* \n\n\n\nVous êtes âgé(e)s de 50 ans ou plus? C’est un rendez-vous au parc pour des activités physiques dirigées. \n\n\n\nPortez des vêtements confortables et apportez votre bouteille d’eau \n\n\n\nVenez vous dégourdir les jambes en participant à une activité de danse en ligne!  \n\n\n\nL’activité aura lieu près du chalet de parc \n\n\n\n*En cas de pluie\, l’activité aura lieu à l’intérieur du chalet Gabriel-Lalemant \n\n\n\n*Activité sujet à changement sans préavis* \n\n\n\nSource: montreal.ca \n\n\n\nDates et horaires sont sujets à changement sans préavis. Avant de vous déplacer\, vérifier ces informations sur montreal.ca
URL:https://journalmetro.com/evenement/activites-physiques-dans-les-parcs-50-ans-7/
LOCATION:Parc Gabriel-Lalemant\, 2244 rue Sauvé Est\, Montréal\, QC\, Canada
ATTACH;FMTTYPE=image/jpeg:https://journalmetro.com/wp-content/uploads/2023/07/activites-physiques-lalemant-2.jpg
END:VEVENT
BEGIN:VEVENT
DTSTART;TZID=America/Toronto:20230808T130000
DTEND;TZID=America/Toronto:20230808T140000
DTSTAMP:20231016T161607
CREATED:20230803T172754Z
LAST-MODIFIED:20230803T172757Z
UID:10019365-1691499600-1691503200@journalmetro.com
SUMMARY:Activités physiques dans les parcs (50 ans+)
DESCRIPTION:Vous êtes âgé(e)s de 50 ans et plus? C’est un rendez-vous au parc pour des activités physiques dirigées. \n\n\n\nPortez des vêtements confortables et apportez votre bouteille d’eau \n\n\n\nVenez participer à une période d’activités physiques diverses adaptés à la clientèle aînées (ex: Soccer marché\, kinball\, étirements\, etc.) \n\n\n\nL’activité se tiendra près du chalet de parc  \n\n\n\n*En cas de pluie\, l’activité sera annulée* \n\n\n\n*Activité sujet à changement sans préavis* \n\n\n\nSource: montreal.ca \n\n\n\nDates et horaires sont sujets à changement sans préavis. Avant de vous déplacer\, vérifier ces informations sur montreal.ca
URL:https://journalmetro.com/evenement/activites-physiques-dans-les-parcs-50-ans-11/
LOCATION:Parc Gabriel-Lalemant\, 2244 rue Sauvé Est\, Montréal\, QC\, Canada
ATTACH;FMTTYPE=image/jpeg:https://journalmetro.com/wp-content/uploads/2023/07/activites-physiques-parc-lalemant-2.jpg
END:VEVENT
BEGIN:VEVENT
DTSTART;TZID=America/Toronto:20230810T140000
DTEND;TZID=America/Toronto:20230810T150000
DTSTAMP:20231016T161607
CREATED:20230804T144221Z
LAST-MODIFIED:20230804T144223Z
UID:10019404-1691676000-1691679600@journalmetro.com
SUMMARY:Activités physiques dans les parcs (50 ans+)
DESCRIPTION:*En raison de la qualité de l’air\, l’activité prévue est annulée* \n\n\n\nVous êtes âgé(e)s de 50 ans ou plus? C’est un rendez-vous au parc pour des activités physiques dirigées. \n\n\n\nPortez des vêtements confortables et apportez votre bouteille d’eau \n\n\n\nVenez vous dégourdir les jambes en participant à une activité de danse en ligne!  \n\n\n\nL’activité aura lieu près du chalet de parc \n\n\n\n*En cas de pluie\, l’activité aura lieu à l’intérieur du chalet Gabriel-Lalemant \n\n\n\n*Activité sujet à changement sans préavis* \n\n\n\nSource: montreal.ca \n\n\n\nDates et horaires sont sujets à changement sans préavis. Avant de vous déplacer\, vérifier ces informations sur montreal.ca
URL:https://journalmetro.com/evenement/activites-physiques-dans-les-parcs-50-ans-14/
LOCATION:Parc Gabriel-Lalemant\, 2244 rue Sauvé Est\, Montréal\, QC\, Canada
ATTACH;FMTTYPE=image/jpeg:https://journalmetro.com/wp-content/uploads/2023/06/activites-physiques-50-2.jpg
END:VEVENT
END:VCALENDAR